Workbook
Name Z_A6AA0E88_0E45_4814_B902_F1105CB400F0_.wvu.Cols: Bilanz_pro_h_pro_m²!$S:$S
Name Z_A6AA0E88_0E45_4814_B902_F1105CB400F0_.wvu.Cols: Planungsübersicht!$A:$A
Name Z_A6AA0E88_0E45_4814_B902_F1105CB400F0_.wvu.FilterData: 'Chronologische Liste'!$B$5:$H$95
Name Z_A6AA0E88_0E45_4814_B902_F1105CB400F0_.wvu.PrintArea: 'CO2-Schulbilanz'!$B$2:$R$26
Name Z_A6AA0E88_0E45_4814_B902_F1105CB400F0_.wvu.PrintArea: Energieverbräuche!$B$2:$Q$22
Name Z_A6AA0E88_0E45_4814_B902_F1105CB400F0_.wvu.PrintArea: Planungsübersicht!$B$2:$K$255
Name Z_A6AA0E88_0E45_4814_B902_F1105CB400F0_.wvu.Rows: Bilanz_pro_h_pro_m²!$30:$31,Bilanz_pro_h_pro_m²!$33:$43,Bilanz_pro_h_pro_m²!$45:$47,Bilanz_pro_h_pro_m²!$49:$49
Name Z_A6AA0E88_0E45_4814_B902_F1105CB400F0_.wvu.Rows: 'CO2-Schulbilanz'!$15:$15

Sheet Planungsübersicht
H1: zukünftiger Termin | I1: umgesetzt | J1: wird laufend umgesetzt | K1: in Umsetzung (Anfang) | L1: in Umsetzung (Mitte) | M1: in Umsetzung (Ende) | N1: bisher nicht umgesetzt | O1: Umsetzung nicht möglich
D3: Planungsübersicht | E3: 2026
D4: Schule Alsterredder | F4: Stand: | G4: 46281
D6: Pädagogische Ziele:
D7: Unser pädagogisches Ziel ist der Erwerb von Handlungskompetenzen zum Thema Klimaschutz in der gesamten Schulgemeinschaft. | I7: =IF(I8="kurzfristig","Übersicht CO2-Reduktionen","") | J7: =IF(J8="kurzfristig","Übersicht CO2-Reduktionen","") | K7: =IF(K$8="kurzfristig","Übersicht CO2-Reduktionen","") | L7: =IF(L8="kurzfristig","Übersicht CO2-Reduktionen","") | M7: =IF(M8="kurzfristig","Übersicht CO2-Reduktionen","") | N7: =IF(N8="kurzfristig","Übersicht CO2-Reduktionen","") | O7: =IF(O8="kurzfristig","Übersicht CO2-Reduktionen","") -> Übersicht CO2-Reduktionen | P7: =IF(P8="kurzfristig","Übersicht CO2-Reduktionen","") | Q7: =IF(Q8="kurzfristig","Übersicht CO2-Reduktionen","") | R7: =IF(R8="kurzfristig","Übersicht CO2-Reduktionen","") | S7: =IF(S8="kurzfristig","Übersicht CO2-Reduktionen","") | ... Z7: =IF(Z8="kurzfristig","Übersicht CO2-Reduktionen","")
I8: =IF((I9-$E$3-2)<-1,"Vergangenheit",IF((I9-$E$3-2)<1,"kurzfristig",IF((I9-$E$3-2)<3,"mittelfristig","langfristig"))) -> Vergangenheit | J8: =IF((J9-$E$3-2)<-1,"Vergangenheit",IF((J9-$E$3-2)<1,"kurzfristig",IF((J9-$E$3-2)<3,"mittelfristig","langfristig"))) -> Vergangenheit | K8: =IF((K9-$E$3-2)<-2,"Vergangenheit",IF((K9-$E$3-2)<1,"kurzfristig",IF((K9-$E$3-2)<3,"mittelfristig","langfristig"))) -> Vergangenheit | L8: =IF((L9-$E$3-2)<-2,"Vergangenheit",IF((L9-$E$3-2)<1,"kurzfristig",IF((L9-$E$3-2)<3,"mittelfristig","langfristig"))) -> Vergangenheit | M8: =IF((M9-$E$3-2)<-1,"Vergangenheit",IF((M9-$E$3-2)<1,"kurzfristig",IF((M9-$E$3-2)<3,"mittelfristig","langfristig"))) -> Vergangenheit | N8: =IF((N9-$E$3-2)<-1,"Vergangenheit",IF((N9-$E$3-2)<1,"kurzfristig",IF((N9-$E$3-2)<3,"mittelfristig","langfristig"))) -> Vergangenheit | O8: =IF((O9-$E$3-2)<-1,"Vergangenheit",IF((O9-$E$3-2)<1,"kurzfristig",IF((O9-$E$3-2)<3,"mittelfristig","langfristig"))) -> kurzfristig | P8: =IF((P9-$E$3-2)<0,"Vergangenheit",IF((P9-$E$3-2)<1,"kurzfristig",IF((P9-$E$3-2)<3,"mittelfristig","langfristig"))) -> mittelfristig | Q8: =IF((Q9-$E$3-2)<0,"Vergangenheit",IF((Q9-$E$3-2)<1,"kurzfristig",IF((Q9-$E$3-2)<3,"mittelfristig","langfristig"))) -> langfristig | R8: =IF((R9-$E$3-2)<0,"Vergangenheit",IF((R9-$E$3-2)<1,"kurzfristig",IF((R9-$E$3-2)<3,"mittelfristig","langfristig"))) -> langfristig | S8: =IF((S9-$E$3-2)<0,"Vergangenheit",IF((S9-$E$3-2)<1,"kurzfristig",IF((S9-$E$3-2)<3,"mittelfristig","langfristig"))) -> langfristig | T8: =IF((T9-$E$3-2)<0,"Vergangenheit",IF((T9-$E$3-2)<1,"kurzfristig",IF((T9-$E$3-2)<3,"mittelfristig","langfristig"))) -> langfristig | U8: =IF((U9-$E$3-2)<0,"Vergangenheit",IF((U9-$E$3-2)<1,"kurzfristig",IF((U9-$E$3-2)<3,"mittelfristig","langfristig"))) -> langfristig | V8: =IF((V9-$E$3-2)<0,"Vergangenheit",IF((V9-$E$3-2)<1,"kurzfristig",IF((V9-$E$3-2)<3,"mittelfristig","langfristig"))) -> langfristig | W8: =IF((W9-$E$3-2)<0,"Vergangenheit",IF((W9-$E$3-2)<1,"kurzfristig",IF((W9-$E$3-2)<3,"mittelfristig","langfristig"))) -> langfristig | ... Z8: =IF((Z9-$E$3-2)<0,"Vergangenheit",IF((Z9-$E$3-2)<1,"kurzfristig",IF((Z9-$E$3-2)<3,"mittelfristig","langfristig"))) -> langfristig
H9: Handlungsfeld | I9: =G13 -> 2017 | J9: =I9+3 -> 2020 | K9: 2020 | L9: =ODD(K9)+1 -> 2022 | M9: =L9+2 -> 2024 | N9: =M9+2 -> 2026 | O9: =N9+2 -> 2028 | P9: =O9+2 -> 2030 | Q9: =P9+2 -> 2032 | R9: =Q9+2 -> 2034 | S9: =R9+2 -> 2036 | T9: =S9+2 -> 2038 | ... Z9: =Y9+2 -> 2050
D10: Planungsziele: | H10: übergreifend | I10: =IF(I27=0,"",I27) -> 150 | J10: =IF(J27=0,"",J27) -> 150 | K10: =IF(K27=0,"",K27) -> 3200 | L10: =IF(L27=0,"",L27) -> 12750 | M10: =IF(M27=0,"",M27) -> 12750 | N10: =IF(N27=0,"",N27) -> 12750 | O10: =IF(O27=0,"",O27) -> 12750 | P10: =IF(P27=0,"",P27) -> 12750 | ... Z10: =IF(Z27=0,"",Z27) -> 12750
D11: Wir senken unsere CO2-Emissionen bis 2030 um | G11: 0.4 | H11: Wärme | I11: =IF(I65=0,"",I65) | J11: =IF(J65=0,"",J65) | K11: =IF(K65=0,"",K65) -> 9350 | L11: =IF(L65=0,"",L65) -> 40850 | M11: =IF(M65=0,"",M65) -> 45750 | N11: =IF(N65=0,"",N65) -> 57450 | O11: =IF(O65=0,"",O65) -> 57450 | P11: =IF(P65=0,"",P65) -> 57450 | ... Z11: =IF(Z65=0,"",Z65) -> 57450
D12: Wir senken unsere CO2-Emissionen bis 2050 um | G12: 0.8 | H12: Strom | I12: =IF(I101=0,"",I101) | J12: =IF(J101=0,"",J101) | K12: =IF(K101=0,"",K101) -> 350 | L12: =IF(L101=0,"",L101) -> 4000 | M12: =IF(M101=0,"",M101) -> 5300 | N12: =IF(N101=0,"",N101) -> 5300 | O12: =IF(O101=0,"",O101) -> 5300 | P12: =IF(P101=0,"",P101) -> 5300 | ... Z12: =IF(Z101=0,"",Z101) -> 5300
D13: Das Ausgangsjahr für die Berechnung ist: | G13: =K9-3 -> 2017 | H13: Abfall | I13: =IF(I137=0,"",I137) | J13: =IF(J137=0,"",J137) | K13: =IF(K137=0,"",K137) | L13: =IF(L137=0,"",L137) | M13: =IF(M137=0,"",M137) | N13: =IF(N137=0,"",N137) | O13: =IF(O137=0,"",O137) | P13: =IF(P137=0,"",P137) | ... Z13: =IF(Z137=0,"",Z137)
D14: Ausgangslage: | H14: Beschaffung | I14: =IF(I173=0,"",I173) | J14: =IF(J173=0,"",J173) | K14: =IF(K173=0,"",K173) | L14: =IF(L173=0,"",L173) | M14: =IF(M173=0,"",M173) | N14: =IF(N173=0,"",N173) | O14: =IF(O173=0,"",O173) | P14: =IF(P173=0,"",P173) | ... Z14: =IF(Z173=0,"",Z173)
D15: CO2-Emissionen für Strom, Abfall, Ernährung, Heizenergie: | G15: ='CO2-Schulbilanz'!E8 -> 250423.47 | H15: Ernährung | I15: =IF(I209=0,"",I209) | J15: =IF(J209=0,"",J209) | K15: =IF(K209=0,"",K209) | L15: =IF(L209=0,"",L209) -> 1000 | M15: =IF(M209=0,"",M209) -> 4500 | N15: =IF(N209=0,"",N209) -> 4500 | O15: =IF(O209=0,"",O209) -> 4500 | P15: =IF(P209=0,"",P209) -> 4500 | ... Z15: =IF(Z209=0,"",Z209) -> 4500
D16: im Jahr: | G16: =G13 -> 2017 | H16: Mobilität | I16: =IF(I245=0,"",I245) | J16: =IF(J245=0,"",J245) | K16: =IF(K245=0,"",K245) | L16: =IF(L245=0,"",L245) | M16: =IF(M245=0,"",M245) | N16: =IF(N245=0,"",N245) | O16: =IF(O245=0,"",O245) | P16: =IF(P245=0,"",P245) | ... Z16: =IF(Z245=0,"",Z245)
D17: Planungsübersicht | H17: Prognose nach Planung | I17: =-SUM(I10:I16) -> -150 | J17: =-SUM(J10:J16) -> -150 | K17: =-SUM(K10:K16) -> -12900 | L17: =-SUM(L10:L16) -> -58600 | M17: =-SUM(M10:M16) -> -68300 | N17: =-SUM(N10:N16) -> -80000 | O17: =-SUM(O10:O16) -> -80000 | P17: =-SUM(P10:P16) -> -80000 | ... Z17: =-SUM(Z10:Z16) -> -80000
D18: In der nachfolgenden Übersicht werden für jedes Handlungsfeld die geplanten Maßnahmen mit den jeweiligen Zeitrahmen und Verantwortlichkeiten aufgeführt. | I18: =I17/$G$15 -> -0.00059898538 | J18: =J17/$G$15 -> -0.00059898538 | K18: =K17/$G$15 -> -0.051512743 | L18: =L17/$G$15 -> -0.23400362 | M18: =M17/$G$15 -> -0.27273801 | N18: =N17/$G$15 -> -0.31945887 | O18: =O17/$G$15 -> -0.31945887 | P18: =P17/$G$15 -> -0.31945887 | ... Z18: =Z17/$G$15 -> -0.31945887
H19: Soll nach Reduktionspfad | I19: =HLOOKUP(I9,'CO2-Schulbilanz'!$F$6:$AV$13,7,0) -> #N/A | J19: =HLOOKUP(J9,'CO2-Schulbilanz'!$F$6:$AV$13,7,0) -> -27847.045 | K19: =HLOOKUP(K9,'CO2-Schulbilanz'!$F$6:$AV$13,7,0) -> -27847.045 | L19: =HLOOKUP(L9,'CO2-Schulbilanz'!$F$6:$AV$13,7,0) -> -44669.329 | M19: =HLOOKUP(M9,'CO2-Schulbilanz'!$F$6:$AV$13,7,0) -> -60220.188 | N19: =HLOOKUP(N9,'CO2-Schulbilanz'!$F$6:$AV$13,7,0) -> -74595.716 | O19: =HLOOKUP(O9,'CO2-Schulbilanz'!$F$6:$AV$13,7,0) -> -87884.744 | P19: =HLOOKUP(P9,'CO2-Schulbilanz'!$F$6:$AV$13,7,0) -> -100169.39 | ... Z19: =HLOOKUP(Z9,'CO2-Schulbilanz'!$F$6:$AV$13,7,0) -> -200338.78
I20: =I19/$G$15 -> #N/A | J20: =J19/$G$15 -> -0.11119982 | K20: =K19/$G$15 -> -0.11119982 | L20: =L19/$G$15 -> -0.17837517 | M20: =M19/$G$15 -> -0.24047341 | N20: =N19/$G$15 -> -0.29787829 | O20: =O19/$G$15 -> -0.35094451 | P20: =P19/$G$15 -> -0.4 | ... Z20: =Z19/$G$15 -> -0.8
D23: Handlungsfeldübergreifender Bereich
D24: Unsere Ziele in diesem Bereich sind …
C25: Nr. | D25: Maßnahme | E25: Termin (Beginn der Umsetzung) | F25: Status der Umsetzung | G25: verantwortlich | H25: Akteure für die Umsetzung | I25: =IF(I$8="kurzfristig","Ziele CO2 & Kompetenzen","") | J25: =IF(J$8="kurzfristig","Ziele CO2 & Kompetenzen","") | K25: =IF(K$8="kurzfristig","Ziele CO2 & Kompetenzen","") | L25: =IF(L$8="kurzfristig","Ziele CO2 & Kompetenzen","") | M25: =IF(M$8="kurzfristig","Ziele CO2 & Kompetenzen","") | N25: =IF(N$8="kurzfristig","Ziele CO2 & Kompetenzen","") | O25: =IF(O$8="kurzfristig","Ziele CO2 & Kompetenzen","") -> Ziele CO2 & Kompetenzen | P25: =IF(P$8="kurzfristig","Ziele CO2 & Kompetenzen","") | ... Z25: =IF(Z$8="kurzfristig","Ziele CO2 & Kompetenzen","")
I26: =$I$9 -> 2017 | J26: =J$9 -> 2020 | K26: =K$9 -> 2020 | L26: =L$9 -> 2022 | M26: =L26+2 -> 2024 | N26: =M26+2 -> 2026 | O26: =N26+2 -> 2028 | P26: =O26+2 -> 2030 | Q26: =P26+2 -> 2032 | R26: =Q26+2 -> 2034 | S26: =R26+2 -> 2036 | T26: =S26+2 -> 2038 | ... Z26: =Y26+2 -> 2050
H27: Summen: | I27: =SUM(I28:I59) -> 150 | J27: =SUM(J28:J59) -> 150 | K27: =SUM(K28:K59) -> 3200 | L27: =SUM(L28:L59) -> 12750 | M27: =SUM(M28:M59) -> 12750 | N27: =SUM(N28:N59) -> 12750 | O27: =SUM(O28:O59) -> 12750 | P27: =SUM(P28:P59) -> 12750 | ... Z27: =SUM(Z28:Z59) -> 12750
C28: Ü1 | D28: Energiedienst schließt Fenster, stellt die Thermostate richtig ein und schaltet nicht benötigte Geräte und Lichter aus. | E28: 2020 | F28: umgesetzt | G28: Lotzin | H28: Klassenlehrer | I28: 150 | J28: =I28 -> 150 | K28: =ROUND(L28/4,-2) -> 3200 | L28: =11250+1500 -> 12750 | M28: =L28 -> 12750 | N28: =M28 -> 12750 | O28: =N28 -> 12750 | P28: =O28 -> 12750 | Q28: =P28 -> 12750 | R28: =Q28 -> 12750 | S28: =R28 -> 12750 | T28: =S28 -> 12750 | ... Z28: =Y28 -> 12750
J29: =I29 | K29: einführen in Jg. 3-4 | L29: feste Dienste | M29: =L29 -> feste Dienste | N29: =M29 -> feste Dienste | O29: =N29 -> feste Dienste | P29: =O29 -> feste Dienste | Q29: =P29 -> feste Dienste | R29: =Q29 -> feste Dienste | S29: =R29 -> feste Dienste | T29: =S29 -> feste Dienste | ... Z29: =Y29 -> feste Dienste
C30: Ü2 | D30: Die Themen Klimaschutz/Energie/Abfall werden im Unterricht behandelt und in das Curriculum integriert | E30: 2020 | F30: umgesetzt | G30: Kahm | H30: Klassenlehrer | I30: 0 | J30: =I30 -> 0 | P30: =O30 -> 0 | Q30: =P30 -> 0 | R30: =Q30 -> 0 | S30: =R30 -> 0 | T30: =S30 -> 0 | U30: =T30 -> 0 | V30: =U30 -> 0 | W30: =V30 -> 0 | ... Z30: =Y30 -> 0
F31: umgesetzt | J31: =I31 | P31: =O31 -> 0 | Q31: =P31 -> 0 | R31: =Q31 -> 0 | S31: =R31 -> 0 | T31: =S31 -> 0 | U31: =T31 -> 0 | V31: =U31 -> 0 | W31: =V31 -> 0 | ... Z31: =Y31 -> 0
C32: Ü3 | D32: Es wird ein Klima und Energie-Team (Klimaschutzgruppe) gegründet, das sich um ressourcensparendes Verhalten kümmert | E32: 2020 | F32: umgesetzt | G32: Lotzin | H32: GBS, Lehrkräfte, Eltern, Hausmeister | I32: 0 | J32: =I32 -> 0 | P32: =O32 -> 0 | Q32: =P32 -> 0 | R32: =Q32 -> 0 | S32: =R32 -> 0 | T32: =S32 -> 0 | U32: =T32 -> 0 | V32: =U32 -> 0 | W32: =V32 -> 0 | ... Z32: =Y32 -> 0
J33: =I33 | P33: =O33 -> 0 | Q33: =P33 -> 0 | R33: =Q33 -> 0 | S33: =R33 -> 0 | T33: =S33 -> 0 | U33: =T33 -> 0 | V33: =U33 -> 0 | W33: =V33 -> 0 | ... Z33: =Y33 -> 0
C34: Ü4 | D34: Energie hoch 4 Prämien werden für Klimaschutzaktivitäten an der Schule eingesetzt | E34: 2021 | F34: wird laufend umgesetzt | G34: Schulleitung | H34: Lotzin | I34: 0 | J34: =I34 -> 0 | P34: =O34 -> 0 | Q34: =P34 -> 0 | R34: =Q34 -> 0 | S34: =R34 -> 0 | T34: =S34 -> 0 | U34: =T34 -> 0 | V34: =U34 -> 0 | W34: =V34 -> 0 | ... Z34: =Y34 -> 0
F35: zukünftiger Termin | J35: =I35 | P35: =O35 -> 0 | Q35: =P35 -> 0 | R35: =Q35 -> 0 | S35: =R35 -> 0 | T35: =S35 -> 0 | U35: =T35 -> 0 | V35: =U35 -> 0 | W35: =V35 -> 0 | ... Z35: =Y35 -> 0
C36: Ü5 | D36: Es werden Hinweise angebracht zu angemessener Beleuchtung und Umgang mit Strom, Heizen und Lüften und Mülltrennung | E36: 2020 | F36: wird laufend umgesetzt | G36: Lotzin | H36: Klassenlehrer, HM | I36: 0 | J36: =I36 -> 0 | P36: =O36 -> 0 | Q36: =P36 -> 0 | R36: =Q36 -> 0 | S36: =R36 -> 0 | T36: =S36 -> 0 | U36: =T36 -> 0 | V36: =U36 -> 0 | W36: =V36 -> 0 | ... Z36: =Y36 -> 0
F37: in Umsetzung (Anfang) | J37: =I37 | K37: Abfalleimer | L37: Alle weiteren Bereiche | M37: Hinweise an allen Objekten | N37: Hinweise an allen Objekten | O37: Hinweise an allen Objekten | P37: =O37 -> Hinweise an allen Objekten | Q37: =P37 -> Hinweise an allen Objekten | R37: =Q37 -> Hinweise an allen Objekten | S37: =R37 -> Hinweise an allen Objekten | T37: =S37 -> Hinweise an allen Objekten | U37: =T37 -> Hinweise an allen Objekten | V37: =U37 -> Hinweise an allen Objekten | W37: =V37 -> Hinweise an allen Objekten | ... Z37: =Y37 -> Hinweise an allen Objekten
C38: Ü6 | D38: Es wird ein einfaches Meldesystem für energetische Schwachstellen eingerichtet | E38: 2020 | F38: wird laufend umgesetzt | G38: HM | H38: Klassenlehrer | I38: 0 | J38: =I38 -> 0 | P38: =O38 -> 0 | Q38: =P38 -> 0 | R38: =Q38 -> 0 | S38: =R38 -> 0 | T38: =S38 -> 0 | U38: =T38 -> 0 | V38: =U38 -> 0 | W38: =V38 -> 0 | ... Z38: =Y38 -> 0
J39: =I39 | P39: =O39 -> 0 | Q39: =P39 -> 0 | R39: =Q39 -> 0 | S39: =R39 -> 0 | T39: =S39 -> 0 | U39: =T39 -> 0 | V39: =U39 -> 0 | W39: =V39 -> 0 | ... Z39: =Y39 -> 0
C40: Ü7 | D40: Klimaschutzaktivitäten werden regelmäßig nach innen (Schulkonferenz) und außen kommuniziert, z.B. auf der Schulhomepage | E40: 2021 | F40: umgesetzt | G40: Lotzin | H40: Hoffmann, Kahm | I40: 0 | J40: =I40 -> 0 | P40: =O40 -> 0 | Q40: =P40 -> 0 | R40: =Q40 -> 0 | S40: =R40 -> 0 | T40: =S40 -> 0 | U40: =T40 -> 0 | V40: =U40 -> 0 | W40: =V40 -> 0 | ... Z40: =Y40 -> 0
J41: =I41 | P41: =O41 -> 0 | Q41: =P41 -> 0 | R41: =Q41 -> 0 | S41: =R41 -> 0 | T41: =S41 -> 0 | U41: =T41 -> 0 | V41: =U41 -> 0 | W41: =V41 -> 0 | ... Z41: =Y41 -> 0
C42: Ü8 | D42: Es wird jährlich ein Klimarundgang durchgeführt, um Klimaschutzmöglichkeiten zu identifizieren | E42: 2020 | F42: wird laufend umgesetzt | G42: Lotzin | H42: Klimaschutzgruppe, HM, Energiedetektive | I42: 0 | J42: =I42 -> 0 | P42: =O42 -> 0 | Q42: =P42 -> 0 | R42: =Q42 -> 0 | S42: =R42 -> 0 | T42: =S42 -> 0 | U42: =T42 -> 0 | V42: =U42 -> 0 | W42: =V42 -> 0 | ... Z42: =Y42 -> 0
J43: =I43 | P43: =O43 -> 0 | Q43: =P43 -> 0 | R43: =Q43 -> 0 | S43: =R43 -> 0 | T43: =S43 -> 0 | U43: =T43 -> 0 | V43: =U43 -> 0 | W43: =V43 -> 0 | ... Z43: =Y43 -> 0
C44: Ü9 | D44: Die Schule erarbeitet mittelfristig ein Umweltcurriculum | E44: 2020 | F44: umgesetzt | G44: Lotzin | H44: Kahm, Klassenlehrer | I44: 0 | J44: =I44 -> 0 | P44: =O44 -> 0 | Q44: =P44 -> 0 | R44: =Q44 -> 0 | S44: =R44 -> 0 | T44: =S44 -> 0 | U44: =T44 -> 0 | V44: =U44 -> 0 | W44: =V44 -> 0 | ... Z44: =Y44 -> 0
J45: =I45 | P45: =O45 -> 0 | Q45: =P45 -> 0 | R45: =Q45 -> 0 | S45: =R45 -> 0 | T45: =S45 -> 0 | U45: =T45 -> 0 | V45: =U45 -> 0 | W45: =V45 -> 0 | ... Z45: =Y45 -> 0
C46: Ü10 | D46: Schulgelände naturnah gestalten (Anpassung an den Klimawandel) mit jährlichem Gartentag | E46: 2020 | F46: wird laufend umgesetzt | G46: Schulleitung/ Lotzin | H46: GBS, Lehrkräfte, Eltern, Hausmeister | I46: 0 | J46: =I46 -> 0 | P46: =O46 -> 0 | Q46: =P46 -> 0 | R46: =Q46 -> 0 | S46: =R46 -> 0 | T46: =S46 -> 0 | U46: =T46 -> 0 | V46: =U46 -> 0 | W46: =V46 -> 0 | ... Z46: =Y46 -> 0
J47: =I47 | P47: =O47 -> 0 | Q47: =P47 -> 0 | R47: =Q47 -> 0 | S47: =R47 -> 0 | T47: =S47 -> 0 | U47: =T47 -> 0 | V47: =U47 -> 0 | W47: =V47 -> 0 | ... Z47: =Y47 -> 0
C48: Ü11 | D48: Schulpartnerschaft mit Schule in Brasilien gibt Einblick in Situation vor Ort, z.B. Regenwaldbrände | E48: 2020 | F48: wird laufend umgesetzt | G48: Wöbeking | I48: 0 | J48: =I48 -> 0 | P48: =O48 -> 0 | Q48: =P48 -> 0 | R48: =Q48 -> 0 | S48: =R48 -> 0 | T48: =S48 -> 0 | U48: =T48 -> 0 | V48: =U48 -> 0 | W48: =V48 -> 0 | ... Z48: =Y48 -> 0
F49: wird laufend umgesetzt | J49: =I49 | P49: =O49 -> 0 | Q49: =P49 -> 0 | R49: =Q49 -> 0 | S49: =R49 -> 0 | T49: =S49 -> 0 | U49: =T49 -> 0 | V49: =U49 -> 0 | W49: =V49 -> 0 | ... Z49: =Y49 -> 0
C50: Ü12 | D50: Schülerbotschafter kümmern sich auch um Nachhaltigkeitsthemen | E50: 2020 | F50: wird laufend umgesetzt | G50: Lotzin | H50: Schüler | I50: 0 | J50: =I50 -> 0
F51: wird laufend umgesetzt | J51: =I51
C52: Ü13 | D52: Jährliche Klimawoche für alle Klassenstufen | E52: 2021 | F52: wird laufend umgesetzt | G52: Lotzin/ Hoffmann | H52: Klassenlehrer | I52: 0 | J52: =I52 -> 0 | P52: =O52 -> 0 | Q52: =P52 -> 0 | R52: =Q52 -> 0 | S52: =R52 -> 0 | T52: =S52 -> 0 | U52: =T52 -> 0 | V52: =U52 -> 0 | W52: =V52 -> 0 | ... Z52: =Y52 -> 0
F53: wird laufend umgesetzt | J53: =I53 | P53: =O53 -> 0 | Q53: =P53 -> 0 | R53: =Q53 -> 0 | S53: =R53 -> 0 | T53: =S53 -> 0 | U53: =T53 -> 0 | V53: =U53 -> 0 | W53: =V53 -> 0 | ... Z53: =Y53 -> 0
C54: Ü14 | D54: NEU 2026: (RISA) Umleitung Regenwasser in das Grundwasser anstatt in das Abwassersiel, Renaturierung, Wasserrückhalteförderung | E54: 2026 | F54: umgesetzt | G54: Lotzin | H54: Hausmeister, Schulleitung, Hamburg Wasser | I54: 0 | J54: =I54 -> 0 | P54: =O54 -> 0 | Q54: =P54 -> 0 | R54: =Q54 -> 0 | S54: =R54 -> 0 | T54: =S54 -> 0 | U54: =T54 -> 0 | V54: =U54 -> 0 | W54: =V54 -> 0 | ... Z54: =Y54 -> 0
F55: wird laufend umgesetzt | J55: =I55 | P55: =O55 -> 0 | Q55: =P55 -> 0 | R55: =Q55 -> 0 | S55: =R55 -> 0 | T55: =S55 -> 0 | U55: =T55 -> 0 | V55: =U55 -> 0 | W55: =V55 -> 0 | ... Z55: =Y55 -> 0
F56: zukünftiger Termin | J56: =I56 | P56: =O56 -> 0 | Q56: =P56 -> 0 | R56: =Q56 -> 0 | S56: =R56 -> 0 | T56: =S56 -> 0 | U56: =T56 -> 0 | V56: =U56 -> 0 | W56: =V56 -> 0 | ... Z56: =Y56 -> 0
C57: Ü14 | I57: 0 | J57: =I57 -> 0 | P57: =O57 -> 0 | Q57: =P57 -> 0 | R57: =Q57 -> 0 | S57: =R57 -> 0 | T57: =S57 -> 0 | U57: =T57 -> 0 | V57: =U57 -> 0 | W57: =V57 -> 0 | ... Z57: =Y57 -> 0
J58: =I58 | P58: =O58 -> 0 | Q58: =P58 -> 0 | R58: =Q58 -> 0 | S58: =R58 -> 0 | T58: =S58 -> 0 | U58: =T58 -> 0 | V58: =U58 -> 0 | W58: =V58 -> 0 | ... Z58: =Y58 -> 0
C59: Ü15 | I59: 0 | J59: =I59 -> 0 | P59: =O59 -> 0 | Q59: =P59 -> 0 | R59: =Q59 -> 0 | S59: =R59 -> 0 | T59: =S59 -> 0 | U59: =T59 -> 0 | V59: =U59 -> 0 | W59: =V59 -> 0 | ... Z59: =Y59 -> 0
D61: Handlungsfeld Wärme
D62: Unsere Ziele im Bereich Wärme sind …
C63: Nr. | D63: Maßnahme | E63: Termin (Beginn der Umsetzung) | F63: =F$25 -> Status der Umsetzung | G63: verantwortlich | H63: Akteure für die Umsetzung | I63: =I25 | J63: =J25 | K63: =K25 | L63: =L25 | M63: =M25 | N63: =N25 | O63: =O25 -> Ziele CO2 & Kompetenzen | P63: =P25 | ... Z63: =Z25
I64: =$I$9 -> 2017 | J64: =J$9 -> 2020 | K64: =K$9 -> 2020 | L64: =L$9 -> 2022 | M64: =L64+2 -> 2024 | N64: =M64+2 -> 2026 | O64: =N64+2 -> 2028 | P64: =O64+2 -> 2030 | Q64: =P64+2 -> 2032 | R64: =Q64+2 -> 2034 | S64: =R64+2 -> 2036 | T64: =S64+2 -> 2038 | ... Z64: =Y64+2 -> 2050
C65: Summen: | I65: =SUM(I66:I95) -> 0 | J65: =SUM(J66:J95) -> 0 | K65: =SUM(K66:K95) -> 9350 | L65: =SUM(L66:L95) -> 40850 | M65: =SUM(M66:M95) -> 45750 | N65: =SUM(N66:N95) -> 57450 | O65: =SUM(O66:O95) -> 57450 | P65: =SUM(P66:P95) -> 57450 | ... Z65: =SUM(Z66:Z95) -> 57450
C66: W1 | D66: Stoßlüften: Fenster freigeben für vollständiges Öffnen (zwei Fenster pro Raum) | E66: 2020 | F66: umgesetzt | G66: Hausmeister | H66: Klassenlehrer | I66: 0 | J66: =I66 -> 0 | P66: =O66 -> 0 | Q66: =P66 -> 0 | R66: =Q66 -> 0 | S66: =R66 -> 0 | T66: =S66 -> 0 | U66: =T66 -> 0 | V66: =U66 -> 0 | W66: =V66 -> 0 | ... Z66: =Y66 -> 0
J67: =I67 | K67: =J67 | L67: =K67 | M67: =L67 | N67: =M67 | O67: =N67 | P67: =O67 | Q67: =P67 | ... Z67: =Y67
C68: W2 | D68: Alle Klassen mit Thermometern ausstatten und Temperaturen regelmäßig überprüfen | E68: 2020 | F68: umgesetzt | G68: Lotzin | H68: Energiedetektive | I68: 0 | J68: =I68 -> 0 | K68: =L68/2 -> 1400 | L68: 2800 | M68: =L68 -> 2800 | N68: =M68 -> 2800 | O68: =N68 -> 2800 | P68: =O68 -> 2800 | Q68: =P68 -> 2800 | R68: =Q68 -> 2800 | S68: =R68 -> 2800 | T68: =S68 -> 2800 | ... Z68: =Y68 -> 2800
J69: =I69 | K69: =J69 | L69: =K69 | M69: =L69 | N69: =M69 | O69: =N69 | P69: =O69 | Q69: =P69 | ... Z69: =Y69
C70: W3 | D70: Die Thermostate in den Klassenräumen so einstellen, dass sie zwischen Stufe 1 und ca. Stufe 3 begrenzt regelbar sind | E70: 2021 | F70: umgesetzt | G70: Hausmeister | I70: 0 | J70: =I70 -> 0 | K70: =L70/2 -> 1400 | L70: =L68 -> 2800 | M70: =L70 -> 2800 | N70: =M70 -> 2800 | O70: =N70 -> 2800 | P70: =O70 -> 2800 | Q70: =P70 -> 2800 | R70: =Q70 -> 2800 | S70: =R70 -> 2800 | T70: =S70 -> 2800 | ... Z70: =Y70 -> 2800
J71: =I71 | K71: =J71 | L71: =K71 | M71: =L71 | N71: =M71 | O71: =N71 | P71: =O71 | Q71: =P71 | ... Z71: =Y71
C72: W4 | D72: Nacht-und Wochenendabsenkung der Heizung optimieren | E72: 2021 | F72: umgesetzt | G72: Hausmeister | H72: Schulbau Hamburg | I72: 0 | J72: =I72 -> 0 | K72: =L72/2 -> 6550 | L72: 13100 | M72: =L72 -> 13100 | N72: =M72 -> 13100 | O72: =N72 -> 13100 | P72: =O72 -> 13100 | Q72: =P72 -> 13100 | R72: =Q72 -> 13100 | S72: =R72 -> 13100 | T72: =S72 -> 13100 | ... Z72: =Y72 -> 13100
F73: zukünftiger Termin | J73: =I73 | K73: =J73 | L73: =K73 | M73: =L73 | N73: =M73 | O73: =N73 | P73: =O73 | Q73: =P73 | ... Z73: =Y73
C74: W5 | D74: Heizungsanlage optimieren (Heizkurve anpassen, Kessel entkoppeln, Pumpenleistung reduzieren) | E74: 2021 | F74: umgesetzt | G74: Hausmeister | H74: Schulbau Hamburg | I74: 0 | J74: =I74 -> 0 | L74: =28100/2 -> 14050 | M74: =L74 -> 14050 | N74: =M74 -> 14050 | O74: =N74 -> 14050 | P74: =O74 -> 14050 | Q74: =P74 -> 14050 | R74: =Q74 -> 14050 | S74: =R74 -> 14050 | T74: =S74 -> 14050 | ... Z74: =Y74 -> 14050
J75: =I75 | K75: =J75 | L75: =K75 | M75: =L75 | N75: =M75 | O75: =N75 | P75: =O75 | Q75: =P75 | ... Z75: =Y75
C76: W6 | D76: Engangstüren und Fenster abdichten (insbesondere Flure Fachbau) | E76: 2021 | F76: in Umsetzung (Mitte) | G76: Hausmeister | H76: Schulbau Hamburg | I76: 0 | J76: =I76 -> 0 | L76: 3750 | M76: =L76 -> 3750 | N76: =M76 -> 3750 | O76: =N76 -> 3750 | P76: =O76 -> 3750 | Q76: =P76 -> 3750 | R76: =Q76 -> 3750 | S76: =R76 -> 3750 | T76: =S76 -> 3750 | ... Z76: =Y76 -> 3750
J77: =I77 | K77: =J77 | L77: =K77 | M77: =L77 | N77: =M77 | O77: =N77 | P77: =O77 | Q77: =P77 | ... Z77: =Y77
C78: W7 | D78: Thermostate in den Fluren feststellen auf Stufe 1-2 (Fachbau) | E78: 2020 | F78: umgesetzt | G78: Hausmeister | H78: Schulbau Hamburg | I78: 0 | J78: =I78 -> 0 | P78: =O78 -> 0 | Q78: =P78 -> 0 | R78: =Q78 -> 0 | S78: =R78 -> 0 | T78: =S78 -> 0 | U78: =T78 -> 0 | V78: =U78 -> 0 | W78: =V78 -> 0 | ... Z78: =Y78 -> 0
J79: =I79 | K79: =J79 | L79: =K79 | M79: =L79 | N79: =M79 | O79: =N79 | P79: =O79 | Q79: =P79 | ... Z79: =Y79
C80: W8 | D80: Heizkörpernischen im Verwaltungsbau dämmen | E80: 2022 | F80: in Umsetzung (Anfang) | G80: Ammer | H80: Schulbau Hamburg | I80: 0 | J80: =I80 -> 0 | L80: =1200/2 -> 600 | M80: =L80 -> 600 | N80: =M80 -> 600 | O80: =N80 -> 600 | P80: =O80 -> 600 | Q80: =P80 -> 600 | R80: =Q80 -> 600 | S80: =R80 -> 600 | T80: =S80 -> 600 | ... Z80: =Y80 -> 600
J81: =I81 | K81: =J81 | L81: =K81 | M81: =L81 | N81: =M81 | O81: =N81 | P81: =O81 | Q81: =P81 | ... Z81: =Y81
C82: W9 | D82: Raumbelegung optimieren, Abendnutzung im Neubau bündeln | E82: 2021 | F82: umgesetzt | G82: Schulleitung | H82: GBS, Jugendmusikschule, Vereine | I82: 0 | J82: =I82 -> 0 | L82: 3750 | M82: =L82 -> 3750 | N82: =M82 -> 3750 | O82: =N82 -> 3750 | P82: =O82 -> 3750 | Q82: =P82 -> 3750 | R82: =Q82 -> 3750 | S82: =R82 -> 3750 | T82: =S82 -> 3750 | ... Z82: =Y82 -> 3750
J83: =I83 | K83: =J83 | L83: =K83 | M83: =L83 | N83: =M83 | O83: =N83 | P83: =O83 | Q83: =P83 | ... Z83: =Y83
C84: W10 | D84: Elektrische Fenster der Sporthalle so einstellen, dass sie automatisch schließen | E84: 2022 | F84: umgesetzt | G84: Hausmeister | H84: Schulbau Hamburg | I84: 0 | J84: =I84 -> 0 | P84: =O84 -> 0 | Q84: =P84 -> 0 | R84: =Q84 -> 0 | S84: =R84 -> 0 | T84: =S84 -> 0 | U84: =T84 -> 0 | V84: =U84 -> 0 | W84: =V84 -> 0 | ... Z84: =Y84 -> 0
J85: =I85 | K85: =J85 | L85: =K85 | M85: =L85 | N85: =M85 | O85: =N85 | P85: =O85 | Q85: =P85 | ... Z85: =Y85
C86: W11 | D86: Dämmung der obersten Geschossdecke und der Kellerdecken im Kreuz-, Verwaltungs- und Fachbau prüfen | E86: 2024 | F86: in Umsetzung (Anfang) | G86: Schulleitung | H86: Schulbau Hamburg | I86: 0 | J86: =I86 -> 0 | M86: =9800/2 -> 4900 | N86: =9800+M86 -> 14700 | O86: =N86 -> 14700 | P86: =O86 -> 14700 | Q86: =P86 -> 14700 | R86: =Q86 -> 14700 | S86: =R86 -> 14700 | T86: =S86 -> 14700 | U86: =T86 -> 14700 | V86: =U86 -> 14700 | ... Z86: =Y86 -> 14700
J87: =I87 | K87: =J87 | L87: prüfen | M87: Kellerdecke dämmen | N87: oberste Geschossdecke dämmen | P87: =O87 -> 0 | Q87: =P87 -> 0 | R87: =Q87 -> 0 | S87: =R87 -> 0 | T87: =S87 -> 0 | U87: =T87 -> 0 | V87: =U87 -> 0 | W87: =V87 -> 0 | ... Z87: =Y87 -> 0
C88: W12 | D88: Die einfach verglasten Fenster im Fachbau sanieren | E88: 2026 | F88: zukünftiger Termin | G88: Schulleitung | H88: Schulbau Hamburg | I88: 0 | J88: =I88 -> 0 | N88: 1900 | O88: =N88 -> 1900 | P88: =O88 -> 1900 | Q88: =P88 -> 1900 | R88: =Q88 -> 1900 | S88: =R88 -> 1900 | T88: =S88 -> 1900 | U88: =T88 -> 1900 | V88: =U88 -> 1900 | ... Z88: =Y88 -> 1900
J89: =I89 | K89: =J89 | L89: =K89 | M89: =L89 | N89: =M89 | O89: =N89 | P89: =O89 | Q89: =P89 | ... Z89: =Y89
C90: W13 | I90: 0 | J90: =I90 -> 0 | P90: =O90 -> 0 | Q90: =P90 -> 0 | R90: =Q90 -> 0 | S90: =R90 -> 0 | T90: =S90 -> 0 | U90: =T90 -> 0 | V90: =U90 -> 0 | W90: =V90 -> 0 | ... Z90: =Y90 -> 0
J91: =I91 | P91: =O91 -> 0 | Q91: =P91 -> 0 | R91: =Q91 -> 0 | S91: =R91 -> 0 | T91: =S91 -> 0 | U91: =T91 -> 0 | V91: =U91 -> 0 | W91: =V91 -> 0 | ... Z91: =Y91 -> 0
C92: W14 | I92: 0 | J92: =I92 -> 0 | P92: =O92 -> 0 | Q92: =P92 -> 0 | R92: =Q92 -> 0 | S92: =R92 -> 0 | T92: =S92 -> 0 | U92: =T92 -> 0 | V92: =U92 -> 0 | W92: =V92 -> 0 | ... Z92: =Y92 -> 0
J93: =I93 | P93: =O93 -> 0 | Q93: =P93 -> 0 | R93: =Q93 -> 0 | S93: =R93 -> 0 | T93: =S93 -> 0 | U93: =T93 -> 0 | V93: =U93 -> 0 | W93: =V93 -> 0 | ... Z93: =Y93 -> 0
C94: W15 | I94: 0 | J94: =I94 -> 0 | P94: =O94 -> 0 | Q94: =P94 -> 0 | R94: =Q94 -> 0 | S94: =R94 -> 0 | T94: =S94 -> 0 | U94: =T94 -> 0 | V94: =U94 -> 0 | W94: =V94 -> 0 | ... Z94: =Y94 -> 0
J95: =I95 | P95: =O95 -> 0 | Q95: =P95 -> 0 | R95: =Q95 -> 0 | S95: =R95 -> 0 | T95: =S95 -> 0 | U95: =T95 -> 0 | V95: =U95 -> 0 | W95: =V95 -> 0 | ... Z95: =Y95 -> 0
D97: Handlungsfeld Strom
D98: Unsere Ziele im Bereich Strom sind …
C99: Nr. | D99: Maßnahme | E99: Termin (Beginn der Umsetzung) | F99: =F$25 -> Status der Umsetzung | G99: verantwortlich | H99: Akteure für die Umsetzung | I99: =I25 | J99: =J25 | K99: =K25 | L99: =L25 | M99: =M25 | N99: =N25 | O99: =O25 -> Ziele CO2 & Kompetenzen | P99: =P25 | ... Z99: =Z25
I100: =$I$9 -> 2017 | J100: =J$9 -> 2020 | K100: =K$9 -> 2020 | L100: =L$9 -> 2022 | M100: =L100+2 -> 2024 | N100: =M100+2 -> 2026 | O100: =N100+2 -> 2028 | P100: =O100+2 -> 2030 | Q100: =P100+2 -> 2032 | R100: =Q100+2 -> 2034 | S100: =R100+2 -> 2036 | T100: =S100+2 -> 2038 | ... Z100: =Y100+2 -> 2050
H101: Summen: | I101: =SUM(I102:I131) -> 0 | J101: =SUM(J102:J131) -> 0 | K101: =SUM(K102:K131) -> 350 | L101: =SUM(L102:L131) -> 4000 | M101: =SUM(M102:M131) -> 5300 | N101: =SUM(N102:N131) -> 5300 | O101: =SUM(O102:O131) -> 5300 | P101: =SUM(P102:P131) -> 5300 | ... Z101: =SUM(Z102:Z131) -> 5300
C102: S1 | D102: Lichtschalter beschriften und mit Ausschalthinweisen versehen | E102: 2020 | F102: umgesetzt | G102: Schülerbotschafter | H102: Klassenlehrer/ Schüler | I102: 0 | J102: =I102 -> 0 | P102: =O102 -> 0 | Q102: =P102 -> 0 | R102: =Q102 -> 0 | S102: =R102 -> 0 | T102: =S102 -> 0 | U102: =T102 -> 0 | V102: =U102 -> 0 | W102: =V102 -> 0 | ... Z102: =Y102 -> 0
F103: in Umsetzung (Anfang) | J103: =I103 | P103: =O103 -> 0 | Q103: =P103 -> 0 | R103: =Q103 -> 0 | S103: =R103 -> 0 | T103: =S103 -> 0 | U103: =T103 -> 0 | V103: =U103 -> 0 | W103: =V103 -> 0 | ... Z103: =Y103 -> 0
C104: S2 | D104: Flure und Sanitärräume auf energiesparende Beleuchtung umstellen | E104: 2024 | F104: in Umsetzung (Anfang) | G104: Hausmeister | H104: Schulbau Hamburg | I104: 0 | J104: =I104 -> 0 | M104: =ROUND(3800/3,-2) -> 1300 | N104: =M104 -> 1300 | O104: =N104 -> 1300 | P104: =O104 -> 1300 | Q104: =P104 -> 1300 | R104: =Q104 -> 1300 | S104: =R104 -> 1300 | T104: =S104 -> 1300 | U104: =T104 -> 1300 | ... Z104: =Y104 -> 1300
F105: zukünftiger Termin | J105: =I105 | P105: =O105 -> 0 | Q105: =P105 -> 0 | R105: =Q105 -> 0 | S105: =R105 -> 0 | T105: =S105 -> 0 | U105: =T105 -> 0 | V105: =U105 -> 0 | W105: =V105 -> 0 | ... Z105: =Y105 -> 0
C106: S3 | D106: Lichtreihen an Fensterseiten, Tafelbeleuchtung etc. mit jeweils eigenen Schaltern ausstatten (Neubau) | E106: 2023 | F106: umgesetzt | G106: Hausmeister | H106: Schulbau Hamburg | I106: 0 | J106: =I106 -> 0 | P106: =O106 -> 0 | Q106: =P106 -> 0 | R106: =Q106 -> 0 | S106: =R106 -> 0 | T106: =S106 -> 0 | U106: =T106 -> 0 | V106: =U106 -> 0 | W106: =V106 -> 0 | ... Z106: =Y106 -> 0
...

Sheet Chronologische Liste
C2: Chronologische Maßnahmen-Liste | G2: Stand: | H2: 45560
C3: Alle Handlungsfelder
C4: Hinweis: Nach Änderungen an der Planungsübersicht bitte die Tasten Strg+Alt+L drücken (Ansicht aktualisieren)
B5: =Planungsübersicht!C25 -> Nr. | C5: =Planungsübersicht!D25 -> Maßnahme | D5: =Planungsübersicht!E25 -> Termin (Beginn der Umsetzung) | E5: =Planungsübersicht!F25 -> Status der Umsetzung | F5: =Planungsübersicht!G25 -> verantwortlich | G5: =Planungsübersicht!H25 -> Akteure für die Umsetzung | H5: Ziele CO2
B6: =IF(AND(Planungsübersicht!$E36>1990,TYPE(Planungsübersicht!$E36)=1), Planungsübersicht!C36," ") -> Ü5 | C6: =IF(AND(Planungsübersicht!$E36>1990,TYPE(Planungsübersicht!$E36)=1), Planungsübersicht!D36," ") -> Es werden Hinweise angebracht zu angemessener Beleuchtung und Umgang mit Strom, Heizen und Lüften und Mülltrennung | D6: =IF(AND(Planungsübersicht!$E36>1990,TYPE(Planungsübersicht!$E36)=1), Planungsübersicht!E36," ") -> 2020 | E6: =IF(AND(Planungsübersicht!$E36>1990,TYPE(Planungsübersicht!$E36)=1), Planungsübersicht!F36," ") -> wird laufend umgesetzt | F6: =IF(AND(Planungsübersicht!$E36>1990,TYPE(Planungsübersicht!$E36)=1), Planungsübersicht!G36," ") -> Lotzin | G6: =IF(AND(Planungsübersicht!$E36>1990,TYPE(Planungsübersicht!$E36)=1), Planungsübersicht!H36," ") -> Klassenlehrer, HM | H6: =IF(AND(Planungsübersicht!$E36>1990,TYPE(Planungsübersicht!$E36)=1), MAX(Planungsübersicht!I36:Z36)," ") -> 0
B7: =IF(AND(Planungsübersicht!$E37>1990,TYPE(Planungsübersicht!$E37)=1),Planungsübersicht!C37," ") | C7: =IF(AND(Planungsübersicht!$E37>1990,TYPE(Planungsübersicht!$E37)=1),Planungsübersicht!D37," ") | D7: =IF(AND(Planungsübersicht!$E37>1990,TYPE(Planungsübersicht!$E37)=1),Planungsübersicht!E37," ") | E7: =IF(AND(Planungsübersicht!$E37>1990,TYPE(Planungsübersicht!$E37)=1),Planungsübersicht!F37," ") | F7: =IF(AND(Planungsübersicht!$E37>1990,TYPE(Planungsübersicht!$E37)=1),Planungsübersicht!G37," ") | G7: =IF(AND(Planungsübersicht!$E37>1990,TYPE(Planungsübersicht!$E37)=1),Planungsübersicht!H37," ") | H7: =IF(AND(Planungsübersicht!$E37>1990,TYPE(Planungsübersicht!$E37)=1),MAX(Planungsübersicht!I37:Z37)," ")
B8: =IF(AND(Planungsübersicht!$E30>1990,TYPE(Planungsübersicht!$E30)=1),Planungsübersicht!C30," ") -> Ü2 | C8: =IF(AND(Planungsübersicht!$E30>1990,TYPE(Planungsübersicht!$E30)=1),Planungsübersicht!D30," ") -> Die Themen Klimaschutz/Energie/Abfall werden im Unterricht behandelt und in das Curriculum integriert | D8: =IF(AND(Planungsübersicht!$E30>1990,TYPE(Planungsübersicht!$E30)=1),Planungsübersicht!E30," ") -> 2020 | E8: =IF(AND(Planungsübersicht!$E30>1990,TYPE(Planungsübersicht!$E30)=1),Planungsübersicht!F30," ") -> umgesetzt | F8: =IF(AND(Planungsübersicht!$E30>1990,TYPE(Planungsübersicht!$E30)=1),Planungsübersicht!G30," ") -> Kahm | G8: =IF(AND(Planungsübersicht!$E30>1990,TYPE(Planungsübersicht!$E30)=1),Planungsübersicht!H30," ") -> Klassenlehrer | H8: =IF(AND(Planungsübersicht!$E30>1990,TYPE(Planungsübersicht!$E30)=1),MAX(Planungsübersicht!I30:Z30)," ") -> 0
B9: =IF(AND(Planungsübersicht!$E29>1990,TYPE(Planungsübersicht!$E29)=1),Planungsübersicht!C29," ") | C9: =IF(AND(Planungsübersicht!$E29>1990,TYPE(Planungsübersicht!$E29)=1),Planungsübersicht!D29," ") | D9: =IF(AND(Planungsübersicht!$E29>1990,TYPE(Planungsübersicht!$E29)=1),Planungsübersicht!E29," ") | E9: =IF(AND(Planungsübersicht!$E29>1990,TYPE(Planungsübersicht!$E29)=1),Planungsübersicht!F29," ") | F9: =IF(AND(Planungsübersicht!$E29>1990,TYPE(Planungsübersicht!$E29)=1),Planungsübersicht!G29," ") | G9: =IF(AND(Planungsübersicht!$E29>1990,TYPE(Planungsübersicht!$E29)=1),Planungsübersicht!H29," ") | H9: =IF(AND(Planungsübersicht!$E29>1990,TYPE(Planungsübersicht!$E29)=1),MAX(Planungsübersicht!I29:Z29)," ")
B10: =IF(AND(Planungsübersicht!$E30>1990,TYPE(Planungsübersicht!$E30)=1),Planungsübersicht!C30," ") -> Ü2 | C10: =IF(AND(Planungsübersicht!$E30>1990,TYPE(Planungsübersicht!$E30)=1),Planungsübersicht!D30," ") -> Die Themen Klimaschutz/Energie/Abfall werden im Unterricht behandelt und in das Curriculum integriert | D10: =IF(AND(Planungsübersicht!$E30>1990,TYPE(Planungsübersicht!$E30)=1),Planungsübersicht!E30," ") -> 2020 | E10: =IF(AND(Planungsübersicht!$E30>1990,TYPE(Planungsübersicht!$E30)=1),Planungsübersicht!F30," ") -> umgesetzt | F10: =IF(AND(Planungsübersicht!$E30>1990,TYPE(Planungsübersicht!$E30)=1),Planungsübersicht!G30," ") -> Kahm | G10: =IF(AND(Planungsübersicht!$E30>1990,TYPE(Planungsübersicht!$E30)=1),Planungsübersicht!H30," ") -> Klassenlehrer | H10: =IF(AND(Planungsübersicht!$E30>1990,TYPE(Planungsübersicht!$E30)=1),MAX(Planungsübersicht!I30:Z30)," ") -> 0
B11: =IF(AND(Planungsübersicht!$E31>1990,TYPE(Planungsübersicht!$E31)=1),Planungsübersicht!C31," ") | C11: =IF(AND(Planungsübersicht!$E31>1990,TYPE(Planungsübersicht!$E31)=1),Planungsübersicht!D31," ") | D11: =IF(AND(Planungsübersicht!$E31>1990,TYPE(Planungsübersicht!$E31)=1),Planungsübersicht!E31," ") | E11: =IF(AND(Planungsübersicht!$E31>1990,TYPE(Planungsübersicht!$E31)=1),Planungsübersicht!F31," ") | F11: =IF(AND(Planungsübersicht!$E31>1990,TYPE(Planungsübersicht!$E31)=1),Planungsübersicht!G31," ") | G11: =IF(AND(Planungsübersicht!$E31>1990,TYPE(Planungsübersicht!$E31)=1),Planungsübersicht!H31," ") | H11: =IF(AND(Planungsübersicht!$E31>1990,TYPE(Planungsübersicht!$E31)=1),MAX(Planungsübersicht!I31:Z31)," ")
B12: =IF(AND(Planungsübersicht!$E32>1990,TYPE(Planungsübersicht!$E32)=1),Planungsübersicht!C32," ") -> Ü3 | C12: =IF(AND(Planungsübersicht!$E32>1990,TYPE(Planungsübersicht!$E32)=1),Planungsübersicht!D32," ") -> Es wird ein Klima und Energie-Team (Klimaschutzgruppe) gegründet, das sich um ressourcensparendes Verhalten kümmert | D12: =IF(AND(Planungsübersicht!$E32>1990,TYPE(Planungsübersicht!$E32)=1),Planungsübersicht!E32," ") -> 2020 | E12: =IF(AND(Planungsübersicht!$E32>1990,TYPE(Planungsübersicht!$E32)=1),Planungsübersicht!F32," ") -> umgesetzt | F12: =IF(AND(Planungsübersicht!$E32>1990,TYPE(Planungsübersicht!$E32)=1),Planungsübersicht!G32," ") -> Lotzin | G12: =IF(AND(Planungsübersicht!$E32>1990,TYPE(Planungsübersicht!$E32)=1),Planungsübersicht!H32," ") -> GBS, Lehrkräfte, Eltern, Hausmeister | H12: =IF(AND(Planungsübersicht!$E32>1990,TYPE(Planungsübersicht!$E32)=1),MAX(Planungsübersicht!I32:Z32)," ") -> 0
B13: =IF(AND(Planungsübersicht!$E33>1990,TYPE(Planungsübersicht!$E33)=1),Planungsübersicht!C33," ") | C13: =IF(AND(Planungsübersicht!$E33>1990,TYPE(Planungsübersicht!$E33)=1),Planungsübersicht!D33," ") | D13: =IF(AND(Planungsübersicht!$E33>1990,TYPE(Planungsübersicht!$E33)=1),Planungsübersicht!E33," ") | E13: =IF(AND(Planungsübersicht!$E33>1990,TYPE(Planungsübersicht!$E33)=1),Planungsübersicht!F33," ") | F13: =IF(AND(Planungsübersicht!$E33>1990,TYPE(Planungsübersicht!$E33)=1),Planungsübersicht!G33," ") | G13: =IF(AND(Planungsübersicht!$E33>1990,TYPE(Planungsübersicht!$E33)=1),Planungsübersicht!H33," ") | H13: =IF(AND(Planungsübersicht!$E33>1990,TYPE(Planungsübersicht!$E33)=1),MAX(Planungsübersicht!I33:Z33)," ")
B14: =IF(AND(Planungsübersicht!$E36>1990,TYPE(Planungsübersicht!$E36)=1),Planungsübersicht!C36," ") -> Ü5 | C14: =IF(AND(Planungsübersicht!$E36>1990,TYPE(Planungsübersicht!$E36)=1),Planungsübersicht!D36," ") -> Es werden Hinweise angebracht zu angemessener Beleuchtung und Umgang mit Strom, Heizen und Lüften und Mülltrennung | D14: =IF(AND(Planungsübersicht!$E36>1990,TYPE(Planungsübersicht!$E36)=1),Planungsübersicht!E36," ") -> 2020 | E14: =IF(AND(Planungsübersicht!$E36>1990,TYPE(Planungsübersicht!$E36)=1),Planungsübersicht!F36," ") -> wird laufend umgesetzt | F14: =IF(AND(Planungsübersicht!$E36>1990,TYPE(Planungsübersicht!$E36)=1),Planungsübersicht!G36," ") -> Lotzin | G14: =IF(AND(Planungsübersicht!$E36>1990,TYPE(Planungsübersicht!$E36)=1),Planungsübersicht!H36," ") -> Klassenlehrer, HM | H14: =IF(AND(Planungsübersicht!$E36>1990,TYPE(Planungsübersicht!$E36)=1),MAX(Planungsübersicht!I36:Z36)," ") -> 0
B15: =IF(AND(Planungsübersicht!$E38>1990,TYPE(Planungsübersicht!$E38)=1),Planungsübersicht!C38," ") -> Ü6 | C15: =IF(AND(Planungsübersicht!$E38>1990,TYPE(Planungsübersicht!$E38)=1),Planungsübersicht!D38," ") -> Es wird ein einfaches Meldesystem für energetische Schwachstellen eingerichtet | D15: =IF(AND(Planungsübersicht!$E38>1990,TYPE(Planungsübersicht!$E38)=1),Planungsübersicht!E38," ") -> 2020 | E15: =IF(AND(Planungsübersicht!$E38>1990,TYPE(Planungsübersicht!$E38)=1),Planungsübersicht!F38," ") -> wird laufend umgesetzt | F15: =IF(AND(Planungsübersicht!$E38>1990,TYPE(Planungsübersicht!$E38)=1),Planungsübersicht!G38," ") -> HM | G15: =IF(AND(Planungsübersicht!$E38>1990,TYPE(Planungsübersicht!$E38)=1),Planungsübersicht!H38," ") -> Klassenlehrer | H15: =IF(AND(Planungsübersicht!$E38>1990,TYPE(Planungsübersicht!$E38)=1),MAX(Planungsübersicht!I38:Z38)," ") -> 0
B16: =IF(AND(Planungsübersicht!$E42>1990,TYPE(Planungsübersicht!$E42)=1),Planungsübersicht!C42," ") -> Ü8 | C16: =IF(AND(Planungsübersicht!$E42>1990,TYPE(Planungsübersicht!$E42)=1),Planungsübersicht!D42," ") -> Es wird jährlich ein Klimarundgang durchgeführt, um Klimaschutzmöglichkeiten zu identifizieren | D16: =IF(AND(Planungsübersicht!$E42>1990,TYPE(Planungsübersicht!$E42)=1),Planungsübersicht!E42," ") -> 2020 | E16: =IF(AND(Planungsübersicht!$E42>1990,TYPE(Planungsübersicht!$E42)=1),Planungsübersicht!F42," ") -> wird laufend umgesetzt | F16: =IF(AND(Planungsübersicht!$E42>1990,TYPE(Planungsübersicht!$E42)=1),Planungsübersicht!G42," ") -> Lotzin | G16: =IF(AND(Planungsübersicht!$E42>1990,TYPE(Planungsübersicht!$E42)=1),Planungsübersicht!H42," ") -> Klimaschutzgruppe, HM, Energiedetektive | H16: =IF(AND(Planungsübersicht!$E42>1990,TYPE(Planungsübersicht!$E42)=1),MAX(Planungsübersicht!I42:Z42)," ") -> 0
B17: =IF(AND(Planungsübersicht!$E39>1990,TYPE(Planungsübersicht!$E39)=1),Planungsübersicht!C39," ") | C17: =IF(AND(Planungsübersicht!$E39>1990,TYPE(Planungsübersicht!$E39)=1),Planungsübersicht!D39," ") | D17: =IF(AND(Planungsübersicht!$E39>1990,TYPE(Planungsübersicht!$E39)=1),Planungsübersicht!E39," ") | E17: =IF(AND(Planungsübersicht!$E39>1990,TYPE(Planungsübersicht!$E39)=1),Planungsübersicht!F39," ") | F17: =IF(AND(Planungsübersicht!$E39>1990,TYPE(Planungsübersicht!$E39)=1),Planungsübersicht!G39," ") | G17: =IF(AND(Planungsübersicht!$E39>1990,TYPE(Planungsübersicht!$E39)=1),Planungsübersicht!H39," ") | H17: =IF(AND(Planungsübersicht!$E39>1990,TYPE(Planungsübersicht!$E39)=1),MAX(Planungsübersicht!I39:Z39)," ")
B18: =IF(AND(Planungsübersicht!$E44>1990,TYPE(Planungsübersicht!$E44)=1),Planungsübersicht!C44," ") -> Ü9 | C18: =IF(AND(Planungsübersicht!$E44>1990,TYPE(Planungsübersicht!$E44)=1),Planungsübersicht!D44," ") -> Die Schule erarbeitet mittelfristig ein Umweltcurriculum | D18: =IF(AND(Planungsübersicht!$E44>1990,TYPE(Planungsübersicht!$E44)=1),Planungsübersicht!E44," ") -> 2020 | E18: =IF(AND(Planungsübersicht!$E44>1990,TYPE(Planungsübersicht!$E44)=1),Planungsübersicht!F44," ") -> umgesetzt | F18: =IF(AND(Planungsübersicht!$E44>1990,TYPE(Planungsübersicht!$E44)=1),Planungsübersicht!G44," ") -> Lotzin | G18: =IF(AND(Planungsübersicht!$E44>1990,TYPE(Planungsübersicht!$E44)=1),Planungsübersicht!H44," ") -> Kahm, Klassenlehrer | H18: =IF(AND(Planungsübersicht!$E44>1990,TYPE(Planungsübersicht!$E44)=1),MAX(Planungsübersicht!I44:Z44)," ") -> 0
B19: =IF(AND(Planungsübersicht!$E41>1990,TYPE(Planungsübersicht!$E41)=1),Planungsübersicht!C41," ") | C19: =IF(AND(Planungsübersicht!$E41>1990,TYPE(Planungsübersicht!$E41)=1),Planungsübersicht!D41," ") | D19: =IF(AND(Planungsübersicht!$E41>1990,TYPE(Planungsübersicht!$E41)=1),Planungsübersicht!E41," ") | E19: =IF(AND(Planungsübersicht!$E41>1990,TYPE(Planungsübersicht!$E41)=1),Planungsübersicht!F41," ") | F19: =IF(AND(Planungsübersicht!$E41>1990,TYPE(Planungsübersicht!$E41)=1),Planungsübersicht!G41," ") | G19: =IF(AND(Planungsübersicht!$E41>1990,TYPE(Planungsübersicht!$E41)=1),Planungsübersicht!H41," ") | H19: =IF(AND(Planungsübersicht!$E41>1990,TYPE(Planungsübersicht!$E41)=1),MAX(Planungsübersicht!I41:Z41)," ")
B20: =IF(AND(Planungsübersicht!$E46>1990,TYPE(Planungsübersicht!$E46)=1),Planungsübersicht!C46," ") -> Ü10 | C20: =IF(AND(Planungsübersicht!$E46>1990,TYPE(Planungsübersicht!$E46)=1),Planungsübersicht!D46," ") -> Schulgelände naturnah gestalten (Anpassung an den Klimawandel) mit jährlichem Gartentag | D20: =IF(AND(Planungsübersicht!$E46>1990,TYPE(Planungsübersicht!$E46)=1),Planungsübersicht!E46," ") -> 2020 | E20: =IF(AND(Planungsübersicht!$E46>1990,TYPE(Planungsübersicht!$E46)=1),Planungsübersicht!F46," ") -> wird laufend umgesetzt | F20: =IF(AND(Planungsübersicht!$E46>1990,TYPE(Planungsübersicht!$E46)=1),Planungsübersicht!G46," ") -> Schulleitung/ Lotzin | G20: =IF(AND(Planungsübersicht!$E46>1990,TYPE(Planungsübersicht!$E46)=1),Planungsübersicht!H46," ") -> GBS, Lehrkräfte, Eltern, Hausmeister | H20: =IF(AND(Planungsübersicht!$E46>1990,TYPE(Planungsübersicht!$E46)=1),MAX(Planungsübersicht!I46:Z46)," ") -> 0
B21: =IF(AND(Planungsübersicht!$E43>1990,TYPE(Planungsübersicht!$E43)=1),Planungsübersicht!C43," ") | C21: =IF(AND(Planungsübersicht!$E43>1990,TYPE(Planungsübersicht!$E43)=1),Planungsübersicht!D43," ") | D21: =IF(AND(Planungsübersicht!$E43>1990,TYPE(Planungsübersicht!$E43)=1),Planungsübersicht!E43," ") | E21: =IF(AND(Planungsübersicht!$E43>1990,TYPE(Planungsübersicht!$E43)=1),Planungsübersicht!F43," ") | F21: =IF(AND(Planungsübersicht!$E43>1990,TYPE(Planungsübersicht!$E43)=1),Planungsübersicht!G43," ") | G21: =IF(AND(Planungsübersicht!$E43>1990,TYPE(Planungsübersicht!$E43)=1),Planungsübersicht!H43," ") | H21: =IF(AND(Planungsübersicht!$E43>1990,TYPE(Planungsübersicht!$E43)=1),MAX(Planungsübersicht!I43:Z43)," ")
B22: =IF(AND(Planungsübersicht!$E48>1990,TYPE(Planungsübersicht!$E48)=1),Planungsübersicht!C48," ") -> Ü11 | C22: =IF(AND(Planungsübersicht!$E48>1990,TYPE(Planungsübersicht!$E48)=1),Planungsübersicht!D48," ") -> Schulpartnerschaft mit Schule in Brasilien gibt Einblick in Situation vor Ort, z.B. Regenwaldbrände | D22: =IF(AND(Planungsübersicht!$E48>1990,TYPE(Planungsübersicht!$E48)=1),Planungsübersicht!E48," ") -> 2020 | E22: =IF(AND(Planungsübersicht!$E48>1990,TYPE(Planungsübersicht!$E48)=1),Planungsübersicht!F48," ") -> wird laufend umgesetzt | F22: =IF(AND(Planungsübersicht!$E48>1990,TYPE(Planungsübersicht!$E48)=1),Planungsübersicht!G48," ") -> Wöbeking | G22: =IF(AND(Planungsübersicht!$E48>1990,TYPE(Planungsübersicht!$E48)=1),Planungsübersicht!H48," ") -> 0 | H22: =IF(AND(Planungsübersicht!$E48>1990,TYPE(Planungsübersicht!$E48)=1),MAX(Planungsübersicht!I48:Z48)," ") -> 0
B23: =IF(AND(Planungsübersicht!$E45>1990,TYPE(Planungsübersicht!$E45)=1),Planungsübersicht!C45," ") | C23: =IF(AND(Planungsübersicht!$E45>1990,TYPE(Planungsübersicht!$E45)=1),Planungsübersicht!D45," ") | D23: =IF(AND(Planungsübersicht!$E45>1990,TYPE(Planungsübersicht!$E45)=1),Planungsübersicht!E45," ") | E23: =IF(AND(Planungsübersicht!$E45>1990,TYPE(Planungsübersicht!$E45)=1),Planungsübersicht!F45," ") | F23: =IF(AND(Planungsübersicht!$E45>1990,TYPE(Planungsübersicht!$E45)=1),Planungsübersicht!G45," ") | G23: =IF(AND(Planungsübersicht!$E45>1990,TYPE(Planungsübersicht!$E45)=1),Planungsübersicht!H45," ") | H23: =IF(AND(Planungsübersicht!$E45>1990,TYPE(Planungsübersicht!$E45)=1),MAX(Planungsübersicht!I45:Z45)," ")
B24: =IF(AND(Planungsübersicht!$E54>1990,TYPE(Planungsübersicht!$E54)=1),Planungsübersicht!C54," ") -> Ü14 | C24: =IF(AND(Planungsübersicht!$E54>1990,TYPE(Planungsübersicht!$E54)=1),Planungsübersicht!D54," ") -> NEU 2026: (RISA) Umleitung Regenwasser in das Grundwasser anstatt in das Abwassersiel, Renaturierung, Wasserrückhalteförderung | D24: =IF(AND(Planungsübersicht!$E54>1990,TYPE(Planungsübersicht!$E54)=1),Planungsübersicht!E54," ") -> 2026 | E24: =IF(AND(Planungsübersicht!$E54>1990,TYPE(Planungsübersicht!$E54)=1),Planungsübersicht!F54," ") -> umgesetzt | F24: =IF(AND(Planungsübersicht!$E54>1990,TYPE(Planungsübersicht!$E54)=1),Planungsübersicht!G54," ") -> Lotzin | G24: =IF(AND(Planungsübersicht!$E54>1990,TYPE(Planungsübersicht!$E54)=1),Planungsübersicht!H54," ") -> Hausmeister, Schulleitung, Hamburg Wasser | H24: =IF(AND(Planungsübersicht!$E54>1990,TYPE(Planungsübersicht!$E54)=1),MAX(Planungsübersicht!I54:Z54)," ") -> 0
B25: =IF(AND(Planungsübersicht!$E47>1990,TYPE(Planungsübersicht!$E47)=1),Planungsübersicht!C47," ") | C25: =IF(AND(Planungsübersicht!$E47>1990,TYPE(Planungsübersicht!$E47)=1),Planungsübersicht!D47," ") | D25: =IF(AND(Planungsübersicht!$E47>1990,TYPE(Planungsübersicht!$E47)=1),Planungsübersicht!E47," ") | E25: =IF(AND(Planungsübersicht!$E47>1990,TYPE(Planungsübersicht!$E47)=1),Planungsübersicht!F47," ") | F25: =IF(AND(Planungsübersicht!$E47>1990,TYPE(Planungsübersicht!$E47)=1),Planungsübersicht!G47," ") | G25: =IF(AND(Planungsübersicht!$E47>1990,TYPE(Planungsübersicht!$E47)=1),Planungsübersicht!H47," ") | H25: =IF(AND(Planungsübersicht!$E47>1990,TYPE(Planungsübersicht!$E47)=1),MAX(Planungsübersicht!I47:Z47)," ")
B26: =IF(AND(Planungsübersicht!$E66>1990,TYPE(Planungsübersicht!$E66)=1),Planungsübersicht!C66," ") -> W1 | C26: =IF(AND(Planungsübersicht!$E66>1990,TYPE(Planungsübersicht!$E66)=1),Planungsübersicht!D66," ") -> Stoßlüften: Fenster freigeben für vollständiges Öffnen (zwei Fenster pro Raum) | D26: =IF(AND(Planungsübersicht!$E66>1990,TYPE(Planungsübersicht!$E66)=1),Planungsübersicht!E66," ") -> 2020 | E26: =IF(AND(Planungsübersicht!$E66>1990,TYPE(Planungsübersicht!$E66)=1),Planungsübersicht!F66," ") -> umgesetzt | F26: =IF(AND(Planungsübersicht!$E66>1990,TYPE(Planungsübersicht!$E66)=1),Planungsübersicht!G66," ") -> Hausmeister | G26: KlassenlehrerInnen, SuS | H26: =IF(AND(Planungsübersicht!$E66>1990,TYPE(Planungsübersicht!$E66)=1),MAX(Planungsübersicht!I66:Z66)," ") -> 0
B27: =IF(AND(Planungsübersicht!$E49>1990,TYPE(Planungsübersicht!$E49)=1),Planungsübersicht!C49," ") | C27: =IF(AND(Planungsübersicht!$E49>1990,TYPE(Planungsübersicht!$E49)=1),Planungsübersicht!D49," ") | D27: =IF(AND(Planungsübersicht!$E49>1990,TYPE(Planungsübersicht!$E49)=1),Planungsübersicht!E49," ") | E27: =IF(AND(Planungsübersicht!$E49>1990,TYPE(Planungsübersicht!$E49)=1),Planungsübersicht!F49," ") | F27: =IF(AND(Planungsübersicht!$E49>1990,TYPE(Planungsübersicht!$E49)=1),Planungsübersicht!G49," ") | G27: =IF(AND(Planungsübersicht!$E49>1990,TYPE(Planungsübersicht!$E49)=1),Planungsübersicht!H49," ") | H27: =IF(AND(Planungsübersicht!$E49>1990,TYPE(Planungsübersicht!$E49)=1),MAX(Planungsübersicht!I49:Z49)," ")
B28: =IF(AND(Planungsübersicht!$E78>1990,TYPE(Planungsübersicht!$E78)=1),Planungsübersicht!C78," ") -> W7 | C28: =IF(AND(Planungsübersicht!$E78>1990,TYPE(Planungsübersicht!$E78)=1),Planungsübersicht!D78," ") -> Thermostate in den Fluren feststellen auf Stufe 1-2 (Fachbau) | D28: =IF(AND(Planungsübersicht!$E78>1990,TYPE(Planungsübersicht!$E78)=1),Planungsübersicht!E78," ") -> 2020 | E28: =IF(AND(Planungsübersicht!$E78>1990,TYPE(Planungsübersicht!$E78)=1),Planungsübersicht!F78," ") -> umgesetzt | F28: =IF(AND(Planungsübersicht!$E78>1990,TYPE(Planungsübersicht!$E78)=1),Planungsübersicht!G78," ") -> Hausmeister | G28: =IF(AND(Planungsübersicht!$E78>1990,TYPE(Planungsübersicht!$E78)=1),Planungsübersicht!H78," ") -> Schulbau Hamburg | H28: =IF(AND(Planungsübersicht!$E78>1990,TYPE(Planungsübersicht!$E78)=1),MAX(Planungsübersicht!I78:Z78)," ") -> 0
B29: =IF(AND(Planungsübersicht!$E55>1990,TYPE(Planungsübersicht!$E55)=1),Planungsübersicht!C55," ") | C29: =IF(AND(Planungsübersicht!$E55>1990,TYPE(Planungsübersicht!$E55)=1),Planungsübersicht!D55," ") | D29: =IF(AND(Planungsübersicht!$E55>1990,TYPE(Planungsübersicht!$E55)=1),Planungsübersicht!E55," ") | E29: =IF(AND(Planungsübersicht!$E55>1990,TYPE(Planungsübersicht!$E55)=1),Planungsübersicht!F55," ") | F29: =IF(AND(Planungsübersicht!$E55>1990,TYPE(Planungsübersicht!$E55)=1),Planungsübersicht!G55," ") | G29: =IF(AND(Planungsübersicht!$E55>1990,TYPE(Planungsübersicht!$E55)=1),Planungsübersicht!H55," ") | H29: =IF(AND(Planungsübersicht!$E55>1990,TYPE(Planungsübersicht!$E55)=1),MAX(Planungsübersicht!I55:Z55)," ")
B30: =IF(AND(Planungsübersicht!#REF!>1990,TYPE(Planungsübersicht!#REF!)=1),Planungsübersicht!#REF!," ") -> #REF! | C30: =IF(AND(Planungsübersicht!#REF!>1990,TYPE(Planungsübersicht!#REF!)=1),Planungsübersicht!#REF!," ") -> #REF! | D30: =IF(AND(Planungsübersicht!#REF!>1990,TYPE(Planungsübersicht!#REF!)=1),Planungsübersicht!#REF!," ") -> #REF! | E30: =IF(AND(Planungsübersicht!#REF!>1990,TYPE(Planungsübersicht!#REF!)=1),Planungsübersicht!#REF!," ") -> #REF! | F30: Lotzin | G30: =IF(AND(Planungsübersicht!#REF!>1990,TYPE(Planungsübersicht!#REF!)=1),Planungsübersicht!#REF!," ") -> #REF! | H30: =IF(AND(Planungsübersicht!#REF!>1990,TYPE(Planungsübersicht!#REF!)=1),MAX(Planungsübersicht!#REF!)," ") -> #REF!
B31: =IF(AND(Planungsübersicht!$E56>1990,TYPE(Planungsübersicht!$E56)=1),Planungsübersicht!C56," ") | C31: =IF(AND(Planungsübersicht!$E56>1990,TYPE(Planungsübersicht!$E56)=1),Planungsübersicht!D56," ") | D31: =IF(AND(Planungsübersicht!$E56>1990,TYPE(Planungsübersicht!$E56)=1),Planungsübersicht!E56," ") | E31: =IF(AND(Planungsübersicht!$E56>1990,TYPE(Planungsübersicht!$E56)=1),Planungsübersicht!F56," ") | F31: =IF(AND(Planungsübersicht!$E56>1990,TYPE(Planungsübersicht!$E56)=1),Planungsübersicht!G56," ") | G31: =IF(AND(Planungsübersicht!$E56>1990,TYPE(Planungsübersicht!$E56)=1),Planungsübersicht!H56," ") | H31: =IF(AND(Planungsübersicht!$E56>1990,TYPE(Planungsübersicht!$E56)=1),MAX(Planungsübersicht!I56:Z56)," ")
B32: =IF(AND(Planungsübersicht!$E57>1990,TYPE(Planungsübersicht!$E57)=1),Planungsübersicht!C57," ") | C32: =IF(AND(Planungsübersicht!$E57>1990,TYPE(Planungsübersicht!$E57)=1),Planungsübersicht!D57," ") | D32: =IF(AND(Planungsübersicht!$E57>1990,TYPE(Planungsübersicht!$E57)=1),Planungsübersicht!E57," ") | E32: =IF(AND(Planungsübersicht!$E57>1990,TYPE(Planungsübersicht!$E57)=1),Planungsübersicht!F57," ") | F32: =IF(AND(Planungsübersicht!$E57>1990,TYPE(Planungsübersicht!$E57)=1),Planungsübersicht!G57," ") | G32: =IF(AND(Planungsübersicht!$E57>1990,TYPE(Planungsübersicht!$E57)=1),Planungsübersicht!H57," ") | H32: =IF(AND(Planungsübersicht!$E57>1990,TYPE(Planungsübersicht!$E57)=1),MAX(Planungsübersicht!I57:Z57)," ")
B33: =IF(AND(Planungsübersicht!$E58>1990,TYPE(Planungsübersicht!$E58)=1),Planungsübersicht!C58," ") | C33: =IF(AND(Planungsübersicht!$E58>1990,TYPE(Planungsübersicht!$E58)=1),Planungsübersicht!D58," ") | D33: =IF(AND(Planungsübersicht!$E58>1990,TYPE(Planungsübersicht!$E58)=1),Planungsübersicht!E58," ") | E33: =IF(AND(Planungsübersicht!$E58>1990,TYPE(Planungsübersicht!$E58)=1),Planungsübersicht!F58," ") | F33: =IF(AND(Planungsübersicht!$E58>1990,TYPE(Planungsübersicht!$E58)=1),Planungsübersicht!G58," ") | G33: =IF(AND(Planungsübersicht!$E58>1990,TYPE(Planungsübersicht!$E58)=1),Planungsübersicht!H58," ") | H33: =IF(AND(Planungsübersicht!$E58>1990,TYPE(Planungsübersicht!$E58)=1),MAX(Planungsübersicht!I58:Z58)," ")
B34: =IF(AND(Planungsübersicht!$E59>1990,TYPE(Planungsübersicht!$E59)=1),Planungsübersicht!C59," ") | C34: =IF(AND(Planungsübersicht!$E59>1990,TYPE(Planungsübersicht!$E59)=1),Planungsübersicht!D59," ") | D34: =IF(AND(Planungsübersicht!$E59>1990,TYPE(Planungsübersicht!$E59)=1),Planungsübersicht!E59," ") | E34: =IF(AND(Planungsübersicht!$E59>1990,TYPE(Planungsübersicht!$E59)=1),Planungsübersicht!F59," ") | F34: =IF(AND(Planungsübersicht!$E59>1990,TYPE(Planungsübersicht!$E59)=1),Planungsübersicht!G59," ") | G34: =IF(AND(Planungsübersicht!$E59>1990,TYPE(Planungsübersicht!$E59)=1),Planungsübersicht!H59," ") | H34: =IF(AND(Planungsübersicht!$E59>1990,TYPE(Planungsübersicht!$E59)=1),MAX(Planungsübersicht!I59:Z59)," ")
B35: =IF(AND(Planungsübersicht!#REF!>1990,TYPE(Planungsübersicht!#REF!)=1),Planungsübersicht!#REF!," ") -> #REF! | C35: =IF(AND(Planungsübersicht!#REF!>1990,TYPE(Planungsübersicht!#REF!)=1),Planungsübersicht!#REF!," ") -> #REF! | D35: =IF(AND(Planungsübersicht!#REF!>1990,TYPE(Planungsübersicht!#REF!)=1),Planungsübersicht!#REF!," ") -> #REF! | E35: =IF(AND(Planungsübersicht!#REF!>1990,TYPE(Planungsübersicht!#REF!)=1),Planungsübersicht!#REF!," ") -> #REF! | F35: =IF(AND(Planungsübersicht!#REF!>1990,TYPE(Planungsübersicht!#REF!)=1),Planungsübersicht!#REF!," ") -> #REF! | G35: =IF(AND(Planungsübersicht!#REF!>1990,TYPE(Planungsübersicht!#REF!)=1),Planungsübersicht!#REF!," ") -> #REF! | H35: =IF(AND(Planungsübersicht!#REF!>1990,TYPE(Planungsübersicht!#REF!)=1),MAX(Planungsübersicht!#REF!)," ") -> #REF!
B36: =IF(AND(Planungsübersicht!$E60>1990,TYPE(Planungsübersicht!$E60)=1),Planungsübersicht!C60," ") | C36: =IF(AND(Planungsübersicht!$E60>1990,TYPE(Planungsübersicht!$E60)=1),Planungsübersicht!D60," ") | D36: =IF(AND(Planungsübersicht!$E60>1990,TYPE(Planungsübersicht!$E60)=1),Planungsübersicht!E60," ") | E36: =IF(AND(Planungsübersicht!$E60>1990,TYPE(Planungsübersicht!$E60)=1),Planungsübersicht!F60," ") | F36: =IF(AND(Planungsübersicht!$E60>1990,TYPE(Planungsübersicht!$E60)=1),Planungsübersicht!G60," ") | G36: =IF(AND(Planungsübersicht!$E60>1990,TYPE(Planungsübersicht!$E60)=1),Planungsübersicht!H60," ") | H36: =IF(AND(Planungsübersicht!$E60>1990,TYPE(Planungsübersicht!$E60)=1),MAX(Planungsübersicht!I60:Z60)," ")
B37: =IF(AND(Planungsübersicht!$E61>1990,TYPE(Planungsübersicht!$E61)=1),Planungsübersicht!C61," ") | C37: =IF(AND(Planungsübersicht!$E61>1990,TYPE(Planungsübersicht!$E61)=1),Planungsübersicht!D61," ") | D37: =IF(AND(Planungsübersicht!$E61>1990,TYPE(Planungsübersicht!$E61)=1),Planungsübersicht!E61," ") | E37: =IF(AND(Planungsübersicht!$E61>1990,TYPE(Planungsübersicht!$E61)=1),Planungsübersicht!F61," ") | F37: =IF(AND(Planungsübersicht!$E61>1990,TYPE(Planungsübersicht!$E61)=1),Planungsübersicht!G61," ") | G37: =IF(AND(Planungsübersicht!$E61>1990,TYPE(Planungsübersicht!$E61)=1),Planungsübersicht!H61," ") | H37: =IF(AND(Planungsübersicht!$E61>1990,TYPE(Planungsübersicht!$E61)=1),MAX(Planungsübersicht!I61:Z61)," ")
B38: =IF(AND(Planungsübersicht!$E62>1990,TYPE(Planungsübersicht!$E62)=1),Planungsübersicht!C62," ") | C38: =IF(AND(Planungsübersicht!$E62>1990,TYPE(Planungsübersicht!$E62)=1),Planungsübersicht!D62," ") | D38: =IF(AND(Planungsübersicht!$E62>1990,TYPE(Planungsübersicht!$E62)=1),Planungsübersicht!E62," ") | E38: =IF(AND(Planungsübersicht!$E62>1990,TYPE(Planungsübersicht!$E62)=1),Planungsübersicht!F62," ") | F38: =IF(AND(Planungsübersicht!$E62>1990,TYPE(Planungsübersicht!$E62)=1),Planungsübersicht!G62," ") | G38: =IF(AND(Planungsübersicht!$E62>1990,TYPE(Planungsübersicht!$E62)=1),Planungsübersicht!H62," ") | H38: =IF(AND(Planungsübersicht!$E62>1990,TYPE(Planungsübersicht!$E62)=1),MAX(Planungsübersicht!I62:Z62)," ")
B39: =IF(AND(Planungsübersicht!$E63>1990,TYPE(Planungsübersicht!$E63)=1),Planungsübersicht!C63," ") | C39: =IF(AND(Planungsübersicht!$E63>1990,TYPE(Planungsübersicht!$E63)=1),Planungsübersicht!D63," ") | D39: =IF(AND(Planungsübersicht!$E63>1990,TYPE(Planungsübersicht!$E63)=1),Planungsübersicht!E63," ") | E39: =IF(AND(Planungsübersicht!$E63>1990,TYPE(Planungsübersicht!$E63)=1),Planungsübersicht!F63," ") | F39: =IF(AND(Planungsübersicht!$E63>1990,TYPE(Planungsübersicht!$E63)=1),Planungsübersicht!G63," ") | G39: =IF(AND(Planungsübersicht!$E63>1990,TYPE(Planungsübersicht!$E63)=1),Planungsübersicht!H63," ") | H39: =IF(AND(Planungsübersicht!$E63>1990,TYPE(Planungsübersicht!$E63)=1),MAX(Planungsübersicht!I63:Z63)," ")
B40: =IF(AND(Planungsübersicht!$E64>1990,TYPE(Planungsübersicht!$E64)=1),Planungsübersicht!C64," ") | C40: =IF(AND(Planungsübersicht!$E64>1990,TYPE(Planungsübersicht!$E64)=1),Planungsübersicht!D64," ") | D40: =IF(AND(Planungsübersicht!$E64>1990,TYPE(Planungsübersicht!$E64)=1),Planungsübersicht!E64," ") | E40: =IF(AND(Planungsübersicht!$E64>1990,TYPE(Planungsübersicht!$E64)=1),Planungsübersicht!F64," ") | F40: =IF(AND(Planungsübersicht!$E64>1990,TYPE(Planungsübersicht!$E64)=1),Planungsübersicht!G64," ") | G40: =IF(AND(Planungsübersicht!$E64>1990,TYPE(Planungsübersicht!$E64)=1),Planungsübersicht!H64," ") | H40: =IF(AND(Planungsübersicht!$E64>1990,TYPE(Planungsübersicht!$E64)=1),MAX(Planungsübersicht!I64:Z64)," ")
B41: =IF(AND(Planungsübersicht!$E65>1990,TYPE(Planungsübersicht!$E65)=1),Planungsübersicht!C65," ") | C41: =IF(AND(Planungsübersicht!$E65>1990,TYPE(Planungsübersicht!$E65)=1),Planungsübersicht!D65," ") | D41: =IF(AND(Planungsübersicht!$E65>1990,TYPE(Planungsübersicht!$E65)=1),Planungsübersicht!E65," ") | E41: =IF(AND(Planungsübersicht!$E65>1990,TYPE(Planungsübersicht!$E65)=1),Planungsübersicht!F65," ") | F41: =IF(AND(Planungsübersicht!$E65>1990,TYPE(Planungsübersicht!$E65)=1),Planungsübersicht!G65," ") | G41: =IF(AND(Planungsübersicht!$E65>1990,TYPE(Planungsübersicht!$E65)=1),Planungsübersicht!H65," ") | H41: =IF(AND(Planungsübersicht!$E65>1990,TYPE(Planungsübersicht!$E65)=1),MAX(Planungsübersicht!I65:Z65)," ")
B42: =IF(AND(Planungsübersicht!$E102>1990,TYPE(Planungsübersicht!$E102)=1),Planungsübersicht!C102," ") -> S1 | C42: =IF(AND(Planungsübersicht!$E102>1990,TYPE(Planungsübersicht!$E102)=1),Planungsübersicht!D102," ") -> Lichtschalter beschriften und mit Ausschalthinweisen versehen | D42: =IF(AND(Planungsübersicht!$E102>1990,TYPE(Planungsübersicht!$E102)=1),Planungsübersicht!E102," ") -> 2020 | E42: =IF(AND(Planungsübersicht!$E102>1990,TYPE(Planungsübersicht!$E102)=1),Planungsübersicht!F102," ") -> umgesetzt | F42: =IF(AND(Planungsübersicht!$E102>1990,TYPE(Planungsübersicht!$E102)=1),Planungsübersicht!G102," ") -> Schülerbotschafter | G42: =IF(AND(Planungsübersicht!$E102>1990,TYPE(Planungsübersicht!$E102)=1),Planungsübersicht!H102," ") -> Klassenlehrer/ Schüler | H42: =IF(AND(Planungsübersicht!$E102>1990,TYPE(Planungsübersicht!$E102)=1),MAX(Planungsübersicht!I102:Z102)," ") -> 0
B43: =IF(AND(Planungsübersicht!$E67>1990,TYPE(Planungsübersicht!$E67)=1),Planungsübersicht!C67," ") | C43: =IF(AND(Planungsübersicht!$E67>1990,TYPE(Planungsübersicht!$E67)=1),Planungsübersicht!D67," ") | D43: =IF(AND(Planungsübersicht!$E67>1990,TYPE(Planungsübersicht!$E67)=1),Planungsübersicht!E67," ") | E43: =IF(AND(Planungsübersicht!$E67>1990,TYPE(Planungsübersicht!$E67)=1),Planungsübersicht!F67," ") | F43: =IF(AND(Planungsübersicht!$E67>1990,TYPE(Planungsübersicht!$E67)=1),Planungsübersicht!G67," ") | G43: =IF(AND(Planungsübersicht!$E67>1990,TYPE(Planungsübersicht!$E67)=1),Planungsübersicht!H67," ") | H43: =IF(AND(Planungsübersicht!$E67>1990,TYPE(Planungsübersicht!$E67)=1),MAX(Planungsübersicht!I67:Z67)," ")
B44: =IF(AND(Planungsübersicht!$E110>1990,TYPE(Planungsübersicht!$E110)=1),Planungsübersicht!C110," ") -> S5 | C44: =IF(AND(Planungsübersicht!$E110>1990,TYPE(Planungsübersicht!$E110)=1),Planungsübersicht!D110," ") -> Energiespareinstellungen von Medien- und IT-Geräten aktivieren und nutzen (Smartboards auf Eco-Modus, Rechner fahren automatisch herunter) | D44: =IF(AND(Planungsübersicht!$E110>1990,TYPE(Planungsübersicht!$E110)=1),Planungsübersicht!E110," ") -> 2020 | E44: =IF(AND(Planungsübersicht!$E110>1990,TYPE(Planungsübersicht!$E110)=1),Planungsübersicht!F110," ") -> in Umsetzung (Mitte) | F44: =IF(AND(Planungsübersicht!$E110>1990,TYPE(Planungsübersicht!$E110)=1),Planungsübersicht!G110," ") -> Teichmann | G44: =IF(AND(Planungsübersicht!$E110>1990,TYPE(Planungsübersicht!$E110)=1),Planungsübersicht!H110," ") -> Schröder | H44: =IF(AND(Planungsübersicht!$E110>1990,TYPE(Planungsübersicht!$E110)=1),MAX(Planungsübersicht!I110:Z110)," ") -> 0
B45: =IF(AND(Planungsübersicht!$E69>1990,TYPE(Planungsübersicht!$E69)=1),Planungsübersicht!C69," ") | C45: =IF(AND(Planungsübersicht!$E69>1990,TYPE(Planungsübersicht!$E69)=1),Planungsübersicht!D69," ") | D45: =IF(AND(Planungsübersicht!$E69>1990,TYPE(Planungsübersicht!$E69)=1),Planungsübersicht!E69," ") | E45: =IF(AND(Planungsübersicht!$E69>1990,TYPE(Planungsübersicht!$E69)=1),Planungsübersicht!F69," ") | F45: =IF(AND(Planungsübersicht!$E69>1990,TYPE(Planungsübersicht!$E69)=1),Planungsübersicht!G69," ") | G45: =IF(AND(Planungsübersicht!$E69>1990,TYPE(Planungsübersicht!$E69)=1),Planungsübersicht!H69," ") | H45: =IF(AND(Planungsübersicht!$E69>1990,TYPE(Planungsübersicht!$E69)=1),MAX(Planungsübersicht!I69:Z69)," ")
B46: =IF(AND(Planungsübersicht!$E118>1990,TYPE(Planungsübersicht!$E118)=1),Planungsübersicht!C118," ") -> S9 | C46: =IF(AND(Planungsübersicht!$E118>1990,TYPE(Planungsübersicht!$E118)=1),Planungsübersicht!D118," ") -> Die Drucker in den Klassen möglichst zusammenlegen und mit Zeitschaltuhren ausstatten | D46: =IF(AND(Planungsübersicht!$E118>1990,TYPE(Planungsübersicht!$E118)=1),Planungsübersicht!E118," ") -> 2020 | E46: =IF(AND(Planungsübersicht!$E118>1990,TYPE(Planungsübersicht!$E118)=1),Planungsübersicht!F118," ") -> umgesetzt | F46: =IF(AND(Planungsübersicht!$E118>1990,TYPE(Planungsübersicht!$E118)=1),Planungsübersicht!G118," ") -> Schröder | G46: =IF(AND(Planungsübersicht!$E118>1990,TYPE(Planungsübersicht!$E118)=1),Planungsübersicht!H118," ") -> Teichmann | H46: =IF(AND(Planungsübersicht!$E118>1990,TYPE(Planungsübersicht!$E118)=1),MAX(Planungsübersicht!I118:Z118)," ") -> 0
B47: =IF(AND(Planungsübersicht!$E71>1990,TYPE(Planungsübersicht!$E71)=1),Planungsübersicht!C71," ") | C47: =IF(AND(Planungsübersicht!$E71>1990,TYPE(Planungsübersicht!$E71)=1),Planungsübersicht!D71," ") | D47: =IF(AND(Planungsübersicht!$E71>1990,TYPE(Planungsübersicht!$E71)=1),Planungsübersicht!E71," ") | E47: =IF(AND(Planungsübersicht!$E71>1990,TYPE(Planungsübersicht!$E71)=1),Planungsübersicht!F71," ") | F47: =IF(AND(Planungsübersicht!$E71>1990,TYPE(Planungsübersicht!$E71)=1),Planungsübersicht!G71," ") | G47: =IF(AND(Planungsübersicht!$E71>1990,TYPE(Planungsübersicht!$E71)=1),Planungsübersicht!H71," ") | H47: =IF(AND(Planungsübersicht!$E71>1990,TYPE(Planungsübersicht!$E71)=1),MAX(Planungsübersicht!I71:Z71)," ")
B48: =IF(AND(Planungsübersicht!$E120>1990,TYPE(Planungsübersicht!$E120)=1),Planungsübersicht!C120," ") -> S10 | C48: =IF(AND(Planungsübersicht!$E120>1990,TYPE(Planungsübersicht!$E120)=1),Planungsübersicht!D120," ") -> Thema Strom und Strom sparen im Sachunterricht | D48: =IF(AND(Planungsübersicht!$E120>1990,TYPE(Planungsübersicht!$E120)=1),Planungsübersicht!E120," ") -> 2020 | E48: =IF(AND(Planungsübersicht!$E120>1990,TYPE(Planungsübersicht!$E120)=1),Planungsübersicht!F120," ") -> wird laufend umgesetzt | F48: =IF(AND(Planungsübersicht!$E120>1990,TYPE(Planungsübersicht!$E120)=1),Planungsübersicht!G120," ") -> Kahm | G48: =IF(AND(Planungsübersicht!$E120>1990,TYPE(Planungsübersicht!$E120)=1),Planungsübersicht!H120," ") -> Klassenlehrer | H48: =IF(AND(Planungsübersicht!$E120>1990,TYPE(Planungsübersicht!$E120)=1),MAX(Planungsübersicht!I120:Z120)," ") -> 0
B49: =IF(AND(Planungsübersicht!$E73>1990,TYPE(Planungsübersicht!$E73)=1),Planungsübersicht!C73," ") | C49: =IF(AND(Planungsübersicht!$E73>1990,TYPE(Planungsübersicht!$E73)=1),Planungsübersicht!D73," ") | D49: =IF(AND(Planungsübersicht!$E73>1990,TYPE(Planungsübersicht!$E73)=1),Planungsübersicht!E73," ") | E49: =IF(AND(Planungsübersicht!$E73>1990,TYPE(Planungsübersicht!$E73)=1),Planungsübersicht!F73," ") | F49: =IF(AND(Planungsübersicht!$E73>1990,TYPE(Planungsübersicht!$E73)=1),Planungsübersicht!G73," ") | G49: =IF(AND(Planungsübersicht!$E73>1990,TYPE(Planungsübersicht!$E73)=1),Planungsübersicht!H73," ") | H49: =IF(AND(Planungsübersicht!$E73>1990,TYPE(Planungsübersicht!$E73)=1),MAX(Planungsübersicht!I73:Z73)," ")
B50: =IF(AND(Planungsübersicht!$E138>1990,TYPE(Planungsübersicht!$E138)=1),Planungsübersicht!C138," ") -> A1 | C50: =IF(AND(Planungsübersicht!$E138>1990,TYPE(Planungsübersicht!$E138)=1),Planungsübersicht!D138," ") -> Mülltrennung auf weitere Bereiche ausweiten | D50: =IF(AND(Planungsübersicht!$E138>1990,TYPE(Planungsübersicht!$E138)=1),Planungsübersicht!E138," ") -> 2020 | E50: =IF(AND(Planungsübersicht!$E138>1990,TYPE(Planungsübersicht!$E138)=1),Planungsübersicht!F138," ") -> wird laufend umgesetzt | F50: =IF(AND(Planungsübersicht!$E138>1990,TYPE(Planungsübersicht!$E138)=1),Planungsübersicht!G138," ") -> Kahm | G50: =IF(AND(Planungsübersicht!$E138>1990,TYPE(Planungsübersicht!$E138)=1),Planungsübersicht!H138," ") -> Klassenlehrer, SuS, Reinigungskräfte | H50: =IF(AND(Planungsübersicht!$E138>1990,TYPE(Planungsübersicht!$E138)=1),MAX(Planungsübersicht!I138:Z138)," ") -> 0
B51: =IF(AND(Planungsübersicht!$E75>1990,TYPE(Planungsübersicht!$E75)=1),Planungsübersicht!C75," ") | C51: =IF(AND(Planungsübersicht!$E75>1990,TYPE(Planungsübersicht!$E75)=1),Planungsübersicht!D75," ") | D51: =IF(AND(Planungsübersicht!$E75>1990,TYPE(Planungsübersicht!$E75)=1),Planungsübersicht!E75," ") | E51: =IF(AND(Planungsübersicht!$E75>1990,TYPE(Planungsübersicht!$E75)=1),Planungsübersicht!F75," ") | F51: =IF(AND(Planungsübersicht!$E75>1990,TYPE(Planungsübersicht!$E75)=1),Planungsübersicht!G75," ") | G51: =IF(AND(Planungsübersicht!$E75>1990,TYPE(Planungsübersicht!$E75)=1),Planungsübersicht!H75," ") | H51: =IF(AND(Planungsübersicht!$E75>1990,TYPE(Planungsübersicht!$E75)=1),MAX(Planungsübersicht!I75:Z75)," ")
B52: =IF(AND(Planungsübersicht!$E140>1990,TYPE(Planungsübersicht!$E140)=1),Planungsübersicht!C140," ") -> A2 | C52: =IF(AND(Planungsübersicht!$E140>1990,TYPE(Planungsübersicht!$E140)=1),Planungsübersicht!D140," ") -> Eine Sammelstation für ausgewählte Wertstoffe einrichten (z.B. Stifte, Batterien, Deckel, Kork) | D52: =IF(AND(Planungsübersicht!$E140>1990,TYPE(Planungsübersicht!$E140)=1),Planungsübersicht!E140," ") -> 2020 | E52: =IF(AND(Planungsübersicht!$E140>1990,TYPE(Planungsübersicht!$E140)=1),Planungsübersicht!F140," ") -> umgesetzt | F52: =IF(AND(Planungsübersicht!$E140>1990,TYPE(Planungsübersicht!$E140)=1),Planungsübersicht!G140," ") -> Elternrat | G52: =IF(AND(Planungsübersicht!$E140>1990,TYPE(Planungsübersicht!$E140)=1),Planungsübersicht!H140," ") -> Schulgemeinschaft | H52: =IF(AND(Planungsübersicht!$E140>1990,TYPE(Planungsübersicht!$E140)=1),MAX(Planungsübersicht!I140:Z140)," ") -> 0
B53: =IF(AND(Planungsübersicht!$E77>1990,TYPE(Planungsübersicht!$E77)=1),Planungsübersicht!C77," ") | C53: =IF(AND(Planungsübersicht!$E77>1990,TYPE(Planungsübersicht!$E77)=1),Planungsübersicht!D77," ") | D53: =IF(AND(Planungsübersicht!$E77>1990,TYPE(Planungsübersicht!$E77)=1),Planungsübersicht!E77," ") | E53: =IF(AND(Planungsübersicht!$E77>1990,TYPE(Planungsübersicht!$E77)=1),Planungsübersicht!F77," ") | F53: =IF(AND(Planungsübersicht!$E77>1990,TYPE(Planungsübersicht!$E77)=1),Planungsübersicht!G77," ") | G53: =IF(AND(Planungsübersicht!$E77>1990,TYPE(Planungsübersicht!$E77)=1),Planungsübersicht!H77," ") | H53: =IF(AND(Planungsübersicht!$E77>1990,TYPE(Planungsübersicht!$E77)=1),MAX(Planungsübersicht!I77:Z77)," ")
B54: =IF(AND(Planungsübersicht!$E142>1990,TYPE(Planungsübersicht!$E142)=1),Planungsübersicht!C142," ") -> A3 | C54: =IF(AND(Planungsübersicht!$E142>1990,TYPE(Planungsübersicht!$E142)=1),Planungsübersicht!D142," ") -> Doppelseitig kopieren und drucken als Standard etablieren, Kopien wenn möglich vermeiden | D54: =IF(AND(Planungsübersicht!$E142>1990,TYPE(Planungsübersicht!$E142)=1),Planungsübersicht!E142," ") -> 2020 | E54: =IF(AND(Planungsübersicht!$E142>1990,TYPE(Planungsübersicht!$E142)=1),Planungsübersicht!F142," ") -> wird laufend umgesetzt | F54: =IF(AND(Planungsübersicht!$E142>1990,TYPE(Planungsübersicht!$E142)=1),Planungsübersicht!G142," ") -> Schröder | G54: =IF(AND(Planungsübersicht!$E142>1990,TYPE(Planungsübersicht!$E142)=1),Planungsübersicht!H142," ") -> Kollegium | H54: =IF(AND(Planungsübersicht!$E142>1990,TYPE(Planungsübersicht!$E142)=1),MAX(Planungsübersicht!I142:Z142)," ") -> 0
B55: =IF(AND(Planungsübersicht!$E79>1990,TYPE(Planungsübersicht!$E79)=1),Planungsübersicht!C79," ") | C55: =IF(AND(Planungsübersicht!$E79>1990,TYPE(Planungsübersicht!$E79)=1),Planungsübersicht!D79," ") | D55: =IF(AND(Planungsübersicht!$E79>1990,TYPE(Planungsübersicht!$E79)=1),Planungsübersicht!E79," ") | E55: =IF(AND(Planungsübersicht!$E79>1990,TYPE(Planungsübersicht!$E79)=1),Planungsübersicht!F79," ") | F55: =IF(AND(Planungsübersicht!$E79>1990,TYPE(Planungsübersicht!$E79)=1),Planungsübersicht!G79," ") | G55: =IF(AND(Planungsübersicht!$E79>1990,TYPE(Planungsübersicht!$E79)=1),Planungsübersicht!H79," ") | H55: =IF(AND(Planungsübersicht!$E79>1990,TYPE(Planungsübersicht!$E79)=1),MAX(Planungsübersicht!I79:Z79)," ")
B56: =IF(AND(Planungsübersicht!$E144>1990,TYPE(Planungsübersicht!$E144)=1),Planungsübersicht!C144," ") -> A4 | C56: =IF(AND(Planungsübersicht!$E144>1990,TYPE(Planungsübersicht!$E144)=1),Planungsübersicht!D144," ") -> Fehldrucke sammeln und weiterverwenden, z.B. als Notizzettel oder zu Notizbüchern gebunden | D56: =IF(AND(Planungsübersicht!$E144>1990,TYPE(Planungsübersicht!$E144)=1),Planungsübersicht!E144," ") -> 2020 | E56: =IF(AND(Planungsübersicht!$E144>1990,TYPE(Planungsübersicht!$E144)=1),Planungsübersicht!F144," ") -> wird laufend umgesetzt | F56: =IF(AND(Planungsübersicht!$E144>1990,TYPE(Planungsübersicht!$E144)=1),Planungsübersicht!G144," ") -> Teichmann | G56: =IF(AND(Planungsübersicht!$E144>1990,TYPE(Planungsübersicht!$E144)=1),Planungsübersicht!H144," ") -> Kollegium | H56: =IF(AND(Planungsübersicht!$E144>1990,TYPE(Planungsübersicht!$E144)=1),MAX(Planungsübersicht!I144:Z144)," ") -> 0
B57: =IF(AND(Planungsübersicht!$E81>1990,TYPE(Planungsübersicht!$E81)=1),Planungsübersicht!C81," ") | C57: =IF(AND(Planungsübersicht!$E81>1990,TYPE(Planungsübersicht!$E81)=1),Planungsübersicht!D81," ") | D57: =IF(AND(Planungsübersicht!$E81>1990,TYPE(Planungsübersicht!$E81)=1),Planungsübersicht!E81," ") | E57: =IF(AND(Planungsübersicht!$E81>1990,TYPE(Planungsübersicht!$E81)=1),Planungsübersicht!F81," ") | F57: =IF(AND(Planungsübersicht!$E81>1990,TYPE(Planungsübersicht!$E81)=1),Planungsübersicht!G81," ") | G57: =IF(AND(Planungsübersicht!$E81>1990,TYPE(Planungsübersicht!$E81)=1),Planungsübersicht!H81," ") | H57: =IF(AND(Planungsübersicht!$E81>1990,TYPE(Planungsübersicht!$E81)=1),MAX(Planungsübersicht!I81:Z81)," ")
B58: =IF(AND(Planungsübersicht!$E152>1990,TYPE(Planungsübersicht!$E152)=1),Planungsübersicht!C152," ") -> A8 | C58: =IF(AND(Planungsübersicht!$E152>1990,TYPE(Planungsübersicht!$E152)=1),Planungsübersicht!D152," ") -> Hamburg räumt auf | D58: =IF(AND(Planungsübersicht!$E152>1990,TYPE(Planungsübersicht!$E152)=1),Planungsübersicht!E152," ") -> 2020 | E58: =IF(AND(Planungsübersicht!$E152>1990,TYPE(Planungsübersicht!$E152)=1),Planungsübersicht!F152," ") -> wird laufend umgesetzt | F58: =IF(AND(Planungsübersicht!$E152>1990,TYPE(Planungsübersicht!$E152)=1),Planungsübersicht!G152," ") -> Isengardt | G58: =IF(AND(Planungsübersicht!$E152>1990,TYPE(Planungsübersicht!$E152)=1),Planungsübersicht!H152," ") -> Schüler im Nachmittagsbereich | H58: =IF(AND(Planungsübersicht!$E152>1990,TYPE(Planungsübersicht!$E152)=1),MAX(Planungsübersicht!I152:Z152)," ") -> 0
B59: =IF(AND(Planungsübersicht!$E83>1990,TYPE(Planungsübersicht!$E83)=1),Planungsübersicht!C83," ") | C59: =IF(AND(Planungsübersicht!$E83>1990,TYPE(Planungsübersicht!$E83)=1),Planungsübersicht!D83," ") | D59: =IF(AND(Planungsübersicht!$E83>1990,TYPE(Planungsübersicht!$E83)=1),Planungsübersicht!E83," ") | E59: =IF(AND(Planungsübersicht!$E83>1990,TYPE(Planungsübersicht!$E83)=1),Planungsübersicht!F83," ") | F59: =IF(AND(Planungsübersicht!$E83>1990,TYPE(Planungsübersicht!$E83)=1),Planungsübersicht!G83," ") | G59: =IF(AND(Planungsübersicht!$E83>1990,TYPE(Planungsübersicht!$E83)=1),Planungsübersicht!H83," ") | H59: =IF(AND(Planungsübersicht!$E83>1990,TYPE(Planungsübersicht!$E83)=1),MAX(Planungsübersicht!I83:Z83)," ")
B60: =IF(AND(Planungsübersicht!$E94>1990,TYPE(Planungsübersicht!$E94)=1),Planungsübersicht!C94," ") | C60: =IF(AND(Planungsübersicht!$E94>1990,TYPE(Planungsübersicht!$E94)=1),Planungsübersicht!D94," ") | D60: =IF(AND(Planungsübersicht!$E94>1990,TYPE(Planungsübersicht!$E94)=1),Planungsübersicht!E94," ") | E60: =IF(AND(Planungsübersicht!$E94>1990,TYPE(Planungsübersicht!$E94)=1),Planungsübersicht!F94," ") | F60: =IF(AND(Planungsübersicht!$E94>1990,TYPE(Planungsübersicht!$E94)=1),Planungsübersicht!G94," ") | G60: =IF(AND(Planungsübersicht!$E94>1990,TYPE(Planungsübersicht!$E94)=1),Planungsübersicht!H94," ") | H60: =IF(AND(Planungsübersicht!$E94>1990,TYPE(Planungsübersicht!$E94)=1),MAX(Planungsübersicht!I94:Z94)," ")
B61: =IF(AND(Planungsübersicht!$E85>1990,TYPE(Planungsübersicht!$E85)=1),Planungsübersicht!C85," ") | C61: =IF(AND(Planungsübersicht!$E85>1990,TYPE(Planungsübersicht!$E85)=1),Planungsübersicht!D85," ") | D61: =IF(AND(Planungsübersicht!$E85>1990,TYPE(Planungsübersicht!$E85)=1),Planungsübersicht!E85," ") | E61: =IF(AND(Planungsübersicht!$E85>1990,TYPE(Planungsübersicht!$E85)=1),Planungsübersicht!F85," ") | F61: =IF(AND(Planungsübersicht!$E85>1990,TYPE(Planungsübersicht!$E85)=1),Planungsübersicht!G85," ") | G61: =IF(AND(Planungsübersicht!$E85>1990,TYPE(Planungsübersicht!$E85)=1),Planungsübersicht!H85," ") | H61: =IF(AND(Planungsübersicht!$E85>1990,TYPE(Planungsübersicht!$E85)=1),MAX(Planungsübersicht!I85:Z85)," ")
B62: =IF(AND(Planungsübersicht!$E154>1990,TYPE(Planungsübersicht!$E154)=1),Planungsübersicht!C154," ") -> A9 | C62: =IF(AND(Planungsübersicht!$E154>1990,TYPE(Planungsübersicht!$E154)=1),Planungsübersicht!D154," ") -> Verpackungsmüll wird vermieden und andernfalls von SuS wieder mitgenommen | D62: =IF(AND(Planungsübersicht!$E154>1990,TYPE(Planungsübersicht!$E154)=1),Planungsübersicht!E154," ") -> 2020 | E62: =IF(AND(Planungsübersicht!$E154>1990,TYPE(Planungsübersicht!$E154)=1),Planungsübersicht!F154," ") -> wird laufend umgesetzt | F62: =IF(AND(Planungsübersicht!$E154>1990,TYPE(Planungsübersicht!$E154)=1),Planungsübersicht!G154," ") -> Hoffmann | G62: =IF(AND(Planungsübersicht!$E154>1990,TYPE(Planungsübersicht!$E154)=1),Planungsübersicht!H154," ") -> Schüler | H62: =IF(AND(Planungsübersicht!$E154>1990,TYPE(Planungsübersicht!$E154)=1),MAX(Planungsübersicht!I154:Z154)," ") -> 0
B63: =IF(AND(Planungsübersicht!$E87>1990,TYPE(Planungsübersicht!$E87)=1),Planungsübersicht!C87," ") | C63: =IF(AND(Planungsübersicht!$E87>1990,TYPE(Planungsübersicht!$E87)=1),Planungsübersicht!D87," ") | D63: =IF(AND(Planungsübersicht!$E87>1990,TYPE(Planungsübersicht!$E87)=1),Planungsübersicht!E87," ") | E63: =IF(AND(Planungsübersicht!$E87>1990,TYPE(Planungsübersicht!$E87)=1),Planungsübersicht!F87," ") | F63: =IF(AND(Planungsübersicht!$E87>1990,TYPE(Planungsübersicht!$E87)=1),Planungsübersicht!G87," ") | G63: =IF(AND(Planungsübersicht!$E87>1990,TYPE(Planungsübersicht!$E87)=1),Planungsübersicht!H87," ") | H63: =IF(AND(Planungsübersicht!$E87>1990,TYPE(Planungsübersicht!$E87)=1),MAX(Planungsübersicht!I87:Z87)," ")
B64: =IF(AND(Planungsübersicht!$E158>1990,TYPE(Planungsübersicht!$E158)=1),Planungsübersicht!C158," ") | C64: =IF(AND(Planungsübersicht!$E158>1990,TYPE(Planungsübersicht!$E158)=1),Planungsübersicht!D158," ") | D64: =IF(AND(Planungsübersicht!$E158>1990,TYPE(Planungsübersicht!$E158)=1),Planungsübersicht!E158," ") | E64: =IF(AND(Planungsübersicht!$E158>1990,TYPE(Planungsübersicht!$E158)=1),Planungsübersicht!F158," ") | F64: =IF(AND(Planungsübersicht!$E158>1990,TYPE(Planungsübersicht!$E158)=1),Planungsübersicht!G158," ") | G64: =IF(AND(Planungsübersicht!$E158>1990,TYPE(Planungsübersicht!$E158)=1),Planungsübersicht!H158," ") | H64: =IF(AND(Planungsübersicht!$E158>1990,TYPE(Planungsübersicht!$E158)=1),MAX(Planungsübersicht!I158:Z158)," ")
B65: =IF(AND(Planungsübersicht!$E89>1990,TYPE(Planungsübersicht!$E89)=1),Planungsübersicht!C89," ") | C65: =IF(AND(Planungsübersicht!$E89>1990,TYPE(Planungsübersicht!$E89)=1),Planungsübersicht!D89," ") | D65: =IF(AND(Planungsübersicht!$E89>1990,TYPE(Planungsübersicht!$E89)=1),Planungsübersicht!E89," ") | E65: =IF(AND(Planungsübersicht!$E89>1990,TYPE(Planungsübersicht!$E89)=1),Planungsübersicht!F89," ") | F65: =IF(AND(Planungsübersicht!$E89>1990,TYPE(Planungsübersicht!$E89)=1),Planungsübersicht!G89," ") | G65: =IF(AND(Planungsübersicht!$E89>1990,TYPE(Planungsübersicht!$E89)=1),Planungsübersicht!H89," ") | H65: =IF(AND(Planungsübersicht!$E89>1990,TYPE(Planungsübersicht!$E89)=1),MAX(Planungsübersicht!I89:Z89)," ")
B66: =IF(AND(Planungsübersicht!$E90>1990,TYPE(Planungsübersicht!$E90)=1),Planungsübersicht!C90," ") | C66: =IF(AND(Planungsübersicht!$E90>1990,TYPE(Planungsübersicht!$E90)=1),Planungsübersicht!D90," ") | D66: =IF(AND(Planungsübersicht!$E90>1990,TYPE(Planungsübersicht!$E90)=1),Planungsübersicht!E90," ") | E66: =IF(AND(Planungsübersicht!$E90>1990,TYPE(Planungsübersicht!$E90)=1),Planungsübersicht!F90," ") | F66: =IF(AND(Planungsübersicht!$E90>1990,TYPE(Planungsübersicht!$E90)=1),Planungsübersicht!G90," ") | G66: =IF(AND(Planungsübersicht!$E90>1990,TYPE(Planungsübersicht!$E90)=1),Planungsübersicht!H90," ") | H66: =IF(AND(Planungsübersicht!$E90>1990,TYPE(Planungsübersicht!$E90)=1),MAX(Planungsübersicht!I90:Z90)," ")
B67: =IF(AND(Planungsübersicht!$E91>1990,TYPE(Planungsübersicht!$E91)=1),Planungsübersicht!C91," ") | C67: =IF(AND(Planungsübersicht!$E91>1990,TYPE(Planungsübersicht!$E91)=1),Planungsübersicht!D91," ") | D67: =IF(AND(Planungsübersicht!$E91>1990,TYPE(Planungsübersicht!$E91)=1),Planungsübersicht!E91," ") | E67: =IF(AND(Planungsübersicht!$E91>1990,TYPE(Planungsübersicht!$E91)=1),Planungsübersicht!F91," ") | F67: =IF(AND(Planungsübersicht!$E91>1990,TYPE(Planungsübersicht!$E91)=1),Planungsübersicht!G91," ") | G67: =IF(AND(Planungsübersicht!$E91>1990,TYPE(Planungsübersicht!$E91)=1),Planungsübersicht!H91," ") | H67: =IF(AND(Planungsübersicht!$E91>1990,TYPE(Planungsübersicht!$E91)=1),MAX(Planungsübersicht!I91:Z91)," ")
B68: =IF(AND(Planungsübersicht!$E92>1990,TYPE(Planungsübersicht!$E92)=1),Planungsübersicht!C92," ") | C68: =IF(AND(Planungsübersicht!$E92>1990,TYPE(Planungsübersicht!$E92)=1),Planungsübersicht!D92," ") | D68: =IF(AND(Planungsübersicht!$E92>1990,TYPE(Planungsübersicht!$E92)=1),Planungsübersicht!E92," ") | E68: =IF(AND(Planungsübersicht!$E92>1990,TYPE(Planungsübersicht!$E92)=1),Planungsübersicht!F92," ") | F68: =IF(AND(Planungsübersicht!$E92>1990,TYPE(Planungsübersicht!$E92)=1),Planungsübersicht!G92," ") | G68: =IF(AND(Planungsübersicht!$E92>1990,TYPE(Planungsübersicht!$E92)=1),Planungsübersicht!H92," ") | H68: =IF(AND(Planungsübersicht!$E92>1990,TYPE(Planungsübersicht!$E92)=1),MAX(Planungsübersicht!I92:Z92)," ")
B69: =IF(AND(Planungsübersicht!$E93>1990,TYPE(Planungsübersicht!$E93)=1),Planungsübersicht!C93," ") | C69: =IF(AND(Planungsübersicht!$E93>1990,TYPE(Planungsübersicht!$E93)=1),Planungsübersicht!D93," ") | D69: =IF(AND(Planungsübersicht!$E93>1990,TYPE(Planungsübersicht!$E93)=1),Planungsübersicht!E93," ") | E69: =IF(AND(Planungsübersicht!$E93>1990,TYPE(Planungsübersicht!$E93)=1),Planungsübersicht!F93," ") | F69: =IF(AND(Planungsübersicht!$E93>1990,TYPE(Planungsübersicht!$E93)=1),Planungsübersicht!G93," ") | G69: =IF(AND(Planungsübersicht!$E93>1990,TYPE(Planungsübersicht!$E93)=1),Planungsübersicht!H93," ") | H69: =IF(AND(Planungsübersicht!$E93>1990,TYPE(Planungsübersicht!$E93)=1),MAX(Planungsübersicht!I93:Z93)," ")
B70: =IF(AND(Planungsübersicht!$E94>1990,TYPE(Planungsübersicht!$E94)=1),Planungsübersicht!C94," ") | C70: =IF(AND(Planungsübersicht!$E94>1990,TYPE(Planungsübersicht!$E94)=1),Planungsübersicht!D94," ") | D70: =IF(AND(Planungsübersicht!$E94>1990,TYPE(Planungsübersicht!$E94)=1),Planungsübersicht!E94," ") | E70: =IF(AND(Planungsübersicht!$E94>1990,TYPE(Planungsübersicht!$E94)=1),Planungsübersicht!F94," ") | F70: =IF(AND(Planungsübersicht!$E94>1990,TYPE(Planungsübersicht!$E94)=1),Planungsübersicht!G94," ") | G70: =IF(AND(Planungsübersicht!$E94>1990,TYPE(Planungsübersicht!$E94)=1),Planungsübersicht!H94," ") | H70: =IF(AND(Planungsübersicht!$E94>1990,TYPE(Planungsübersicht!$E94)=1),MAX(Planungsübersicht!I94:Z94)," ")
B71: =IF(AND(Planungsübersicht!$E95>1990,TYPE(Planungsübersicht!$E95)=1),Planungsübersicht!C95," ") | C71: =IF(AND(Planungsübersicht!$E95>1990,TYPE(Planungsübersicht!$E95)=1),Planungsübersicht!D95," ") | D71: =IF(AND(Planungsübersicht!$E95>1990,TYPE(Planungsübersicht!$E95)=1),Planungsübersicht!E95," ") | E71: =IF(AND(Planungsübersicht!$E95>1990,TYPE(Planungsübersicht!$E95)=1),Planungsübersicht!F95," ") | F71: =IF(AND(Planungsübersicht!$E95>1990,TYPE(Planungsübersicht!$E95)=1),Planungsübersicht!G95," ") | G71: =IF(AND(Planungsübersicht!$E95>1990,TYPE(Planungsübersicht!$E95)=1),Planungsübersicht!H95," ") | H71: =IF(AND(Planungsübersicht!$E95>1990,TYPE(Planungsübersicht!$E95)=1),MAX(Planungsübersicht!I95:Z95)," ")
B72: =IF(AND(Planungsübersicht!$E96>1990,TYPE(Planungsübersicht!$E96)=1),Planungsübersicht!C96," ") | C72: =IF(AND(Planungsübersicht!$E96>1990,TYPE(Planungsübersicht!$E96)=1),Planungsübersicht!D96," ") | D72: =IF(AND(Planungsübersicht!$E96>1990,TYPE(Planungsübersicht!$E96)=1),Planungsübersicht!E96," ") | E72: =IF(AND(Planungsübersicht!$E96>1990,TYPE(Planungsübersicht!$E96)=1),Planungsübersicht!F96," ") | F72: =IF(AND(Planungsübersicht!$E96>1990,TYPE(Planungsübersicht!$E96)=1),Planungsübersicht!G96," ") | G72: =IF(AND(Planungsübersicht!$E96>1990,TYPE(Planungsübersicht!$E96)=1),Planungsübersicht!H96," ") | H72: =IF(AND(Planungsübersicht!$E96>1990,TYPE(Planungsübersicht!$E96)=1),MAX(Planungsübersicht!I96:Z96)," ")
B73: =IF(AND(Planungsübersicht!$E97>1990,TYPE(Planungsübersicht!$E97)=1),Planungsübersicht!C97," ") | C73: =IF(AND(Planungsübersicht!$E97>1990,TYPE(Planungsübersicht!$E97)=1),Planungsübersicht!D97," ") | D73: =IF(AND(Planungsübersicht!$E97>1990,TYPE(Planungsübersicht!$E97)=1),Planungsübersicht!E97," ") | E73: =IF(AND(Planungsübersicht!$E97>1990,TYPE(Planungsübersicht!$E97)=1),Planungsübersicht!F97," ") | F73: =IF(AND(Planungsübersicht!$E97>1990,TYPE(Planungsübersicht!$E97)=1),Planungsübersicht!G97," ") | G73: =IF(AND(Planungsübersicht!$E97>1990,TYPE(Planungsübersicht!$E97)=1),Planungsübersicht!H97," ") | H73: =IF(AND(Planungsübersicht!$E97>1990,TYPE(Planungsübersicht!$E97)=1),MAX(Planungsübersicht!I97:Z97)," ")
B74: =IF(AND(Planungsübersicht!$E98>1990,TYPE(Planungsübersicht!$E98)=1),Planungsübersicht!C98," ") | C74: =IF(AND(Planungsübersicht!$E98>1990,TYPE(Planungsübersicht!$E98)=1),Planungsübersicht!D98," ") | D74: =IF(AND(Planungsübersicht!$E98>1990,TYPE(Planungsübersicht!$E98)=1),Planungsübersicht!E98," ") | E74: =IF(AND(Planungsübersicht!$E98>1990,TYPE(Planungsübersicht!$E98)=1),Planungsübersicht!F98," ") | F74: =IF(AND(Planungsübersicht!$E98>1990,TYPE(Planungsübersicht!$E98)=1),Planungsübersicht!G98," ") | G74: =IF(AND(Planungsübersicht!$E98>1990,TYPE(Planungsübersicht!$E98)=1),Planungsübersicht!H98," ") | H74: =IF(AND(Planungsübersicht!$E98>1990,TYPE(Planungsübersicht!$E98)=1),MAX(Planungsübersicht!I98:Z98)," ")
B75: =IF(AND(Planungsübersicht!$E99>1990,TYPE(Planungsübersicht!$E99)=1),Planungsübersicht!C99," ") | C75: =IF(AND(Planungsübersicht!$E99>1990,TYPE(Planungsübersicht!$E99)=1),Planungsübersicht!D99," ") | D75: =IF(AND(Planungsübersicht!$E99>1990,TYPE(Planungsübersicht!$E99)=1),Planungsübersicht!E99," ") | E75: =IF(AND(Planungsübersicht!$E99>1990,TYPE(Planungsübersicht!$E99)=1),Planungsübersicht!F99," ") | F75: =IF(AND(Planungsübersicht!$E99>1990,TYPE(Planungsübersicht!$E99)=1),Planungsübersicht!G99," ") | G75: =IF(AND(Planungsübersicht!$E99>1990,TYPE(Planungsübersicht!$E99)=1),Planungsübersicht!H99," ") | H75: =IF(AND(Planungsübersicht!$E99>1990,TYPE(Planungsübersicht!$E99)=1),MAX(Planungsübersicht!I99:Z99)," ")
B76: =IF(AND(Planungsübersicht!$E100>1990,TYPE(Planungsübersicht!$E100)=1),Planungsübersicht!C100," ") | C76: =IF(AND(Planungsübersicht!$E100>1990,TYPE(Planungsübersicht!$E100)=1),Planungsübersicht!D100," ") | D76: =IF(AND(Planungsübersicht!$E100>1990,TYPE(Planungsübersicht!$E100)=1),Planungsübersicht!E100," ") | E76: =IF(AND(Planungsübersicht!$E100>1990,TYPE(Planungsübersicht!$E100)=1),Planungsübersicht!F100," ") | F76: =IF(AND(Planungsübersicht!$E100>1990,TYPE(Planungsübersicht!$E100)=1),Planungsübersicht!G100," ") | G76: =IF(AND(Planungsübersicht!$E100>1990,TYPE(Planungsübersicht!$E100)=1),Planungsübersicht!H100," ") | H76: =IF(AND(Planungsübersicht!$E100>1990,TYPE(Planungsübersicht!$E100)=1),MAX(Planungsübersicht!I100:Z100)," ")
B77: =IF(AND(Planungsübersicht!$E101>1990,TYPE(Planungsübersicht!$E101)=1),Planungsübersicht!C101," ") | C77: =IF(AND(Planungsübersicht!$E101>1990,TYPE(Planungsübersicht!$E101)=1),Planungsübersicht!D101," ") | D77: =IF(AND(Planungsübersicht!$E101>1990,TYPE(Planungsübersicht!$E101)=1),Planungsübersicht!E101," ") | E77: =IF(AND(Planungsübersicht!$E101>1990,TYPE(Planungsübersicht!$E101)=1),Planungsübersicht!F101," ") | F77: =IF(AND(Planungsübersicht!$E101>1990,TYPE(Planungsübersicht!$E101)=1),Planungsübersicht!G101," ") | G77: =IF(AND(Planungsübersicht!$E101>1990,TYPE(Planungsübersicht!$E101)=1),Planungsübersicht!H101," ") | H77: =IF(AND(Planungsübersicht!$E101>1990,TYPE(Planungsübersicht!$E101)=1),MAX(Planungsübersicht!I101:Z101)," ")
B78: =IF(AND(Planungsübersicht!$E174>1990,TYPE(Planungsübersicht!$E174)=1),Planungsübersicht!C174," ") -> B1 | C78: =IF(AND(Planungsübersicht!$E174>1990,TYPE(Planungsübersicht!$E174)=1),Planungsübersicht!D174," ") -> Brotdosen und Trinkflaschen als Standard etablieren, z.B. durch Empfehlungen an die Eltern, eine verpackungsfreie Woche oder eigene Brotboxen | D78: =IF(AND(Planungsübersicht!$E174>1990,TYPE(Planungsübersicht!$E174)=1),Planungsübersicht!E174," ") -> 2020 | E78: =IF(AND(Planungsübersicht!$E174>1990,TYPE(Planungsübersicht!$E174)=1),Planungsübersicht!F174," ") -> wird laufend umgesetzt | F78: =IF(AND(Planungsübersicht!$E174>1990,TYPE(Planungsübersicht!$E174)=1),Planungsübersicht!G174," ") -> Hoffmann | G78: =IF(AND(Planungsübersicht!$E174>1990,TYPE(Planungsübersicht!$E174)=1),Planungsübersicht!H174," ") -> Schüler | H78: =IF(AND(Planungsübersicht!$E174>1990,TYPE(Planungsübersicht!$E174)=1),MAX(Planungsübersicht!I174:Z174)," ") -> 0
B79: =IF(AND(Planungsübersicht!$E103>1990,TYPE(Planungsübersicht!$E103)=1),Planungsübersicht!C103," ") | C79: =IF(AND(Planungsübersicht!$E103>1990,TYPE(Planungsübersicht!$E103)=1),Planungsübersicht!D103," ") | D79: =IF(AND(Planungsübersicht!$E103>1990,TYPE(Planungsübersicht!$E103)=1),Planungsübersicht!E103," ") | E79: =IF(AND(Planungsübersicht!$E103>1990,TYPE(Planungsübersicht!$E103)=1),Planungsübersicht!F103," ") | F79: =IF(AND(Planungsübersicht!$E103>1990,TYPE(Planungsübersicht!$E103)=1),Planungsübersicht!G103," ") | G79: =IF(AND(Planungsübersicht!$E103>1990,TYPE(Planungsübersicht!$E103)=1),Planungsübersicht!H103," ") | H79: =IF(AND(Planungsübersicht!$E103>1990,TYPE(Planungsübersicht!$E103)=1),MAX(Planungsübersicht!I103:Z103)," ")
B80: =IF(AND(Planungsübersicht!$E176>1990,TYPE(Planungsübersicht!$E176)=1),Planungsübersicht!C176," ") -> B2 | C80: =IF(AND(Planungsübersicht!$E176>1990,TYPE(Planungsübersicht!$E176)=1),Planungsübersicht!D176," ") -> Faire und nachhaltige Schulkleidung (GOTS zertifiziert) | D80: =IF(AND(Planungsübersicht!$E176>1990,TYPE(Planungsübersicht!$E176)=1),Planungsübersicht!E176," ") -> 2020 | E80: =IF(AND(Planungsübersicht!$E176>1990,TYPE(Planungsübersicht!$E176)=1),Planungsübersicht!F176," ") -> umgesetzt | F80: =IF(AND(Planungsübersicht!$E176>1990,TYPE(Planungsübersicht!$E176)=1),Planungsübersicht!G176," ") -> Bohne | G80: =IF(AND(Planungsübersicht!$E176>1990,TYPE(Planungsübersicht!$E176)=1),Planungsübersicht!H176," ") -> Schulverein | H80: =IF(AND(Planungsübersicht!$E176>1990,TYPE(Planungsübersicht!$E176)=1),MAX(Planungsübersicht!I176:Z176)," ") -> 0
B81: =IF(AND(Planungsübersicht!$E105>1990,TYPE(Planungsübersicht!$E105)=1),Planungsübersicht!C105," ") | C81: =IF(AND(Planungsübersicht!$E105>1990,TYPE(Planungsübersicht!$E105)=1),Planungsübersicht!D105," ") | D81: =IF(AND(Planungsübersicht!$E105>1990,TYPE(Planungsübersicht!$E105)=1),Planungsübersicht!E105," ") | E81: =IF(AND(Planungsübersicht!$E105>1990,TYPE(Planungsübersicht!$E105)=1),Planungsübersicht!F105," ") | F81: =IF(AND(Planungsübersicht!$E105>1990,TYPE(Planungsübersicht!$E105)=1),Planungsübersicht!G105," ") | G81: =IF(AND(Planungsübersicht!$E105>1990,TYPE(Planungsübersicht!$E105)=1),Planungsübersicht!H105," ") | H81: =IF(AND(Planungsübersicht!$E105>1990,TYPE(Planungsübersicht!$E105)=1),MAX(Planungsübersicht!I105:Z105)," ")
B82: =IF(AND(Planungsübersicht!$E178>1990,TYPE(Planungsübersicht!$E178)=1),Planungsübersicht!C178," ") -> B3 | C82: =IF(AND(Planungsübersicht!$E178>1990,TYPE(Planungsübersicht!$E178)=1),Planungsübersicht!D178," ") -> Plastikhefter durch Papphefter mit Blauem Engel ersetzt | D82: =IF(AND(Planungsübersicht!$E178>1990,TYPE(Planungsübersicht!$E178)=1),Planungsübersicht!E178," ") -> 2020 | E82: =IF(AND(Planungsübersicht!$E178>1990,TYPE(Planungsübersicht!$E178)=1),Planungsübersicht!F178," ") -> umgesetzt | F82: Elternrat | G82: =IF(AND(Planungsübersicht!$E178>1990,TYPE(Planungsübersicht!$E178)=1),Planungsübersicht!H178," ") -> Klassenlehrer | H82: =IF(AND(Planungsübersicht!$E178>1990,TYPE(Planungsübersicht!$E178)=1),MAX(Planungsübersicht!I178:Z178)," ") -> 0
B83: =IF(AND(Planungsübersicht!$E107>1990,TYPE(Planungsübersicht!$E107)=1),Planungsübersicht!C107," ") | C83: =IF(AND(Planungsübersicht!$E107>1990,TYPE(Planungsübersicht!$E107)=1),Planungsübersicht!D107," ") | D83: =IF(AND(Planungsübersicht!$E107>1990,TYPE(Planungsübersicht!$E107)=1),Planungsübersicht!E107," ") | E83: =IF(AND(Planungsübersicht!$E107>1990,TYPE(Planungsübersicht!$E107)=1),Planungsübersicht!F107," ") | F83: =IF(AND(Planungsübersicht!$E107>1990,TYPE(Planungsübersicht!$E107)=1),Planungsübersicht!G107," ") | G83: =IF(AND(Planungsübersicht!$E107>1990,TYPE(Planungsübersicht!$E107)=1),Planungsübersicht!H107," ") | H83: =IF(AND(Planungsübersicht!$E107>1990,TYPE(Planungsübersicht!$E107)=1),MAX(Planungsübersicht!I107:Z107)," ")
B84: =IF(AND(Planungsübersicht!$E214>1990,TYPE(Planungsübersicht!$E214)=1),Planungsübersicht!C214," ") -> E3 | C84: =IF(AND(Planungsübersicht!$E214>1990,TYPE(Planungsübersicht!$E214)=1),Planungsübersicht!D214," ") -> Schulgarten mit saisonalem Gemüse und Obst und Veredelung der Ernte | D84: =IF(AND(Planungsübersicht!$E214>1990,TYPE(Planungsübersicht!$E214)=1),Planungsübersicht!E214," ") -> 2020 | E84: =IF(AND(Planungsübersicht!$E214>1990,TYPE(Planungsübersicht!$E214)=1),Planungsübersicht!F214," ") -> wird laufend umgesetzt | F84: =IF(AND(Planungsübersicht!$E214>1990,TYPE(Planungsübersicht!$E214)=1),Planungsübersicht!G214," ") -> Lotzin | G84: =IF(AND(Planungsübersicht!$E214>1990,TYPE(Planungsübersicht!$E214)=1),Planungsübersicht!H214," ") -> Hoffmann | H84: =IF(AND(Planungsübersicht!$E214>1990,TYPE(Planungsübersicht!$E214)=1),MAX(Planungsübersicht!I214:Z214)," ") -> 0
B85: =IF(AND(Planungsübersicht!$E109>1990,TYPE(Planungsübersicht!$E109)=1),Planungsübersicht!C109," ") | C85: =IF(AND(Planungsübersicht!$E109>1990,TYPE(Planungsübersicht!$E109)=1),Planungsübersicht!D109," ") | D85: =IF(AND(Planungsübersicht!$E109>1990,TYPE(Planungsübersicht!$E109)=1),Planungsübersicht!E109," ") | E85: =IF(AND(Planungsübersicht!$E109>1990,TYPE(Planungsübersicht!$E109)=1),Planungsübersicht!F109," ") | F85: =IF(AND(Planungsübersicht!$E109>1990,TYPE(Planungsübersicht!$E109)=1),Planungsübersicht!G109," ") | G85: =IF(AND(Planungsübersicht!$E109>1990,TYPE(Planungsübersicht!$E109)=1),Planungsübersicht!H109," ") | H85: =IF(AND(Planungsübersicht!$E109>1990,TYPE(Planungsübersicht!$E109)=1),MAX(Planungsübersicht!I109:Z109)," ")
B86: =IF(AND(Planungsübersicht!$E246>1990,TYPE(Planungsübersicht!$E246)=1),Planungsübersicht!C246," ") -> M1 | C86: =IF(AND(Planungsübersicht!$E246>1990,TYPE(Planungsübersicht!$E246)=1),Planungsübersicht!D246," ") -> HVV Rallye | D86: =IF(AND(Planungsübersicht!$E246>1990,TYPE(Planungsübersicht!$E246)=1),Planungsübersicht!E246," ") -> 2020 | E86: =IF(AND(Planungsübersicht!$E246>1990,TYPE(Planungsübersicht!$E246)=1),Planungsübersicht!F246," ") -> wird laufend umgesetzt | F86: =IF(AND(Planungsübersicht!$E246>1990,TYPE(Planungsübersicht!$E246)=1),Planungsübersicht!G246," ") -> Kollegen Jg. 4 | G86: =IF(AND(Planungsübersicht!$E246>1990,TYPE(Planungsübersicht!$E246)=1),Planungsübersicht!H246," ") -> Kollegen Jg. 4 | H86: =IF(AND(Planungsübersicht!$E246>1990,TYPE(Planungsübersicht!$E246)=1),MAX(Planungsübersicht!I246:Z246)," ") -> 0
B87: =IF(AND(Planungsübersicht!$E111>1990,TYPE(Planungsübersicht!$E111)=1),Planungsübersicht!C111," ") | C87: =IF(AND(Planungsübersicht!$E111>1990,TYPE(Planungsübersicht!$E111)=1),Planungsübersicht!D111," ") | D87: =IF(AND(Planungsübersicht!$E111>1990,TYPE(Planungsübersicht!$E111)=1),Planungsübersicht!E111," ") | E87: =IF(AND(Planungsübersicht!$E111>1990,TYPE(Planungsübersicht!$E111)=1),Planungsübersicht!F111," ") | F87: =IF(AND(Planungsübersicht!$E111>1990,TYPE(Planungsübersicht!$E111)=1),Planungsübersicht!G111," ") | G87: =IF(AND(Planungsübersicht!$E111>1990,TYPE(Planungsübersicht!$E111)=1),Planungsübersicht!H111," ") | H87: =IF(AND(Planungsübersicht!$E111>1990,TYPE(Planungsübersicht!$E111)=1),MAX(Planungsübersicht!I111:Z111)," ")
B88: =IF(AND(Planungsübersicht!$E248>1990,TYPE(Planungsübersicht!$E248)=1),Planungsübersicht!C248," ") -> M2 | C88: =IF(AND(Planungsübersicht!$E248>1990,TYPE(Planungsübersicht!$E248)=1),Planungsübersicht!D248," ") -> Zu-Fuß-zur-Schule-Tage | D88: =IF(AND(Planungsübersicht!$E248>1990,TYPE(Planungsübersicht!$E248)=1),Planungsübersicht!E248," ") -> 2020 | E88: =IF(AND(Planungsübersicht!$E248>1990,TYPE(Planungsübersicht!$E248)=1),Planungsübersicht!F248," ") -> wird laufend umgesetzt | F88: =IF(AND(Planungsübersicht!$E248>1990,TYPE(Planungsübersicht!$E248)=1),Planungsübersicht!G248," ") -> Schulleitung | G88: =IF(AND(Planungsübersicht!$E248>1990,TYPE(Planungsübersicht!$E248)=1),Planungsübersicht!H248," ") -> Klassenlehrer, Schüler | H88: =IF(AND(Planungsübersicht!$E248>1990,TYPE(Planungsübersicht!$E248)=1),MAX(Planungsübersicht!I248:Z248)," ") -> 0
B89: =IF(AND(Planungsübersicht!$E115>1990,TYPE(Planungsübersicht!$E115)=1),Planungsübersicht!C115," ") | C89: =IF(AND(Planungsübersicht!$E115>1990,TYPE(Planungsübersicht!$E115)=1),Planungsübersicht!D115," ") | D89: =IF(AND(Planungsübersicht!$E115>1990,TYPE(Planungsübersicht!$E115)=1),Planungsübersicht!E115," ") | E89: =IF(AND(Planungsübersicht!$E115>1990,TYPE(Planungsübersicht!$E115)=1),Planungsübersicht!F115," ") | F89: =IF(AND(Planungsübersicht!$E115>1990,TYPE(Planungsübersicht!$E115)=1),Planungsübersicht!G115," ") | G89: =IF(AND(Planungsübersicht!$E115>1990,TYPE(Planungsübersicht!$E115)=1),Planungsübersicht!H115," ") | H89: =IF(AND(Planungsübersicht!$E115>1990,TYPE(Planungsübersicht!$E115)=1),MAX(Planungsübersicht!I115:Z115)," ")
B90: =IF(AND(Planungsübersicht!$E250>1990,TYPE(Planungsübersicht!$E250)=1),Planungsübersicht!C250," ") -> M3 | C90: =IF(AND(Planungsübersicht!$E250>1990,TYPE(Planungsübersicht!$E250)=1),Planungsübersicht!D250," ") -> Überdachter Lehrer-Fahrradparkplatz | D90: =IF(AND(Planungsübersicht!$E250>1990,TYPE(Planungsübersicht!$E250)=1),Planungsübersicht!E250," ") -> 2020 | E90: =IF(AND(Planungsübersicht!$E250>1990,TYPE(Planungsübersicht!$E250)=1),Planungsübersicht!F250," ") -> umgesetzt | F90: =IF(AND(Planungsübersicht!$E250>1990,TYPE(Planungsübersicht!$E250)=1),Planungsübersicht!G250," ") -> Schulleitung | G90: =IF(AND(Planungsübersicht!$E250>1990,TYPE(Planungsübersicht!$E250)=1),Planungsübersicht!H250," ") -> Elternrat | H90: =IF(AND(Planungsübersicht!$E250>1990,TYPE(Planungsübersicht!$E250)=1),MAX(Planungsübersicht!I250:Z250)," ") -> 0
B91: =IF(AND(Planungsübersicht!$E117>1990,TYPE(Planungsübersicht!$E117)=1),Planungsübersicht!C117," ") | C91: =IF(AND(Planungsübersicht!$E117>1990,TYPE(Planungsübersicht!$E117)=1),Planungsübersicht!D117," ") | D91: =IF(AND(Planungsübersicht!$E117>1990,TYPE(Planungsübersicht!$E117)=1),Planungsübersicht!E117," ") | E91: =IF(AND(Planungsübersicht!$E117>1990,TYPE(Planungsübersicht!$E117)=1),Planungsübersicht!F117," ") | F91: =IF(AND(Planungsübersicht!$E117>1990,TYPE(Planungsübersicht!$E117)=1),Planungsübersicht!G117," ") | G91: =IF(AND(Planungsübersicht!$E117>1990,TYPE(Planungsübersicht!$E117)=1),Planungsübersicht!H117," ") | H91: =IF(AND(Planungsübersicht!$E117>1990,TYPE(Planungsübersicht!$E117)=1),MAX(Planungsübersicht!I117:Z117)," ")
B92: =IF(AND(Planungsübersicht!$E252>1990,TYPE(Planungsübersicht!$E252)=1),Planungsübersicht!C252," ") -> M4 | C92: =IF(AND(Planungsübersicht!$E252>1990,TYPE(Planungsübersicht!$E252)=1),Planungsübersicht!D252," ") -> Fahrrad-Tag mit Fahrrad-Markt und Sicherheitatraining | D92: =IF(AND(Planungsübersicht!$E252>1990,TYPE(Planungsübersicht!$E252)=1),Planungsübersicht!E252," ") -> 2020 | E92: =IF(AND(Planungsübersicht!$E252>1990,TYPE(Planungsübersicht!$E252)=1),Planungsübersicht!F252," ") -> wird laufend umgesetzt | F92: =IF(AND(Planungsübersicht!$E252>1990,TYPE(Planungsübersicht!$E252)=1),Planungsübersicht!G252," ") -> Verkehrs- AG / Verkehrspolizei | G92: =IF(AND(Planungsübersicht!$E252>1990,TYPE(Planungsübersicht!$E252)=1),Planungsübersicht!H252," ") -> Elternrat, Eltern | H92: =IF(AND(Planungsübersicht!$E252>1990,TYPE(Planungsübersicht!$E252)=1),MAX(Planungsübersicht!I252:Z252)," ") -> 0
B93: =IF(AND(Planungsübersicht!$E119>1990,TYPE(Planungsübersicht!$E119)=1),Planungsübersicht!C119," ") | C93: =IF(AND(Planungsübersicht!$E119>1990,TYPE(Planungsübersicht!$E119)=1),Planungsübersicht!D119," ") | D93: =IF(AND(Planungsübersicht!$E119>1990,TYPE(Planungsübersicht!$E119)=1),Planungsübersicht!E119," ") | E93: =IF(AND(Planungsübersicht!$E119>1990,TYPE(Planungsübersicht!$E119)=1),Planungsübersicht!F119," ") | F93: =IF(AND(Planungsübersicht!$E119>1990,TYPE(Planungsübersicht!$E119)=1),Planungsübersicht!G119," ") | G93: =IF(AND(Planungsübersicht!$E119>1990,TYPE(Planungsübersicht!$E119)=1),Planungsübersicht!H119," ") | H93: =IF(AND(Planungsübersicht!$E119>1990,TYPE(Planungsübersicht!$E119)=1),MAX(Planungsübersicht!I119:Z119)," ")
B94: =IF(AND(Planungsübersicht!$E254>1990,TYPE(Planungsübersicht!$E254)=1),Planungsübersicht!C254," ") -> M5 | C94: =IF(AND(Planungsübersicht!$E254>1990,TYPE(Planungsübersicht!$E254)=1),Planungsübersicht!D254," ") -> Verkehrserziehung und Fahrrad-Führerschein | D94: =IF(AND(Planungsübersicht!$E254>1990,TYPE(Planungsübersicht!$E254)=1),Planungsübersicht!E254," ") -> 2020 | E94: =IF(AND(Planungsübersicht!$E254>1990,TYPE(Planungsübersicht!$E254)=1),Planungsübersicht!F254," ") -> wird laufend umgesetzt | F94: =IF(AND(Planungsübersicht!$E254>1990,TYPE(Planungsübersicht!$E254)=1),Planungsübersicht!G254," ") -> Verkehrs AG / Verkehrspolizei | G94: =IF(AND(Planungsübersicht!$E254>1990,TYPE(Planungsübersicht!$E254)=1),Planungsübersicht!H254," ") -> 0 | H94: =IF(AND(Planungsübersicht!$E254>1990,TYPE(Planungsübersicht!$E254)=1),MAX(Planungsübersicht!I254:Z254)," ") -> 0
B95: =IF(AND(Planungsübersicht!$E121>1990,TYPE(Planungsübersicht!$E121)=1),Planungsübersicht!C121," ") | C95: =IF(AND(Planungsübersicht!$E121>1990,TYPE(Planungsübersicht!$E121)=1),Planungsübersicht!D121," ") | D95: =IF(AND(Planungsübersicht!$E121>1990,TYPE(Planungsübersicht!$E121)=1),Planungsübersicht!E121," ") | E95: =IF(AND(Planungsübersicht!$E121>1990,TYPE(Planungsübersicht!$E121)=1),Planungsübersicht!F121," ") | F95: =IF(AND(Planungsübersicht!$E121>1990,TYPE(Planungsübersicht!$E121)=1),Planungsübersicht!G121," ") | G95: =IF(AND(Planungsübersicht!$E121>1990,TYPE(Planungsübersicht!$E121)=1),Planungsübersicht!H121," ") | H95: =IF(AND(Planungsübersicht!$E121>1990,TYPE(Planungsübersicht!$E121)=1),MAX(Planungsübersicht!I121:Z121)," ")
B96: =IF(AND(Planungsübersicht!$E122>1990,TYPE(Planungsübersicht!$E122)=1),Planungsübersicht!C122," ") | C96: =IF(AND(Planungsübersicht!$E122>1990,TYPE(Planungsübersicht!$E122)=1),Planungsübersicht!D122," ") | D96: =IF(AND(Planungsübersicht!$E122>1990,TYPE(Planungsübersicht!$E122)=1),Planungsübersicht!E122," ") | E96: =IF(AND(Planungsübersicht!$E122>1990,TYPE(Planungsübersicht!$E122)=1),Planungsübersicht!F122," ") | F96: =IF(AND(Planungsübersicht!$E122>1990,TYPE(Planungsübersicht!$E122)=1),Planungsübersicht!G122," ") | G96: =IF(AND(Planungsübersicht!$E122>1990,TYPE(Planungsübersicht!$E122)=1),Planungsübersicht!H122," ") | H96: =IF(AND(Planungsübersicht!$E122>1990,TYPE(Planungsübersicht!$E122)=1),MAX(Planungsübersicht!I122:Z122)," ")
B97: =IF(AND(Planungsübersicht!$E123>1990,TYPE(Planungsübersicht!$E123)=1),Planungsübersicht!C123," ") | C97: =IF(AND(Planungsübersicht!$E123>1990,TYPE(Planungsübersicht!$E123)=1),Planungsübersicht!D123," ") | D97: =IF(AND(Planungsübersicht!$E123>1990,TYPE(Planungsübersicht!$E123)=1),Planungsübersicht!E123," ") | E97: =IF(AND(Planungsübersicht!$E123>1990,TYPE(Planungsübersicht!$E123)=1),Planungsübersicht!F123," ") | F97: =IF(AND(Planungsübersicht!$E123>1990,TYPE(Planungsübersicht!$E123)=1),Planungsübersicht!G123," ") | G97: =IF(AND(Planungsübersicht!$E123>1990,TYPE(Planungsübersicht!$E123)=1),Planungsübersicht!H123," ") | H97: =IF(AND(Planungsübersicht!$E123>1990,TYPE(Planungsübersicht!$E123)=1),MAX(Planungsübersicht!I123:Z123)," ")
B98: =IF(AND(Planungsübersicht!$E124>1990,TYPE(Planungsübersicht!$E124)=1),Planungsübersicht!C124," ") | C98: =IF(AND(Planungsübersicht!$E124>1990,TYPE(Planungsübersicht!$E124)=1),Planungsübersicht!D124," ") | D98: =IF(AND(Planungsübersicht!$E124>1990,TYPE(Planungsübersicht!$E124)=1),Planungsübersicht!E124," ") | E98: =IF(AND(Planungsübersicht!$E124>1990,TYPE(Planungsübersicht!$E124)=1),Planungsübersicht!F124," ") | F98: =IF(AND(Planungsübersicht!$E124>1990,TYPE(Planungsübersicht!$E124)=1),Planungsübersicht!G124," ") | G98: =IF(AND(Planungsübersicht!$E124>1990,TYPE(Planungsübersicht!$E124)=1),Planungsübersicht!H124," ") | H98: =IF(AND(Planungsübersicht!$E124>1990,TYPE(Planungsübersicht!$E124)=1),MAX(Planungsübersicht!I124:Z124)," ")
B99: =IF(AND(Planungsübersicht!$E125>1990,TYPE(Planungsübersicht!$E125)=1),Planungsübersicht!C125," ") | C99: =IF(AND(Planungsübersicht!$E125>1990,TYPE(Planungsübersicht!$E125)=1),Planungsübersicht!D125," ") | D99: =IF(AND(Planungsübersicht!$E125>1990,TYPE(Planungsübersicht!$E125)=1),Planungsübersicht!E125," ") | E99: =IF(AND(Planungsübersicht!$E125>1990,TYPE(Planungsübersicht!$E125)=1),Planungsübersicht!F125," ") | F99: =IF(AND(Planungsübersicht!$E125>1990,TYPE(Planungsübersicht!$E125)=1),Planungsübersicht!G125," ") | G99: =IF(AND(Planungsübersicht!$E125>1990,TYPE(Planungsübersicht!$E125)=1),Planungsübersicht!H125," ") | H99: =IF(AND(Planungsübersicht!$E125>1990,TYPE(Planungsübersicht!$E125)=1),MAX(Planungsübersicht!I125:Z125)," ")
B100: =IF(AND(Planungsübersicht!$E126>1990,TYPE(Planungsübersicht!$E126)=1),Planungsübersicht!C126," ") | C100: =IF(AND(Planungsübersicht!$E126>1990,TYPE(Planungsübersicht!$E126)=1),Planungsübersicht!D126," ") | D100: =IF(AND(Planungsübersicht!$E126>1990,TYPE(Planungsübersicht!$E126)=1),Planungsübersicht!E126," ") | E100: =IF(AND(Planungsübersicht!$E126>1990,TYPE(Planungsübersicht!$E126)=1),Planungsübersicht!F126," ") | F100: =IF(AND(Planungsübersicht!$E126>1990,TYPE(Planungsübersicht!$E126)=1),Planungsübersicht!G126," ") | G100: =IF(AND(Planungsübersicht!$E126>1990,TYPE(Planungsübersicht!$E126)=1),Planungsübersicht!H126," ") | H100: =IF(AND(Planungsübersicht!$E126>1990,TYPE(Planungsübersicht!$E126)=1),MAX(Planungsübersicht!I126:Z126)," ")
B101: =IF(AND(Planungsübersicht!$E127>1990,TYPE(Planungsübersicht!$E127)=1),Planungsübersicht!C127," ") | C101: =IF(AND(Planungsübersicht!$E127>1990,TYPE(Planungsübersicht!$E127)=1),Planungsübersicht!D127," ") | D101: =IF(AND(Planungsübersicht!$E127>1990,TYPE(Planungsübersicht!$E127)=1),Planungsübersicht!E127," ") | E101: =IF(AND(Planungsübersicht!$E127>1990,TYPE(Planungsübersicht!$E127)=1),Planungsübersicht!F127," ") | F101: =IF(AND(Planungsübersicht!$E127>1990,TYPE(Planungsübersicht!$E127)=1),Planungsübersicht!G127," ") | G101: =IF(AND(Planungsübersicht!$E127>1990,TYPE(Planungsübersicht!$E127)=1),Planungsübersicht!H127," ") | H101: =IF(AND(Planungsübersicht!$E127>1990,TYPE(Planungsübersicht!$E127)=1),MAX(Planungsübersicht!I127:Z127)," ")
...

Sheet Energieverbräuche
B2: Energieverbräuche
C3: Gebäudeteil | D3: =Planungsübersicht!G13 -> 2017 | E3: =D3+1 -> 2018 | F3: =E3+1 -> 2019 | G3: =F3+1 -> 2020 | H3: 2021 | I3: =H3+1 -> 2022 | J3: =I3+1 -> 2023 | K3: =J3+1 -> 2024 | L3: =K3+1 -> 2025 | M3: =L3+1 -> 2026 | N3: =M3+1 -> 2027 | O3: =N3+1 -> 2028 | P3: =O3+1 -> 2029 | ... AU3: =AT3+1 -> 2060
B5: Strom 1 | C5: Schule | D5: 45677 | E5: 57480 | F5: 85034 | G5: 79519.29 | H5: 82708 | I5: 99391.76 | J5: 94877.74 | K5: 99309 | L5: 100547
B6: Strom 2 | C6: Sporthalle
B7: Strom 3 | C7: Pavillon
C8: Summe Strom: | D8: =SUM(D5:D7) -> 45677 | E8: =SUM(E5:E7) -> 57480 | F8: =SUM(F5:F7) -> 85034 | G8: =SUM(G5:G7) -> 79519.29 | H8: =SUM(H5:H7) -> 82708 | I8: =SUM(I5:I7) -> 99391.76 | J8: =SUM(J5:J7) -> 94877.74 | K8: =SUM(K5:K7) -> 99309 | ... AU8: =SUM(AU5:AU7) -> 0
B10: Gasheizung 1 | C10: Schule | D10: 75460 | E10: 66838 | F10: =879910/11 -> 79991.818 | G10: 1013021
B11: Gasheizung 2 | C11: Sporthalle
B12: Gasheizung 3 | C12: Küche, Verwaltung | D12: 11357 | E12: 8491
B14: Fernwärmeheizung 1 | C14: Schule
B15: Fernwärmeheizung 2 | C15: Sporthalle
B16: Fernwärmeheizung 3 | C16: Pavillon
C17: Summe Heizenergie: | D17: =(D10+D11+D12)*11+(D14+D15+D16)*1000 -> 954987 | E17: =(E10+E11+E12)*11+(E14+E15+E16)*1000 -> 828619 | F17: =(F10+F11+F12)*11+(F14+F15+F16)*1000 -> 879910 | G17: 1013021 | H17: 1034086 | I17: 857382 | J17: 813156 | K17: 792732 | L17: 781443 | M17: =(M10+M11+M12)*11+(M14+M15+M16)*1000 -> 0 | N17: =(N10+N11+N12)*11+(N14+N15+N16)*1000 -> 0 | O17: =(O10+O11+O12)*11+(O14+O15+O16)*1000 -> 0 | P17: =(P10+P11+P12)*11+(P14+P15+P16)*1000 -> 0 | Q17: =(Q10+Q11+Q12)*11+(Q14+Q15+Q16)*1000 -> 0 | R17: =(R10+R11+R12)*11+(R14+R15+R16)*1000 -> 0 | S17: =(S10+S11+S12)*11+(S14+S15+S16)*1000 -> 0 | T17: =(T10+T11+T12)*11+(T14+T15+T16)*1000 -> 0 | ... AU17: =(AU10+AU11+AU12)*11+(AU14+AU15+AU16)*1000 -> 0
B19: PV-Anlage 1 | C19: auf H-Gebäude
B20: PV-Anlage 2 | C20: auf Sporthalle
B21: PV-Anlage 3
C22: Summe PV-Anlagen: | D22: =SUM(D19:D21) -> 0 | E22: =SUM(E19:E21) -> 0 | F22: =SUM(F19:F21) -> 0 | G22: =SUM(G19:G21) -> 0 | H22: =SUM(H19:H21) -> 0 | I22: =SUM(I19:I21) -> 0 | J22: =SUM(J19:J21) -> 0 | K22: =SUM(K19:K21) -> 0 | ... AU22: =SUM(AU19:AU21) -> 0
B24: Restmüll Standort 1 | C24: Schule | D24: 103 | E24: 98 | F24: 98 | G24: 105.6 | H24: 158 | I24: 158.4 | J24: 158.4 | K24: 158 | L24: 158
B25: Restmüll Standort 2
B26: Restmüll Standort 3
C27: Summe Restmüll: | D27: =SUM(D24:D26) -> 103 | E27: =SUM(E24:E26) -> 98 | F27: =SUM(F24:F26) -> 98 | G27: =SUM(G24:G26) -> 105.6 | H27: =SUM(H24:H26) -> 158 | I27: 158,40 m³ | J27: 158,40 m³ | K27: =SUM(K24:K26) -> 158 | L27: =SUM(L24:L26) -> 158 | M27: =SUM(M24:M26) -> 0 | N27: =SUM(N24:N26) -> 0 | O27: =SUM(O24:O26) -> 0 | P27: =SUM(P24:P26) -> 0 | Q27: =SUM(Q24:Q26) -> 0 | R27: =SUM(R24:R26) -> 0 | ... AU27: =SUM(AU24:AU26) -> 0

Sheet CO2-Schulbilanz
D2: CO2-Schulbilanz: | E2: =Planungsübersicht!D4 -> Schule Alsterredder | G2: bis 2030 | H2: 2031 bis 2050
F4: geplante jährliche Minderung: | G4: =1-(1-Planungsübersicht!G11)^(1/(2030-Planungsübersicht!G13)) -> 0.038532272 | H4: =1-((1-Planungsübersicht!G12)/(1-G4)^(2030-E6))^(1/20) -> 0.053449177
E6: =+Energieverbräuche!D3 -> 2017 | F6: =+Energieverbräuche!E3 -> 2018 | G6: =+Energieverbräuche!F3 -> 2019 | H6: =+Energieverbräuche!G3 -> 2020 | I6: =+Energieverbräuche!H3 -> 2021 | J6: =+Energieverbräuche!I3 -> 2022 | K6: =+Energieverbräuche!J3 -> 2023 | L6: =+Energieverbräuche!K3 -> 2024 | ... AV6: =+Energieverbräuche!AU3 -> 2060
D7: Emissions-Ziel | E7: =E8 -> 250423.47 | F7: =E7*(1-$G$4) -> 240774.09 | G7: =F7*(1-$G$4) -> 231496.52 | H7: =G7*(1-$G$4) -> 222576.43 | I7: =H7*(1-$G$4) -> 214000.05 | J7: =I7*(1-$G$4) -> 205754.15 | K7: =J7*(1-$G$4) -> 197825.97 | L7: =K7*(1-$G$4) -> 190203.29 | M7: =L7*(1-$G$4) -> 182874.32 | ... R7: =Q7*(1-$G$4) -> 150254.09 | S7: =R7*(1-$H$4) -> 142223.13 | T7: =S7*(1-$H$4) -> 134621.42 | U7: =T7*(1-$H$4) -> 127426.01 | V7: =U7*(1-$H$4) -> 120615.2 | W7: =V7*(1-$H$4) -> 114168.42 | X7: =W7*(1-$H$4) -> 108066.21 | Y7: =X7*(1-$H$4) -> 102290.16 | Z7: =Y7*(1-$H$4) -> 96822.833 | ... AV7: =AU7*(1-$H$4) -> 28916.412
D8: reale Emission | E8: =E15 -> 250423.47 | F8: =F15 -> 233265.5 | G8: =G15 -> 257286.74 | H8: =H15 -> 279257.6 | I8: =I15 -> 289507.02 | J8: =J15 -> 252019.33 | K8: =K15 -> 241564.23 | L8: =L15 -> 211428.92 | ... AV8: =AV15 -> 0
D10: geplante Reduktion gegenüber Vorjahr: | F10: =F7-E7 -> -9649.3855 | G10: =G7-F7 -> -9277.5727 | H10: =H7-G7 -> -8920.0868 | I10: =I7-H7 -> -8576.3755 | J10: =J7-I7 -> -8245.9083 | K10: =K7-J7 -> -7928.1747 | L10: =L7-K7 -> -7622.6841 | M10: =M7-L7 -> -7328.9648 | ... AV10: =AV7-AU7 -> -1632.832
D11: reale Reduktion gegenüber Vorjahr: | F11: =IF(F8=0,"",F8-E8) -> -17157.977 | G11: =IF(G8=0,"",G8-F8) -> 24021.244 | H11: =IF(H8=0,"",H8-G8) -> 21970.862 | I11: =IF(I8=0,"",I8-H8) -> 10249.412 | J11: =IF(J8=0,"",J8-I8) -> -37487.684 | K11: =IF(K8=0,"",K8-J8) -> -10455.105 | L11: =IF(L8=0,"",L8-K8) -> -30135.306 | M11: =IF(M8=0,"",M8-L8) -> -1394.744 | ... AV11: =IF(AV8=0,"",AV8-AU8)
D12: geplanten Reduktion gegenüber Anfangsjahr: | F12: =F7-$E7 -> -9649.3855 | G12: =G7-$E7 -> -18926.958 | H12: =H7-$E7 -> -27847.045 | I12: =I7-$E7 -> -36423.42 | J12: =J7-$E7 -> -44669.329 | K12: =K7-$E7 -> -52597.504 | L12: =L7-$E7 -> -60220.188 | M12: =M7-$E7 -> -67549.152 | ... AV12: =AV7-$E7 -> -221507.06
D13: reale Reduktion gegenüber Anfangsjahr: | F13: =IF(F8=0,"",F8-$E8) -> -17157.977 | G13: =IF(G8=0,"",G8-$E8) -> 6863.267 | H13: =IF(H8=0,"",H8-$E8) -> 28834.129 | I13: =IF(I8=0,"",I8-$E8) -> 39083.541 | J13: =IF(J8=0,"",J8-$E8) -> 1595.8571 | K13: =IF(K8=0,"",K8-$E8) -> -8859.2476 | L13: =IF(L8=0,"",L8-$E8) -> -38994.554 | M13: =IF(M8=0,"",M8-$E8) -> -40389.298 | ... AV13: =IF(AV8=0,"",AV8-$E8)
B15: Summe CO2-Emissionen: | E15: =IF(SUM(E17:E26)=0,"",SUM(E17:E26)) -> 250423.47 | F15: =SUM(F17:F26) -> 233265.5 | G15: =SUM(G17:G26) -> 257286.74 | H15: =SUM(H17:H26) -> 279257.6 | I15: =SUM(I17:I26) -> 289507.02 | J15: =SUM(J17:J26) -> 252019.33 | K15: =SUM(K17:K26) -> 241564.23 | L15: =SUM(L17:L26) -> 211428.92 | M15: =SUM(M17:M26) -> 210034.18 | ... AV15: =SUM(AV17:AV26) -> 0
D16: Umrechnungsfaktor
B17: 1 | C17: Strom | D17: 0.533 | E17: =+Energieverbräuche!D8*E27 -> 24345.841 | F17: =+Energieverbräuche!E8*F27 -> 30636.84 | G17: =+Energieverbräuche!F8*G27 -> 45323.122 | H17: =+Energieverbräuche!G8*H27 -> 42383.782 | I17: =+Energieverbräuche!H8*I27 -> 44083.364 | J17: =+Energieverbräuche!I8*J27 -> 52975.808 | K17: =+Energieverbräuche!J8*K27 -> 50569.835 | L17: =+Energieverbräuche!K8*L27 -> 52931.697 | ... AV17: =+Energieverbräuche!AU8*AV27 -> 0
B18: 2 | C18: Heizenergie | D18: 0.182 | E18: =+Energieverbräuche!D17*E$28 -> 173807.63 | F18: =+Energieverbräuche!E17*F$28 -> 150808.66 | G18: =+Energieverbräuche!F17*G$28 -> 160143.62 | H18: =+Energieverbräuche!G17*H$28 -> 184369.82 | I18: =+Energieverbräuche!H17*I$28 -> 188203.65 | J18: =+Energieverbräuche!I17*J$28 -> 156043.52 | K18: =+Energieverbräuche!J17*K$28 -> 147994.39 | L18: =+Energieverbräuche!K17*L$28 -> 144277.22 | ... AV18: =+Energieverbräuche!AU17*AV$28 -> 0
B19: 3 | C19: PV-Anlage | D19: =D17 -> 0.533 | E19: =(+Energieverbräuche!D22*$D$19)*(-1) -> 0 | F19: =(+Energieverbräuche!E22*$D$19)*(-1) -> 0 | G19: =(+Energieverbräuche!F22*$D$19)*(-1) -> 0 | H19: =(+Energieverbräuche!G22*$D$19)*(-1) -> 0 | I19: =(+Energieverbräuche!H22*$D$19)*(-1) -> 0 | J19: =(+Energieverbräuche!I22*$D$19)*(-1) -> 0 | K19: =(+Energieverbräuche!J22*$D$19)*(-1) -> 0 | L19: =(+Energieverbräuche!K22*$D$19)*(-1) -> 0 | ... AV19: =(+Energieverbräuche!AU22*$D$19)*(-1) -> 0
B20: 4 | C20: Solarthermie | D20: =D18 -> 0.182
B21: 5 | C21: Mobilität
B22: 6 | C22: Abfall | D22: 90 | E22: =$D$22*Energieverbräuche!D27 -> 9270 | F22: =$D$22*Energieverbräuche!E27 -> 8820 | G22: =$D$22*Energieverbräuche!F27 -> 8820 | H22: =$D$22*Energieverbräuche!G27 -> 9504 | I22: =$D$22*Energieverbräuche!H27 -> 14220 | J22: 158,40 m³ | K22: 158,40 m³ | L22: =$D$22*Energieverbräuche!K27 -> 14220 | M22: =$D$22*Energieverbräuche!L27 -> 14220 | N22: =$D$22*Energieverbräuche!M27 -> 0 | O22: =$D$22*Energieverbräuche!N27 -> 0 | P22: =$D$22*Energieverbräuche!O27 -> 0 | Q22: =$D$22*Energieverbräuche!P27 -> 0 | R22: =$D$22*Energieverbräuche!Q27 -> 0 | S22: =$D$22*Energieverbräuche!R27 -> 0 | ... AV22: =$D$22*Energieverbräuche!AU27 -> 0
B23: 7 | D23: 0,6-2,4 kg/Packung (500 Blatt)
B24: 8 | C24: Ernährung | D24: 0,25 (Veg.) - 0,5 kg/Mensaessen | E24: 43000 | F24: 43000 | G24: 43000 | H24: 43000 | I24: 43000 | J24: 43000 | K24: 43000
B25: 9
B26: 10
C27: Anpassung Emissionsfaktor Strom | E27: =D17 -> 0.533 | F27: =E27 -> 0.533 | G27: =F27 -> 0.533 | H27: =G27 -> 0.533 | I27: =H27 -> 0.533 | J27: =I27 -> 0.533 | K27: =J27 -> 0.533 | L27: =K27 -> 0.533 | M27: =L27 -> 0.533 | ... AV27: =AU27 -> 0.533
C28: Anpassung Emissionsfaktor Wärme | E28: =D18 -> 0.182 | F28: =E28 -> 0.182 | G28: =F28 -> 0.182 | H28: =G28 -> 0.182 | I28: =H28 -> 0.182 | J28: =I28 -> 0.182 | K28: =J28 -> 0.182 | L28: =K28 -> 0.182 | M28: =L28 -> 0.182 | ... AV28: =AU28 -> 0.182

Sheet Erfolge
C2: ab | D2: ab | E2: ab | F2: ab | G2: ab | H2: ab | I2: ab | J2: ab | K2: ab | L2: ab | M2: ab | N2: ab | O2: ab | P2: ab | Q2: ab | R2: ab | S2: ab | T2: ab
C3: =Planungsübersicht!I9 -> 2017 | D3: =Planungsübersicht!J9 -> 2020 | E3: =Planungsübersicht!K9 -> 2020 | F3: =Planungsübersicht!L9 -> 2022 | G3: =Planungsübersicht!M9 -> 2024 | H3: =Planungsübersicht!N9 -> 2026 | I3: =Planungsübersicht!O9 -> 2028 | J3: =Planungsübersicht!P9 -> 2030 | ... T3: =Planungsübersicht!Z9 -> 2050
B4: CO2-Einsparungen durch Maßnahmen: | C4: =-Planungsübersicht!I17 -> 150 | D4: =-Planungsübersicht!J17 -> 150 | E4: =-Planungsübersicht!K17 -> 12900 | F4: =-Planungsübersicht!L17 -> 58600 | G4: =-Planungsübersicht!M17 -> 68300 | H4: =-Planungsübersicht!N17 -> 80000 | I4: =-Planungsübersicht!O17 -> 80000 | J4: =-Planungsübersicht!P17 -> 80000 | ... T4: =-Planungsübersicht!Z17 -> 80000
B6: Jahr: | C6: ='CO2-Schulbilanz'!E6 -> 2017 | D6: ='CO2-Schulbilanz'!F6 -> 2018 | E6: ='CO2-Schulbilanz'!G6 -> 2019 | F6: ='CO2-Schulbilanz'!H6 -> 2020 | G6: ='CO2-Schulbilanz'!I6 -> 2021 | H6: ='CO2-Schulbilanz'!J6 -> 2022 | I6: ='CO2-Schulbilanz'!K6 -> 2023 | J6: ='CO2-Schulbilanz'!L6 -> 2024 | ... AT6: ='CO2-Schulbilanz'!AV6 -> 2060
B7: echte Emissionen (aus CO2-Schulbilanz): | C7: =IF('CO2-Schulbilanz'!E8>0, 'CO2-Schulbilanz'!E8,#N/A) -> 250423.47 | D7: =IF('CO2-Schulbilanz'!F8>0, 'CO2-Schulbilanz'!F8,#N/A) -> 233265.5 | E7: =IF('CO2-Schulbilanz'!G8>0, 'CO2-Schulbilanz'!G8,#N/A) -> 257286.74 | F7: =IF('CO2-Schulbilanz'!H8>0, 'CO2-Schulbilanz'!H8,#N/A) -> 279257.6 | G7: =IF('CO2-Schulbilanz'!I8>0, 'CO2-Schulbilanz'!I8,#N/A) -> 289507.02 | H7: =IF('CO2-Schulbilanz'!J8>0, 'CO2-Schulbilanz'!J8,#N/A) -> 252019.33 | I7: =IF('CO2-Schulbilanz'!K8>0, 'CO2-Schulbilanz'!K8,#N/A) -> 241564.23 | J7: =IF('CO2-Schulbilanz'!L8>0, 'CO2-Schulbilanz'!L8,#N/A) -> 211428.92 | ... AT7: =IF('CO2-Schulbilanz'!AV8>0, 'CO2-Schulbilanz'!AV8,#N/A) -> #N/A
B8: Maßnahmen (aus Planungsübersicht): | C8: =IF(C6>=$E3, $E4,IF(C6>=$D3,$D4,IF(C6>=$C3,$C4,0))) -> 150 | D8: =IF(D6>=$E3, $E4,IF(D6>=$D3,$D4,IF(D6>=$C3,$C4,0))) -> 150 | E8: =IF(E6>=$E3, $E4,IF(E6>=$D3,$D4,IF(E6>=$C3,$C4,0))) -> 150 | F8: =IF(F6>=$E3, $E4,IF(F6>=$D3,$D4,IF(F6>=$C3,$C4,0))) -> 12900 | G8: =IF(G6>=$E3, $E4,IF(G6>=$D3,$D4,IF(G6>=$C3,$C4,0))) -> 12900 | H8: =IF(H6>=$E3, $E4,IF(H6>=$D3,$D4,IF(H6>=$C3,$C4,0))) -> 12900 | I8: =IF(I6>=$E3, $E4,IF(I6>=$D3,$D4,IF(I6>=$C3,$C4,0))) -> 12900 | J8: =IF(J6>=$E3, $E4,IF(J6>=$D3,$D4,IF(J6>=$C3,$C4,0))) -> 12900 | ... O8: =IF(O6>=$E3, $E4,IF(O6>=$D3,$D4,IF(O6>=$C3,$C4,0))) -> 12900 | P8: =IF(Q6>=E3, E4,IF(Q6>=D3,D4,IF(Q6>=C3,C4,0))) -> 12900 | Q8: =HLOOKUP(ODD(Q6)-1,$E$3:$T$4,2) -> 80000 | R8: =HLOOKUP(ODD(R6)-1,$E$3:$T$4,2) -> 80000 | S8: =HLOOKUP(ODD(S6)-1,$E$3:$T$4,2) -> 80000 | T8: =HLOOKUP(ODD(T6)-1,$E$3:$T$4,2) -> 80000 | U8: =HLOOKUP(ODD(U6)-1,$E$3:$T$4,2) -> 80000 | V8: =HLOOKUP(ODD(V6)-1,$E$3:$T$4,2) -> 80000 | W8: =HLOOKUP(ODD(W6)-1,$E$3:$T$4,2) -> 80000 | X8: =HLOOKUP(ODD(X6)-1,$E$3:$T$4,2) -> 80000 | ... AT8: =HLOOKUP(ODD(AT6)-1,$E$3:$T$4,2) -> 80000
B9: geschätzte Emissionen ohne Maßnahmen: | C9: =IF(C7,C7+C8,0) -> 250573.47 | D9: =IF(D7,D7+D8,0) -> 233415.5 | E9: =IF(E7,E7+E8,0) -> 257436.74 | F9: =IF(F7,F7+F8,0) -> 292157.6 | G9: =IF(G7,G7+G8,0) -> 302407.02 | H9: =IF(H7,H7+H8,0) -> 264919.33 | I9: =IF(I7,I7+I8,0) -> 254464.23 | J9: =IF(J7,J7+J8,0) -> 224328.92 | ... AT9: =IF(AT7,AT7+AT8,0) -> #N/A

Sheet Bilanz_pro_h_pro_m²
B29: Faktor | C29: Datenermittlung aus | D29: =Energieverbräuche!D3 -> 2017 | E29: =Energieverbräuche!E3 -> 2018 | F29: =Energieverbräuche!F3 -> 2019 | G29: =Energieverbräuche!G3 -> 2020 | H29: =Energieverbräuche!H3 -> 2021 | I29: =Energieverbräuche!I3 -> 2022 | J29: =Energieverbräuche!J3 -> 2023 | K29: =Energieverbräuche!K3 -> 2024 | ... AU29: =Energieverbräuche!AU3 -> 2060
B30: Heizenergie
B31: CO2 [kg] Heizenergie real | D31: ='CO2-Schulbilanz'!E18 -> 173807.63 | E31: ='CO2-Schulbilanz'!F18 -> 150808.66 | F31: ='CO2-Schulbilanz'!G18 -> 160143.62 | G31: ='CO2-Schulbilanz'!H18 -> 184369.82 | H31: ='CO2-Schulbilanz'!I18 -> 188203.65 | I31: ='CO2-Schulbilanz'!J18 -> 156043.52 | J31: ='CO2-Schulbilanz'!K18 -> 147994.39 | K31: ='CO2-Schulbilanz'!L18 -> 144277.22 | ... AU31: ='CO2-Schulbilanz'!AV18 -> 0
A32: s | B32: Witterungsfaktor in % | C32: fifty/fifty-Prämienabrechnung | D32: =HLOOKUP(D29,$D$53:$AU$54,2,0) -> 100 | E32: =HLOOKUP(E29,$D$53:$AU$54,2,0) -> 100 | F32: =HLOOKUP(F29,$D$53:$AU$54,2,0) -> 100 | G32: =HLOOKUP(G29,$D$53:$AU$54,2,0) -> 100 | H32: =HLOOKUP(H29,$D$53:$AU$54,2,0) -> 100 | I32: =HLOOKUP(I29,$D$53:$AU$54,2,0) -> 100 | J32: =HLOOKUP(J29,$D$53:$AU$54,2,0) -> 100 | K32: =HLOOKUP(K29,$D$53:$AU$54,2,0) -> 100 | L32: =HLOOKUP(L29,$D$53:$AU$54,2,0) -> 100 | M32: 90.7 | N32: =HLOOKUP(N29,$D$53:$AU$54,2,0) -> 100 | O32: =HLOOKUP(O29,$D$53:$AU$54,2,0) -> 100 | P32: =HLOOKUP(P29,$D$53:$AU$54,2,0) -> 100 | Q32: =HLOOKUP(Q29,$D$53:$AU$54,2,0) -> 100 | R32: =HLOOKUP(R29,$D$53:$AU$54,2,0) -> 100 | S32: =HLOOKUP(S29,$D$53:$AU$54,2,0) -> 100 | T32: =HLOOKUP(T29,$D$53:$AU$54,2,0) -> 100 | U32: =HLOOKUP(U29,$D$53:$AU$54,2,0) -> 100 | ... AU32: =HLOOKUP(AU29,$D$53:$AU$54,2,0) -> #N/A
B33: CO2 [kg] Heizenergie witterungsb. | D33: =D31/D32*100 -> 173807.63 | E33: =E31/E32*100 -> 150808.66 | F33: =F31/F32*100 -> 160143.62 | G33: =G31/G32*100 -> 184369.82 | H33: =H31/H32*100 -> 188203.65 | I33: =I31/I32*100 -> 156043.52 | J33: =J31/J32*100 -> 147994.39 | K33: =K31/K32*100 -> 144277.22 | ... AU33: =AU31/AU32*100 -> #N/A
B35: Heizstunden pro Jahr (20 Wochen) | D35: =D43*20 -> 800 | E35: =E43*20 -> 800 | F35: =F43*20 -> 800 | G35: =G43*20 -> 800 | H35: =H43*20 -> 800 | I35: =I43*20 -> 800 | J35: =J43*20 -> 800 | K35: =K43*20 -> 800 | ... AU35: =AU43*20 -> 800
B37: CO2 [kg pro Stunde] | D37: =D33/D35 -> 217.25954 | E37: =E33/E35 -> 188.51082 | F37: =F33/F35 -> 200.17952 | G37: =G33/G35 -> 230.46228 | H37: =H33/H35 -> 235.25457 | I37: =I33/I35 -> 195.05441 | J37: =J33/J35 -> 184.99299 | K37: =K33/K35 -> 180.34653 | ... AU37: =AU33/AU35 -> #N/A
B39: Wärme: CO2 [g pro m² und Std.] | D39: =D37/D48*1000 -> 43.451908 | E39: =E37/E48*1000 -> 37.702164 | F39: =F37/F48*1000 -> 40.035905 | G39: =G37/G48*1000 -> 46.092455 | H39: =H37/H48*1000 -> 47.050913 | I39: =I37/I48*1000 -> 39.010881 | J39: =J37/J48*1000 -> 36.998598 | K39: =K37/K48*1000 -> 36.069306 | ... AU39: =AU37/AU48*1000 -> #N/A
B41: Strom
B42: CO2 [kg] durch Strom | D42: ='CO2-Schulbilanz'!E17 -> 24345.841 | E42: ='CO2-Schulbilanz'!F17 -> 30636.84 | F42: ='CO2-Schulbilanz'!G17 -> 45323.122 | G42: ='CO2-Schulbilanz'!H17 -> 42383.782 | H42: ='CO2-Schulbilanz'!I17 -> 44083.364 | I42: ='CO2-Schulbilanz'!J17 -> 52975.808 | J42: ='CO2-Schulbilanz'!K17 -> 50569.835 | K42: ='CO2-Schulbilanz'!L17 -> 52931.697 | ... AU42: ='CO2-Schulbilanz'!AV17 -> 0
A43: s | B43: Nutzungsstunden pro Woche | C43: Hausmeister | D43: 40 | E43: =D43 -> 40 | F43: =E43 -> 40 | G43: =F43 -> 40 | H43: =G43 -> 40 | I43: =H43 -> 40 | J43: =I43 -> 40 | K43: =J43 -> 40 | L43: =K43 -> 40 | ... AU43: =AT43 -> 40
B44: Nutzungstunden pro Jahr (40 Wochen) | D44: =D43*40 -> 1600 | E44: =E43*40 -> 1600 | F44: =F43*40 -> 1600 | G44: =G43*40 -> 1600 | H44: =H43*40 -> 1600 | I44: =I43*40 -> 1600 | J44: =J43*40 -> 1600 | K44: =K43*40 -> 1600 | ... AU44: =AU43*40 -> 1600
B46: CO2 [kg pro Stunde] | D46: =D42/D44 -> 15.216151 | E46: =E42/E44 -> 19.148025 | F46: =F42/F44 -> 28.326951 | G46: =G42/G44 -> 26.489863 | H46: =H42/H44 -> 27.552103 | I46: =I42/I44 -> 33.10988 | J46: =J42/J44 -> 31.606147 | K46: =K42/K44 -> 33.082311 | ... AU46: =AU42/AU44 -> 0
A48: s | B48: Gebäudeflächen in m² | C48: fifty/fifty-Prämienabrechnung | D48: 5000 | E48: =D48 -> 5000 | F48: =E48 -> 5000 | G48: =F48 -> 5000 | H48: =G48 -> 5000 | I48: =H48 -> 5000 | J48: =I48 -> 5000 | K48: =J48 -> 5000 | L48: =K48 -> 5000 | ... AU48: =AT48 -> 5000
B49: Strom: CO2 [g pro m² und Std.] | D49: =D46/D48*1000 -> 3.0432301 | E49: =E46/E48*1000 -> 3.829605 | F49: =F46/F48*1000 -> 5.6653902 | G49: =G46/G48*1000 -> 5.2979727 | H49: =H46/H48*1000 -> 5.5104205 | I49: =I46/I48*1000 -> 6.621976 | J49: =J46/J48*1000 -> 6.3212294 | K49: =K46/K48*1000 -> 6.6164621 | ... AU49: =AU46/AU48*1000 -> 0
B51: Gesamtemissionen | D51: =D39+D49 -> 46.495139 | E51: =E39+E49 -> 41.531769 | F51: =F39+F49 -> 45.701295 | G51: =G39+G49 -> 51.390428 | H51: =H39+H49 -> 52.561334 | I51: =I39+I49 -> 45.632857 | J51: =J39+J49 -> 43.319827 | K51: =K39+K49 -> 42.685768 | ... AU51: =AU39+AU49 -> #N/A
C52: Witterungsfaktoren: Zeilen unten einblenden
C53: Jahr | D53: 2007 | E53: 2008 | F53: 2009 | G53: 2010 | H53: 2011 | I53: 2012 | J53: 2013 | K53: 2014 | L53: 2015 | M53: 2016 | N53: 2017 | O53: 2018 | P53: 2019 | Q53: 2020 | R53: 2021 | S53: 2022 | T53: 2023 | U53: 2024 | V53: 2025 | W53: 2026 | X53: 2027 | Y53: 2028 | Z53: 2029 | AA53: 2030 | AB53: 2031 | AC53: 2032 | AD53: 2033 | AE53: 2034 | AF53: 2035 | AG53: 2036 | AH53: 2037 | AI53: 2038 | AJ53: 2039 | AK53: 2040 | AL53: 2041 | AM53: 2042 | AN53: 2043 | AO53: 2044 | AP53: 2045 | AQ53: 2046 | AR53: 2047 | AS53: 2048 | AT53: 2049 | AU53: 2050
C54: Witterungsfaktor | D54: 84.9 | E54: 86.6 | F54: 90.8 | G54: 109.1 | H54: 87.5 | I54: 95.1 | J54: 97.7 | K54: 81.1 | L54: 87.2 | M54: 100 | N54: 100 | O54: 100 | P54: 100 | Q54: 100 | R54: 100 | S54: 100 | T54: 100 | U54: 100 | V54: 100 | W54: 100 | X54: 100 | Y54: 100 | Z54: 100 | AA54: 100 | AB54: 100 | AC54: 100 | AD54: 100 | AE54: 100 | AF54: 100 | AG54: 100 | AH54: 100 | AI54: 100 | AJ54: 100 | AK54: 100 | AL54: 100 | AM54: 100 | AN54: 100 | AO54: 100 | AP54: 100 | AQ54: 100 | AR54: 100 | AS54: 100 | AT54: 100 | AU54: 100

Sheet Anleitung

Sheet Listeneinträge
B3: zukünftiger Termin
B4: umgesetzt
B5: wird laufend umgesetzt
B6: in Umsetzung (Anfang)
B7: in Umsetzung (Mitte)
B8: in Umsetzung (Ende)
B9: bisher nicht umgesetzt
B10: Umsetzung nicht möglich
