Workbook
Name Z_A6AA0E88_0E45_4814_B902_F1105CB400F0_.wvu.Cols: Bilanz_pro_h_pro_m²!$S:$S
Name Z_A6AA0E88_0E45_4814_B902_F1105CB400F0_.wvu.Cols: Planungsübersicht!$A:$A
Name Z_A6AA0E88_0E45_4814_B902_F1105CB400F0_.wvu.FilterData: 'Chronologische Liste'!$B$5:$H$95
Name Z_A6AA0E88_0E45_4814_B902_F1105CB400F0_.wvu.PrintArea: 'CO2-Schulbilanz'!$B$2:$R$26
Name Z_A6AA0E88_0E45_4814_B902_F1105CB400F0_.wvu.PrintArea: Energieverbräuche!$B$2:$Q$22
Name Z_A6AA0E88_0E45_4814_B902_F1105CB400F0_.wvu.PrintArea: Planungsübersicht!$B$2:$K$255
Name Z_A6AA0E88_0E45_4814_B902_F1105CB400F0_.wvu.Rows: Bilanz_pro_h_pro_m²!$30:$31,Bilanz_pro_h_pro_m²!$33:$43,Bilanz_pro_h_pro_m²!$45:$47,Bilanz_pro_h_pro_m²!$49:$49
Name Z_A6AA0E88_0E45_4814_B902_F1105CB400F0_.wvu.Rows: 'CO2-Schulbilanz'!$15:$15

Sheet Planungsübersicht
H1: zukünftiger Termin | I1: umgesetzt | J1: wird laufend umgesetzt | K1: in Umsetzung (Anfang) | L1: in Umsetzung (Mitte) | M1: in Umsetzung (Ende) | N1: bisher nicht umgesetzt | O1: Umsetzung nicht möglich
D3: Planungsübersicht | E3: 2026
D4: Schule Alsterredder | F4: Stand: | G4: 46281
D6: Pädagogische Ziele:
D7: Unser pädagogisches Ziel ist der Erwerb von Handlungskompetenzen zum Thema Klimaschutz in der gesamten Schulgemeinschaft. | I7: =IF(I8="kurzfristig","Übersicht CO2-Reduktionen","") | J7: =IF(J8="kurzfristig","Übersicht CO2-Reduktionen","") | K7: =IF(K$8="kurzfristig","Übersicht CO2-Reduktionen","") | L7: =IF(L8="kurzfristig","Übersicht CO2-Reduktionen","") | M7: =IF(M8="kurzfristig","Übersicht CO2-Reduktionen","") | N7: =IF(N8="kurzfristig","Übersicht CO2-Reduktionen","") | O7: =IF(O8="kurzfristig","Übersicht CO2-Reduktionen","") -> Übersicht CO2-Reduktionen | P7: =IF(P8="kurzfristig","Übersicht CO2-Reduktionen","") | Q7: =IF(Q8="kurzfristig","Übersicht CO2-Reduktionen","") | R7: =IF(R8="kurzfristig","Übersicht CO2-Reduktionen","") | S7: =IF(S8="kurzfristig","Übersicht CO2-Reduktionen","") | ... Z7: =IF(Z8="kurzfristig","Übersicht CO2-Reduktionen","")
I8: =IF((I9-$E$3-2)<-1,"Vergangenheit",IF((I9-$E$3-2)<1,"kurzfristig",IF((I9-$E$3-2)<3,"mittelfristig","langfristig"))) -> Vergangenheit | J8: =IF((J9-$E$3-2)<-1,"Vergangenheit",IF((J9-$E$3-2)<1,"kurzfristig",IF((J9-$E$3-2)<3,"mittelfristig","langfristig"))) -> Vergangenheit | K8: =IF((K9-$E$3-2)<-2,"Vergangenheit",IF((K9-$E$3-2)<1,"kurzfristig",IF((K9-$E$3-2)<3,"mittelfristig","langfristig"))) -> Vergangenheit | L8: =IF((L9-$E$3-2)<-2,"Vergangenheit",IF((L9-$E$3-2)<1,"kurzfristig",IF((L9-$E$3-2)<3,"mittelfristig","langfristig"))) -> Vergangenheit | M8: =IF((M9-$E$3-2)<-1,"Vergangenheit",IF((M9-$E$3-2)<1,"kurzfristig",IF((M9-$E$3-2)<3,"mittelfristig","langfristig"))) -> Vergangenheit | N8: =IF((N9-$E$3-2)<-1,"Vergangenheit",IF((N9-$E$3-2)<1,"kurzfristig",IF((N9-$E$3-2)<3,"mittelfristig","langfristig"))) -> Vergangenheit | O8: =IF((O9-$E$3-2)<-1,"Vergangenheit",IF((O9-$E$3-2)<1,"kurzfristig",IF((O9-$E$3-2)<3,"mittelfristig","langfristig"))) -> kurzfristig | P8: =IF((P9-$E$3-2)<0,"Vergangenheit",IF((P9-$E$3-2)<1,"kurzfristig",IF((P9-$E$3-2)<3,"mittelfristig","langfristig"))) -> mittelfristig | Q8: =IF((Q9-$E$3-2)<0,"Vergangenheit",IF((Q9-$E$3-2)<1,"kurzfristig",IF((Q9-$E$3-2)<3,"mittelfristig","langfristig"))) -> langfristig | R8: =IF((R9-$E$3-2)<0,"Vergangenheit",IF((R9-$E$3-2)<1,"kurzfristig",IF((R9-$E$3-2)<3,"mittelfristig","langfristig"))) -> langfristig | S8: =IF((S9-$E$3-2)<0,"Vergangenheit",IF((S9-$E$3-2)<1,"kurzfristig",IF((S9-$E$3-2)<3,"mittelfristig","langfristig"))) -> langfristig | T8: =IF((T9-$E$3-2)<0,"Vergangenheit",IF((T9-$E$3-2)<1,"kurzfristig",IF((T9-$E$3-2)<3,"mittelfristig","langfristig"))) -> langfristig | U8: =IF((U9-$E$3-2)<0,"Vergangenheit",IF((U9-$E$3-2)<1,"kurzfristig",IF((U9-$E$3-2)<3,"mittelfristig","langfristig"))) -> langfristig | V8: =IF((V9-$E$3-2)<0,"Vergangenheit",IF((V9-$E$3-2)<1,"kurzfristig",IF((V9-$E$3-2)<3,"mittelfristig","langfristig"))) -> langfristig | W8: =IF((W9-$E$3-2)<0,"Vergangenheit",IF((W9-$E$3-2)<1,"kurzfristig",IF((W9-$E$3-2)<3,"mittelfristig","langfristig"))) -> langfristig | ... Z8: =IF((Z9-$E$3-2)<0,"Vergangenheit",IF((Z9-$E$3-2)<1,"kurzfristig",IF((Z9-$E$3-2)<3,"mittelfristig","langfristig"))) -> langfristig
H9: Handlungsfeld | I9: =G13 -> 2017 | J9: =I9+3 -> 2020 | K9: 2020 | L9: =ODD(K9)+1 -> 2022 | M9: =L9+2 -> 2024 | N9: =M9+2 -> 2026 | O9: =N9+2 -> 2028 | P9: =O9+2 -> 2030 | Q9: =P9+2 -> 2032 | R9: =Q9+2 -> 2034 | S9: =R9+2 -> 2036 | T9: =S9+2 -> 2038 | ... Z9: =Y9+2 -> 2050
D10: Planungsziele: | H10: übergreifend | I10: =IF(I27=0,"",I27) -> 150 | J10: =IF(J27=0,"",J27) -> 150 | K10: =IF(K27=0,"",K27) -> 3200 | L10: =IF(L27=0,"",L27) -> 12750 | M10: =IF(M27=0,"",M27) -> 12750 | N10: =IF(N27=0,"",N27) -> 12750 | O10: =IF(O27=0,"",O27) -> 12750 | P10: =IF(P27=0,"",P27) -> 12750 | ... Z10: =IF(Z27=0,"",Z27) -> 12750
D11: Wir senken unsere CO2-Emissionen bis 2030 um | G11: 0.4 | H11: Wärme | I11: =IF(I65=0,"",I65) | J11: =IF(J65=0,"",J65) | K11: =IF(K65=0,"",K65) -> 9350 | L11: =IF(L65=0,"",L65) -> 40850 | M11: =IF(M65=0,"",M65) -> 45750 | N11: =IF(N65=0,"",N65) -> 57450 | O11: =IF(O65=0,"",O65) -> 57450 | P11: =IF(P65=0,"",P65) -> 57450 | ... Z11: =IF(Z65=0,"",Z65) -> 57450
D12: Wir senken unsere CO2-Emissionen bis 2050 um | G12: 0.8 | H12: Strom | I12: =IF(I101=0,"",I101) | J12: =IF(J101=0,"",J101) | K12: =IF(K101=0,"",K101) -> 350 | L12: =IF(L101=0,"",L101) -> 4000 | M12: =IF(M101=0,"",M101) -> 5300 | N12: =IF(N101=0,"",N101) -> 5300 | O12: =IF(O101=0,"",O101) -> 5300 | P12: =IF(P101=0,"",P101) -> 5300 | ... Z12: =IF(Z101=0,"",Z101) -> 5300
D13: Das Ausgangsjahr für die Berechnung ist: | G13: =K9-3 -> 2017 | H13: Abfall | I13: =IF(I137=0,"",I137) | J13: =IF(J137=0,"",J137) | K13: =IF(K137=0,"",K137) | L13: =IF(L137=0,"",L137) | M13: =IF(M137=0,"",M137) | N13: =IF(N137=0,"",N137) | O13: =IF(O137=0,"",O137) | P13: =IF(P137=0,"",P137) | ... Z13: =IF(Z137=0,"",Z137)
D14: Ausgangslage: | H14: Beschaffung | I14: =IF(I173=0,"",I173) | J14: =IF(J173=0,"",J173) | K14: =IF(K173=0,"",K173) | L14: =IF(L173=0,"",L173) | M14: =IF(M173=0,"",M173) | N14: =IF(N173=0,"",N173) | O14: =IF(O173=0,"",O173) | P14: =IF(P173=0,"",P173) | ... Z14: =IF(Z173=0,"",Z173)
D15: CO2-Emissionen für Strom, Abfall, Ernährung, Heizenergie: | G15: ='CO2-Schulbilanz'!E8 -> 250423.47 | H15: Ernährung | I15: =IF(I209=0,"",I209) | J15: =IF(J209=0,"",J209) | K15: =IF(K209=0,"",K209) | L15: =IF(L209=0,"",L209) -> 1000 | M15: =IF(M209=0,"",M209) -> 4500 | N15: =IF(N209=0,"",N209) -> 4500 | O15: =IF(O209=0,"",O209) -> 4500 | P15: =IF(P209=0,"",P209) -> 4500 | ... Z15: =IF(Z209=0,"",Z209) -> 4500
D16: im Jahr: | G16: =G13 -> 2017 | H16: Mobilität | I16: =IF(I245=0,"",I245) | J16: =IF(J245=0,"",J245) | K16: =IF(K245=0,"",K245) | L16: =IF(L245=0,"",L245) | M16: =IF(M245=0,"",M245) | N16: =IF(N245=0,"",N245) | O16: =IF(O245=0,"",O245) | P16: =IF(P245=0,"",P245) | ... Z16: =IF(Z245=0,"",Z245)
D17: Planungsübersicht | H17: Prognose nach Planung | I17: =-SUM(I10:I16) -> -150 | J17: =-SUM(J10:J16) -> -150 | K17: =-SUM(K10:K16) -> -12900 | L17: =-SUM(L10:L16) -> -58600 | M17: =-SUM(M10:M16) -> -68300 | N17: =-SUM(N10:N16) -> -80000 | O17: =-SUM(O10:O16) -> -80000 | P17: =-SUM(P10:P16) -> -80000 | ... Z17: =-SUM(Z10:Z16) -> -80000
D18: In der nachfolgenden Übersicht werden für jedes Handlungsfeld die geplanten Maßnahmen mit den jeweiligen Zeitrahmen und Verantwortlichkeiten aufgeführt. | I18: =I17/$G$15 -> -0.00059898538 | J18: =J17/$G$15 -> -0.00059898538 | K18: =K17/$G$15 -> -0.051512743 | L18: =L17/$G$15 -> -0.23400362 | M18: =M17/$G$15 -> -0.27273801 | N18: =N17/$G$15 -> -0.31945887 | O18: =O17/$G$15 -> -0.31945887 | P18: =P17/$G$15 -> -0.31945887 | ... Z18: =Z17/$G$15 -> -0.31945887
H19: Soll nach Reduktionspfad | I19: =HLOOKUP(I9,'CO2-Schulbilanz'!$F$6:$AV$13,7,0) -> #N/A | J19: =HLOOKUP(J9,'CO2-Schulbilanz'!$F$6:$AV$13,7,0) -> -27847.045 | K19: =HLOOKUP(K9,'CO2-Schulbilanz'!$F$6:$AV$13,7,0) -> -27847.045 | L19: =HLOOKUP(L9,'CO2-Schulbilanz'!$F$6:$AV$13,7,0) -> -44669.329 | M19: =HLOOKUP(M9,'CO2-Schulbilanz'!$F$6:$AV$13,7,0) -> -60220.188 | N19: =HLOOKUP(N9,'CO2-Schulbilanz'!$F$6:$AV$13,7,0) -> -74595.716 | O19: =HLOOKUP(O9,'CO2-Schulbilanz'!$F$6:$AV$13,7,0) -> -87884.744 | P19: =HLOOKUP(P9,'CO2-Schulbilanz'!$F$6:$AV$13,7,0) -> -100169.39 | ... Z19: =HLOOKUP(Z9,'CO2-Schulbilanz'!$F$6:$AV$13,7,0) -> -200338.78
I20: =I19/$G$15 -> #N/A | J20: =J19/$G$15 -> -0.11119982 | K20: =K19/$G$15 -> -0.11119982 | L20: =L19/$G$15 -> -0.17837517 | M20: =M19/$G$15 -> -0.24047341 | N20: =N19/$G$15 -> -0.29787829 | O20: =O19/$G$15 -> -0.35094451 | P20: =P19/$G$15 -> -0.4 | ... Z20: =Z19/$G$15 -> -0.8
D23: Handlungsfeldübergreifender Bereich
D24: Unsere Ziele in diesem Bereich sind …
C25: Nr. | D25: Maßnahme | E25: Termin (Beginn der Umsetzung) | F25: Status der Umsetzung | G25: verantwortlich | H25: Akteure für die Umsetzung | I25: =IF(I$8="kurzfristig","Ziele CO2 & Kompetenzen","") | J25: =IF(J$8="kurzfristig","Ziele CO2 & Kompetenzen","") | K25: =IF(K$8="kurzfristig","Ziele CO2 & Kompetenzen","") | L25: =IF(L$8="kurzfristig","Ziele CO2 & Kompetenzen","") | M25: =IF(M$8="kurzfristig","Ziele CO2 & Kompetenzen","") | N25: =IF(N$8="kurzfristig","Ziele CO2 & Kompetenzen","") | O25: =IF(O$8="kurzfristig","Ziele CO2 & Kompetenzen","") -> Ziele CO2 & Kompetenzen | P25: =IF(P$8="kurzfristig","Ziele CO2 & Kompetenzen","") | ... Z25: =IF(Z$8="kurzfristig","Ziele CO2 & Kompetenzen","")
I26: =$I$9 -> 2017 | J26: =J$9 -> 2020 | K26: =K$9 -> 2020 | L26: =L$9 -> 2022 | M26: =L26+2 -> 2024 | N26: =M26+2 -> 2026 | O26: =N26+2 -> 2028 | P26: =O26+2 -> 2030 | Q26: =P26+2 -> 2032 | R26: =Q26+2 -> 2034 | S26: =R26+2 -> 2036 | T26: =S26+2 -> 2038 | ... Z26: =Y26+2 -> 2050
H27: Summen: | I27: =SUM(I28:I59) -> 150 | J27: =SUM(J28:J59) -> 150 | K27: =SUM(K28:K59) -> 3200 | L27: =SUM(L28:L59) -> 12750 | M27: =SUM(M28:M59) -> 12750 | N27: =SUM(N28:N59) -> 12750 | O27: =SUM(O28:O59) -> 12750 | P27: =SUM(P28:P59) -> 12750 | ... Z27: =SUM(Z28:Z59) -> 12750
C28: Ü1 | D28: Energiedienst schließt Fenster, stellt die Thermostate richtig ein und schaltet nicht benötigte Geräte und Lichter aus. | E28: 2020 | F28: umgesetzt | G28: Lotzin | H28: Klassenlehrer | I28: 150 | J28: =I28 -> 150 | K28: =ROUND(L28/4,-2) -> 3200 | L28: =11250+1500 -> 12750 | M28: =L28 -> 12750 | N28: =M28 -> 12750 | O28: =N28 -> 12750 | P28: =O28 -> 12750 | Q28: =P28 -> 12750 | R28: =Q28 -> 12750 | S28: =R28 -> 12750 | T28: =S28 -> 12750 | ... Z28: =Y28 -> 12750
J29: =I29 | K29: einführen in Jg. 3-4 | L29: feste Dienste | M29: =L29 -> feste Dienste | N29: =M29 -> feste Dienste | O29: =N29 -> feste Dienste | P29: =O29 -> feste Dienste | Q29: =P29 -> feste Dienste | R29: =Q29 -> feste Dienste | S29: =R29 -> feste Dienste | T29: =S29 -> feste Dienste | ... Z29: =Y29 -> feste Dienste
C30: Ü2 | D30: Die Themen Klimaschutz/Energie/Abfall werden im Unterricht behandelt und in das Curriculum integriert | E30: 2020 | F30: umgesetzt | G30: Kahm | H30: Klassenlehrer | I30: 0 | J30: =I30 -> 0 | P30: =O30 -> 0 | Q30: =P30 -> 0 | R30: =Q30 -> 0 | S30: =R30 -> 0 | T30: =S30 -> 0 | U30: =T30 -> 0 | V30: =U30 -> 0 | W30: =V30 -> 0 | ... Z30: =Y30 -> 0
F31: umgesetzt | J31: =I31 | P31: =O31 -> 0 | Q31: =P31 -> 0 | R31: =Q31 -> 0 | S31: =R31 -> 0 | T31: =S31 -> 0 | U31: =T31 -> 0 | V31: =U31 -> 0 | W31: =V31 -> 0 | ... Z31: =Y31 -> 0
C32: Ü3 | D32: Es wird ein Klima und Energie-Team (Klimaschutzgruppe) gegründet, das sich um ressourcensparendes Verhalten kümmert | E32: 2020 | F32: umgesetzt | G32: Lotzin | H32: GBS, Lehrkräfte, Eltern, Hausmeister | I32: 0 | J32: =I32 -> 0 | P32: =O32 -> 0 | Q32: =P32 -> 0 | R32: =Q32 -> 0 | S32: =R32 -> 0 | T32: =S32 -> 0 | U32: =T32 -> 0 | V32: =U32 -> 0 | W32: =V32 -> 0 | ... Z32: =Y32 -> 0
J33: =I33 | P33: =O33 -> 0 | Q33: =P33 -> 0 | R33: =Q33 -> 0 | S33: =R33 -> 0 | T33: =S33 -> 0 | U33: =T33 -> 0 | V33: =U33 -> 0 | W33: =V33 -> 0 | ... Z33: =Y33 -> 0
C34: Ü4 | D34: Energie hoch 4 Prämien werden für Klimaschutzaktivitäten an der Schule eingesetzt | E34: 2021 | F34: wird laufend umgesetzt | G34: Schulleitung | H34: Lotzin | I34: 0 | J34: =I34 -> 0 | P34: =O34 -> 0 | Q34: =P34 -> 0 | R34: =Q34 -> 0 | S34: =R34 -> 0 | T34: =S34 -> 0 | U34: =T34 -> 0 | V34: =U34 -> 0 | W34: =V34 -> 0 | ... Z34: =Y34 -> 0
F35: zukünftiger Termin | J35: =I35 | P35: =O35 -> 0 | Q35: =P35 -> 0 | R35: =Q35 -> 0 | S35: =R35 -> 0 | T35: =S35 -> 0 | U35: =T35 -> 0 | V35: =U35 -> 0 | W35: =V35 -> 0 | ... Z35: =Y35 -> 0
C36: Ü5 | D36: Es werden Hinweise angebracht zu angemessener Beleuchtung und Umgang mit Strom, Heizen und Lüften und Mülltrennung | E36: 2020 | F36: wird laufend umgesetzt | G36: Lotzin | H36: Klassenlehrer, HM | I36: 0 | J36: =I36 -> 0 | P36: =O36 -> 0 | Q36: =P36 -> 0 | R36: =Q36 -> 0 | S36: =R36 -> 0 | T36: =S36 -> 0 | U36: =T36 -> 0 | V36: =U36 -> 0 | W36: =V36 -> 0 | ... Z36: =Y36 -> 0
F37: in Umsetzung (Anfang) | J37: =I37 | K37: Abfalleimer | L37: Alle weiteren Bereiche | M37: Hinweise an allen Objekten | N37: Hinweise an allen Objekten | O37: Hinweise an allen Objekten | P37: =O37 -> Hinweise an allen Objekten | Q37: =P37 -> Hinweise an allen Objekten | R37: =Q37 -> Hinweise an allen Objekten | S37: =R37 -> Hinweise an allen Objekten | T37: =S37 -> Hinweise an allen Objekten | U37: =T37 -> Hinweise an allen Objekten | V37: =U37 -> Hinweise an allen Objekten | W37: =V37 -> Hinweise an allen Objekten | ... Z37: =Y37 -> Hinweise an allen Objekten
C38: Ü6 | D38: Es wird ein einfaches Meldesystem für energetische Schwachstellen eingerichtet | E38: 2020 | F38: wird laufend umgesetzt | G38: HM | H38: Klassenlehrer | I38: 0 | J38: =I38 -> 0 | P38: =O38 -> 0 | Q38: =P38 -> 0 | R38: =Q38 -> 0 | S38: =R38 -> 0 | T38: =S38 -> 0 | U38: =T38 -> 0 | V38: =U38 -> 0 | W38: =V38 -> 0 | ... Z38: =Y38 -> 0
J39: =I39 | P39: =O39 -> 0 | Q39: =P39 -> 0 | R39: =Q39 -> 0 | S39: =R39 -> 0 | T39: =S39 -> 0 | U39: =T39 -> 0 | V39: =U39 -> 0 | W39: =V39 -> 0 | ... Z39: =Y39 -> 0
C40: Ü7 | D40: Klimaschutzaktivitäten werden regelmäßig nach innen (Schulkonferenz) und außen kommuniziert, z.B. auf der Schulhomepage | E40: 2021 | F40: umgesetzt | G40: Lotzin | H40: Hoffmann, Kahm | I40: 0 | J40: =I40 -> 0 | P40: =O40 -> 0 | Q40: =P40 -> 0 | R40: =Q40 -> 0 | S40: =R40 -> 0 | T40: =S40 -> 0 | U40: =T40 -> 0 | V40: =U40 -> 0 | W40: =V40 -> 0 | ... Z40: =Y40 -> 0
J41: =I41 | P41: =O41 -> 0 | Q41: =P41 -> 0 | R41: =Q41 -> 0 | S41: =R41 -> 0 | T41: =S41 -> 0 | U41: =T41 -> 0 | V41: =U41 -> 0 | W41: =V41 -> 0 | ... Z41: =Y41 -> 0
C42: Ü8 | D42: Es wird jährlich ein Klimarundgang durchgeführt, um Klimaschutzmöglichkeiten zu identifizieren | E42: 2020 | F42: wird laufend umgesetzt | G42: Lotzin | H42: Klimaschutzgruppe, HM, Energiedetektive | I42: 0 | J42: =I42 -> 0 | P42: =O42 -> 0 | Q42: =P42 -> 0 | R42: =Q42 -> 0 | S42: =R42 -> 0 | T42: =S42 -> 0 | U42: =T42 -> 0 | V42: =U42 -> 0 | W42: =V42 -> 0 | ... Z42: =Y42 -> 0
J43: =I43 | P43: =O43 -> 0 | Q43: =P43 -> 0 | R43: =Q43 -> 0 | S43: =R43 -> 0 | T43: =S43 -> 0 | U43: =T43 -> 0 | V43: =U43 -> 0 | W43: =V43 -> 0 | ... Z43: =Y43 -> 0
C44: Ü9 | D44: Die Schule erarbeitet mittelfristig ein Umweltcurriculum | E44: 2020 | F44: umgesetzt | G44: Lotzin | H44: Kahm, Klassenlehrer | I44: 0 | J44: =I44 -> 0 | P44: =O44 -> 0 | Q44: =P44 -> 0 | R44: =Q44 -> 0 | S44: =R44 -> 0 | T44: =S44 -> 0 | U44: =T44 -> 0 | V44: =U44 -> 0 | W44: =V44 -> 0 | ... Z44: =Y44 -> 0
...

Sheet Chronologische Liste
C2: Chronologische Maßnahmen-Liste | G2: Stand: | H2: 45560
C3: Alle Handlungsfelder
C4: Hinweis: Nach Änderungen an der Planungsübersicht bitte die Tasten Strg+Alt+L drücken (Ansicht aktualisieren)
B5: =Planungsübersicht!C25 -> Nr. | C5: =Planungsübersicht!D25 -> Maßnahme | D5: =Planungsübersicht!E25 -> Termin (Beginn der Umsetzung) | E5: =Planungsübersicht!F25 -> Status der Umsetzung | F5: =Planungsübersicht!G25 -> verantwortlich | G5: =Planungsübersicht!H25 -> Akteure für die Umsetzung | H5: Ziele CO2
B6: =IF(AND(Planungsübersicht!$E36>1990,TYPE(Planungsübersicht!$E36)=1), Planungsübersicht!C36," ") -> Ü5 | C6: =IF(AND(Planungsübersicht!$E36>1990,TYPE(Planungsübersicht!$E36)=1), Planungsübersicht!D36," ") -> Es werden Hinweise angebracht zu angemessener Beleuchtung und Umgang mit Strom, Heizen und Lüften und Mülltrennung | D6: =IF(AND(Planungsübersicht!$E36>1990,TYPE(Planungsübersicht!$E36)=1), Planungsübersicht!E36," ") -> 2020 | E6: =IF(AND(Planungsübersicht!$E36>1990,TYPE(Planungsübersicht!$E36)=1), Planungsübersicht!F36," ") -> wird laufend umgesetzt | F6: =IF(AND(Planungsübersicht!$E36>1990,TYPE(Planungsübersicht!$E36)=1), Planungsübersicht!G36," ") -> Lotzin | G6: =IF(AND(Planungsübersicht!$E36>1990,TYPE(Planungsübersicht!$E36)=1), Planungsübersicht!H36," ") -> Klassenlehrer, HM | H6: =IF(AND(Planungsübersicht!$E36>1990,TYPE(Planungsübersicht!$E36)=1), MAX(Planungsübersicht!I36:Z36)," ") -> 0
B7: =IF(AND(Planungsübersicht!$E37>1990,TYPE(Planungsübersicht!$E37)=1),Planungsübersicht!C37," ") | C7: =IF(AND(Planungsübersicht!$E37>1990,TYPE(Planungsübersicht!$E37)=1),Planungsübersicht!D37," ") | D7: =IF(AND(Planungsübersicht!$E37>1990,TYPE(Planungsübersicht!$E37)=1),Planungsübersicht!E37," ") | E7: =IF(AND(Planungsübersicht!$E37>1990,TYPE(Planungsübersicht!$E37)=1),Planungsübersicht!F37," ") | F7: =IF(AND(Planungsübersicht!$E37>1990,TYPE(Planungsübersicht!$E37)=1),Planungsübersicht!G37," ") | G7: =IF(AND(Planungsübersicht!$E37>1990,TYPE(Planungsübersicht!$E37)=1),Planungsübersicht!H37," ") | H7: =IF(AND(Planungsübersicht!$E37>1990,TYPE(Planungsübersicht!$E37)=1),MAX(Planungsübersicht!I37:Z37)," ")
B8: =IF(AND(Planungsübersicht!$E30>1990,TYPE(Planungsübersicht!$E30)=1),Planungsübersicht!C30," ") -> Ü2 | C8: =IF(AND(Planungsübersicht!$E30>1990,TYPE(Planungsübersicht!$E30)=1),Planungsübersicht!D30," ") -> Die Themen Klimaschutz/Energie/Abfall werden im Unterricht behandelt und in das Curriculum integriert | D8: =IF(AND(Planungsübersicht!$E30>1990,TYPE(Planungsübersicht!$E30)=1),Planungsübersicht!E30," ") -> 2020 | E8: =IF(AND(Planungsübersicht!$E30>1990,TYPE(Planungsübersicht!$E30)=1),Planungsübersicht!F30," ") -> umgesetzt | F8: =IF(AND(Planungsübersicht!$E30>1990,TYPE(Planungsübersicht!$E30)=1),Planungsübersicht!G30," ") -> Kahm | G8: =IF(AND(Planungsübersicht!$E30>1990,TYPE(Planungsübersicht!$E30)=1),Planungsübersicht!H30," ") -> Klassenlehrer | H8: =IF(AND(Planungsübersicht!$E30>1990,TYPE(Planungsübersicht!$E30)=1),MAX(Planungsübersicht!I30:Z30)," ") -> 0
B9: =IF(AND(Planungsübersicht!$E29>1990,TYPE(Planungsübersicht!$E29)=1),Planungsübersicht!C29," ") | C9: =IF(AND(Planungsübersicht!$E29>1990,TYPE(Planungsübersicht!$E29)=1),Planungsübersicht!D29," ") | D9: =IF(AND(Planungsübersicht!$E29>1990,TYPE(Planungsübersicht!$E29)=1),Planungsübersicht!E29," ") | E9: =IF(AND(Planungsübersicht!$E29>1990,TYPE(Planungsübersicht!$E29)=1),Planungsübersicht!F29," ") | F9: =IF(AND(Planungsübersicht!$E29>1990,TYPE(Planungsübersicht!$E29)=1),Planungsübersicht!G29," ") | G9: =IF(AND(Planungsübersicht!$E29>1990,TYPE(Planungsübersicht!$E29)=1),Planungsübersicht!H29," ") | H9: =IF(AND(Planungsübersicht!$E29>1990,TYPE(Planungsübersicht!$E29)=1),MAX(Planungsübersicht!I29:Z29)," ")
B10: =IF(AND(Planungsübersicht!$E30>1990,TYPE(Planungsübersicht!$E30)=1),Planungsübersicht!C30," ") -> Ü2 | C10: =IF(AND(Planungsübersicht!$E30>1990,TYPE(Planungsübersicht!$E30)=1),Planungsübersicht!D30," ") -> Die Themen Klimaschutz/Energie/Abfall werden im Unterricht behandelt und in das Curriculum integriert | D10: =IF(AND(Planungsübersicht!$E30>1990,TYPE(Planungsübersicht!$E30)=1),Planungsübersicht!E30," ") -> 2020 | E10: =IF(AND(Planungsübersicht!$E30>1990,TYPE(Planungsübersicht!$E30)=1),Planungsübersicht!F30," ") -> umgesetzt | F10: =IF(AND(Planungsübersicht!$E30>1990,TYPE(Planungsübersicht!$E30)=1),Planungsübersicht!G30," ") -> Kahm | G10: =IF(AND(Planungsübersicht!$E30>1990,TYPE(Planungsübersicht!$E30)=1),Planungsübersicht!H30," ") -> Klassenlehrer | H10: =IF(AND(Planungsübersicht!$E30>1990,TYPE(Planungsübersicht!$E30)=1),MAX(Planungsübersicht!I30:Z30)," ") -> 0
B11: =IF(AND(Planungsübersicht!$E31>1990,TYPE(Planungsübersicht!$E31)=1),Planungsübersicht!C31," ") | C11: =IF(AND(Planungsübersicht!$E31>1990,TYPE(Planungsübersicht!$E31)=1),Planungsübersicht!D31," ") | D11: =IF(AND(Planungsübersicht!$E31>1990,TYPE(Planungsübersicht!$E31)=1),Planungsübersicht!E31," ") | E11: =IF(AND(Planungsübersicht!$E31>1990,TYPE(Planungsübersicht!$E31)=1),Planungsübersicht!F31," ") | F11: =IF(AND(Planungsübersicht!$E31>1990,TYPE(Planungsübersicht!$E31)=1),Planungsübersicht!G31," ") | G11: =IF(AND(Planungsübersicht!$E31>1990,TYPE(Planungsübersicht!$E31)=1),Planungsübersicht!H31," ") | H11: =IF(AND(Planungsübersicht!$E31>1990,TYPE(Planungsübersicht!$E31)=1),MAX(Planungsübersicht!I31:Z31)," ")
B12: =IF(AND(Planungsübersicht!$E32>1990,TYPE(Planungsübersicht!$E32)=1),Planungsübersicht!C32," ") -> Ü3 | C12: =IF(AND(Planungsübersicht!$E32>1990,TYPE(Planungsübersicht!$E32)=1),Planungsübersicht!D32," ") -> Es wird ein Klima und Energie-Team (Klimaschutzgruppe) gegründet, das sich um ressourcensparendes Verhalten kümmert | D12: =IF(AND(Planungsübersicht!$E32>1990,TYPE(Planungsübersicht!$E32)=1),Planungsübersicht!E32," ") -> 2020 | E12: =IF(AND(Planungsübersicht!$E32>1990,TYPE(Planungsübersicht!$E32)=1),Planungsübersicht!F32," ") -> umgesetzt | F12: =IF(AND(Planungsübersicht!$E32>1990,TYPE(Planungsübersicht!$E32)=1),Planungsübersicht!G32," ") -> Lotzin | G12: =IF(AND(Planungsübersicht!$E32>1990,TYPE(Planungsübersicht!$E32)=1),Planungsübersicht!H32," ") -> GBS, Lehrkräfte, Eltern, Hausmeister | H12: =IF(AND(Planungsübersicht!$E32>1990,TYPE(Planungsübersicht!$E32)=1),MAX(Planungsübersicht!I32:Z32)," ") -> 0
B13: =IF(AND(Planungsübersicht!$E33>1990,TYPE(Planungsübersicht!$E33)=1),Planungsübersicht!C33," ") | C13: =IF(AND(Planungsübersicht!$E33>1990,TYPE(Planungsübersicht!$E33)=1),Planungsübersicht!D33," ") | D13: =IF(AND(Planungsübersicht!$E33>1990,TYPE(Planungsübersicht!$E33)=1),Planungsübersicht!E33," ") | E13: =IF(AND(Planungsübersicht!$E33>1990,TYPE(Planungsübersicht!$E33)=1),Planungsübersicht!F33," ") | F13: =IF(AND(Planungsübersicht!$E33>1990,TYPE(Planungsübersicht!$E33)=1),Planungsübersicht!G33," ") | G13: =IF(AND(Planungsübersicht!$E33>1990,TYPE(Planungsübersicht!$E33)=1),Planungsübersicht!H33," ") | H13: =IF(AND(Planungsübersicht!$E33>1990,TYPE(Planungsübersicht!$E33)=1),MAX(Planungsübersicht!I33:Z33)," ")
B14: =IF(AND(Planungsübersicht!$E36>1990,TYPE(Planungsübersicht!$E36)=1),Planungsübersicht!C36," ") -> Ü5 | C14: =IF(AND(Planungsübersicht!$E36>1990,TYPE(Planungsübersicht!$E36)=1),Planungsübersicht!D36," ") -> Es werden Hinweise angebracht zu angemessener Beleuchtung und Umgang mit Strom, Heizen und Lüften und Mülltrennung | D14: =IF(AND(Planungsübersicht!$E36>1990,TYPE(Planungsübersicht!$E36)=1),Planungsübersicht!E36," ") -> 2020 | E14: =IF(AND(Planungsübersicht!$E36>1990,TYPE(Planungsübersicht!$E36)=1),Planungsübersicht!F36," ") -> wird laufend umgesetzt | F14: =IF(AND(Planungsübersicht!$E36>1990,TYPE(Planungsübersicht!$E36)=1),Planungsübersicht!G36," ") -> Lotzin | G14: =IF(AND(Planungsübersicht!$E36>1990,TYPE(Planungsübersicht!$E36)=1),Planungsübersicht!H36," ") -> Klassenlehrer, HM | H14: =IF(AND(Planungsübersicht!$E36>1990,TYPE(Planungsübersicht!$E36)=1),MAX(Planungsübersicht!I36:Z36)," ") -> 0
B15: =IF(AND(Planungsübersicht!$E38>1990,TYPE(Planungsübersicht!$E38)=1),Planungsübersicht!C38," ") -> Ü6 | C15: =IF(AND(Planungsübersicht!$E38>1990,TYPE(Planungsübersicht!$E38)=1),Planungsübersicht!D38," ") -> Es wird ein einfaches Meldesystem für energetische Schwachstellen eingerichtet | D15: =IF(AND(Planungsübersicht!$E38>1990,TYPE(Planungsübersicht!$E38)=1),Planungsübersicht!E38," ") -> 2020 | E15: =IF(AND(Planungsübersicht!$E38>1990,TYPE(Planungsübersicht!$E38)=1),Planungsübersicht!F38," ") -> wird laufend umgesetzt | F15: =IF(AND(Planungsübersicht!$E38>1990,TYPE(Planungsübersicht!$E38)=1),Planungsübersicht!G38," ") -> HM | G15: =IF(AND(Planungsübersicht!$E38>1990,TYPE(Planungsübersicht!$E38)=1),Planungsübersicht!H38," ") -> Klassenlehrer | H15: =IF(AND(Planungsübersicht!$E38>1990,TYPE(Planungsübersicht!$E38)=1),MAX(Planungsübersicht!I38:Z38)," ") -> 0
B16: =IF(AND(Planungsübersicht!$E42>1990,TYPE(Planungsübersicht!$E42)=1),Planungsübersicht!C42," ") -> Ü8 | C16: =IF(AND(Planungsübersicht!$E42>1990,TYPE(Planungsübersicht!$E42)=1),Planungsübersicht!D42," ") -> Es wird jährlich ein Klimarundgang durchgeführt, um Klimaschutzmöglichkeiten zu identifizieren | D16: =IF(AND(Planungsübersicht!$E42>1990,TYPE(Planungsübersicht!$E42)=1),Planungsübersicht!E42," ") -> 2020 | E16: =IF(AND(Planungsübersicht!$E42>1990,TYPE(Planungsübersicht!$E42)=1),Planungsübersicht!F42," ") -> wird laufend umgesetzt | F16: =IF(AND(Planungsübersicht!$E42>1990,TYPE(Planungsübersicht!$E42)=1),Planungsübersicht!G42," ") -> Lotzin | G16: =IF(AND(Planungsübersicht!$E42>1990,TYPE(Planungsübersicht!$E42)=1),Planungsübersicht!H42," ") -> Klimaschutzgruppe, HM, Energiedetektive | H16: =IF(AND(Planungsübersicht!$E42>1990,TYPE(Planungsübersicht!$E42)=1),MAX(Planungsübersicht!I42:Z42)," ") -> 0
B17: =IF(AND(Planungsübersicht!$E39>1990,TYPE(Planungsübersicht!$E39)=1),Planungsübersicht!C39," ") | C17: =IF(AND(Planungsübersicht!$E39>1990,TYPE(Planungsübersicht!$E39)=1),Planungsübersicht!D39," ") | D17: =IF(AND(Planungsübersicht!$E39>1990,TYPE(Planungsübersicht!$E39)=1),Planungsübersicht!E39," ") | E17: =IF(AND(Planungsübersicht!$E39>1990,TYPE(Planungsübersicht!$E39)=1),Planungsübersicht!F39," ") | F17: =IF(AND(Planungsübersicht!$E39>1990,TYPE(Planungsübersicht!$E39)=1),Planungsübersicht!G39," ") | G17: =IF(AND(Planungsübersicht!$E39>1990,TYPE(Planungsübersicht!$E39)=1),Planungsübersicht!H39," ") | H17: =IF(AND(Planungsübersicht!$E39>1990,TYPE(Planungsübersicht!$E39)=1),MAX(Planungsübersicht!I39:Z39)," ")
B18: =IF(AND(Planungsübersicht!$E44>1990,TYPE(Planungsübersicht!$E44)=1),Planungsübersicht!C44," ") -> Ü9 | C18: =IF(AND(Planungsübersicht!$E44>1990,TYPE(Planungsübersicht!$E44)=1),Planungsübersicht!D44," ") -> Die Schule erarbeitet mittelfristig ein Umweltcurriculum | D18: =IF(AND(Planungsübersicht!$E44>1990,TYPE(Planungsübersicht!$E44)=1),Planungsübersicht!E44," ") -> 2020 | E18: =IF(AND(Planungsübersicht!$E44>1990,TYPE(Planungsübersicht!$E44)=1),Planungsübersicht!F44," ") -> umgesetzt | F18: =IF(AND(Planungsübersicht!$E44>1990,TYPE(Planungsübersicht!$E44)=1),Planungsübersicht!G44," ") -> Lotzin | G18: =IF(AND(Planungsübersicht!$E44>1990,TYPE(Planungsübersicht!$E44)=1),Planungsübersicht!H44," ") -> Kahm, Klassenlehrer | H18: =IF(AND(Planungsübersicht!$E44>1990,TYPE(Planungsübersicht!$E44)=1),MAX(Planungsübersicht!I44:Z44)," ") -> 0
B19: =IF(AND(Planungsübersicht!$E41>1990,TYPE(Planungsübersicht!$E41)=1),Planungsübersicht!C41," ") | C19: =IF(AND(Planungsübersicht!$E41>1990,TYPE(Planungsübersicht!$E41)=1),Planungsübersicht!D41," ") | D19: =IF(AND(Planungsübersicht!$E41>1990,TYPE(Planungsübersicht!$E41)=1),Planungsübersicht!E41," ") | E19: =IF(AND(Planungsübersicht!$E41>1990,TYPE(Planungsübersicht!$E41)=1),Planungsübersicht!F41," ") | F19: =IF(AND(Planungsübersicht!$E41>1990,TYPE(Planungsübersicht!$E41)=1),Planungsübersicht!G41," ") | G19: =IF(AND(Planungsübersicht!$E41>1990,TYPE(Planungsübersicht!$E41)=1),Planungsübersicht!H41," ") | H19: =IF(AND(Planungsübersicht!$E41>1990,TYPE(Planungsübersicht!$E41)=1),MAX(Planungsübersicht!I41:Z41)," ")
B20: =IF(AND(Planungsübersicht!$E46>1990,TYPE(Planungsübersicht!$E46)=1),Planungsübersicht!C46," ") -> Ü10 | C20: =IF(AND(Planungsübersicht!$E46>1990,TYPE(Planungsübersicht!$E46)=1),Planungsübersicht!D46," ") -> Schulgelände naturnah gestalten (Anpassung an den Klimawandel) mit jährlichem Gartentag | D20: =IF(AND(Planungsübersicht!$E46>1990,TYPE(Planungsübersicht!$E46)=1),Planungsübersicht!E46," ") -> 2020 | E20: =IF(AND(Planungsübersicht!$E46>1990,TYPE(Planungsübersicht!$E46)=1),Planungsübersicht!F46," ") -> wird laufend umgesetzt | F20: =IF(AND(Planungsübersicht!$E46>1990,TYPE(Planungsübersicht!$E46)=1),Planungsübersicht!G46," ") -> Schulleitung/ Lotzin | G20: =IF(AND(Planungsübersicht!$E46>1990,TYPE(Planungsübersicht!$E46)=1),Planungsübersicht!H46," ") -> GBS, Lehrkräfte, Eltern, Hausmeister | H20: =IF(AND(Planungsübersicht!$E46>1990,TYPE(Planungsübersicht!$E46)=1),MAX(Planungsübersicht!I46:Z46)," ") -> 0
B21: =IF(AND(Planungsübersicht!$E43>1990,TYPE(Planungsübersicht!$E43)=1),Planungsübersicht!C43," ") | C21: =IF(AND(Planungsübersicht!$E43>1990,TYPE(Planungsübersicht!$E43)=1),Planungsübersicht!D43," ") | D21: =IF(AND(Planungsübersicht!$E43>1990,TYPE(Planungsübersicht!$E43)=1),Planungsübersicht!E43," ") | E21: =IF(AND(Planungsübersicht!$E43>1990,TYPE(Planungsübersicht!$E43)=1),Planungsübersicht!F43," ") | F21: =IF(AND(Planungsübersicht!$E43>1990,TYPE(Planungsübersicht!$E43)=1),Planungsübersicht!G43," ") | G21: =IF(AND(Planungsübersicht!$E43>1990,TYPE(Planungsübersicht!$E43)=1),Planungsübersicht!H43," ") | H21: =IF(AND(Planungsübersicht!$E43>1990,TYPE(Planungsübersicht!$E43)=1),MAX(Planungsübersicht!I43:Z43)," ")
B22: =IF(AND(Planungsübersicht!$E48>1990,TYPE(Planungsübersicht!$E48)=1),Planungsübersicht!C48," ") -> Ü11 | C22: =IF(AND(Planungsübersicht!$E48>1990,TYPE(Planungsübersicht!$E48)=1),Planungsübersicht!D48," ") -> Schulpartnerschaft mit Schule in Brasilien gibt Einblick in Situation vor Ort, z.B. Regenwaldbrände | D22: =IF(AND(Planungsübersicht!$E48>1990,TYPE(Planungsübersicht!$E48)=1),Planungsübersicht!E48," ") -> 2020 | E22: =IF(AND(Planungsübersicht!$E48>1990,TYPE(Planungsübersicht!$E48)=1),Planungsübersicht!F48," ") -> wird laufend umgesetzt | F22: =IF(AND(Planungsübersicht!$E48>1990,TYPE(Planungsübersicht!$E48)=1),Planungsübersicht!G48," ") -> Wöbeking | G22: =IF(AND(Planungsübersicht!$E48>1990,TYPE(Planungsübersicht!$E48)=1),Planungsübersicht!H48," ") -> 0 | H22: =IF(AND(Planungsübersicht!$E48>1990,TYPE(Planungsübersicht!$E48)=1),MAX(Planungsübersicht!I48:Z48)," ") -> 0
B23: =IF(AND(Planungsübersicht!$E45>1990,TYPE(Planungsübersicht!$E45)=1),Planungsübersicht!C45," ") | C23: =IF(AND(Planungsübersicht!$E45>1990,TYPE(Planungsübersicht!$E45)=1),Planungsübersicht!D45," ") | D23: =IF(AND(Planungsübersicht!$E45>1990,TYPE(Planungsübersicht!$E45)=1),Planungsübersicht!E45," ") | E23: =IF(AND(Planungsübersicht!$E45>1990,TYPE(Planungsübersicht!$E45)=1),Planungsübersicht!F45," ") | F23: =IF(AND(Planungsübersicht!$E45>1990,TYPE(Planungsübersicht!$E45)=1),Planungsübersicht!G45," ") | G23: =IF(AND(Planungsübersicht!$E45>1990,TYPE(Planungsübersicht!$E45)=1),Planungsübersicht!H45," ") | H23: =IF(AND(Planungsübersicht!$E45>1990,TYPE(Planungsübersicht!$E45)=1),MAX(Planungsübersicht!I45:Z45)," ")
B24: =IF(AND(Planungsübersicht!$E54>1990,TYPE(Planungsübersicht!$E54)=1),Planungsübersicht!C54," ") -> Ü14 | C24: =IF(AND(Planungsübersicht!$E54>1990,TYPE(Planungsübersicht!$E54)=1),Planungsübersicht!D54," ") -> NEU 2026: (RISA) Umleitung Regenwasser in das Grundwasser anstatt in das Abwassersiel, Renaturierung, Wasserrückhalteförderung | D24: =IF(AND(Planungsübersicht!$E54>1990,TYPE(Planungsübersicht!$E54)=1),Planungsübersicht!E54," ") -> 2026 | E24: =IF(AND(Planungsübersicht!$E54>1990,TYPE(Planungsübersicht!$E54)=1),Planungsübersicht!F54," ") -> umgesetzt | F24: =IF(AND(Planungsübersicht!$E54>1990,TYPE(Planungsübersicht!$E54)=1),Planungsübersicht!G54," ") -> Lotzin | G24: =IF(AND(Planungsübersicht!$E54>1990,TYPE(Planungsübersicht!$E54)=1),Planungsübersicht!H54," ") -> Hausmeister, Schulleitung, Hamburg Wasser | H24: =IF(AND(Planungsübersicht!$E54>1990,TYPE(Planungsübersicht!$E54)=1),MAX(Planungsübersicht!I54:Z54)," ") -> 0
B25: =IF(AND(Planungsübersicht!$E47>1990,TYPE(Planungsübersicht!$E47)=1),Planungsübersicht!C47," ") | C25: =IF(AND(Planungsübersicht!$E47>1990,TYPE(Planungsübersicht!$E47)=1),Planungsübersicht!D47," ") | D25: =IF(AND(Planungsübersicht!$E47>1990,TYPE(Planungsübersicht!$E47)=1),Planungsübersicht!E47," ") | E25: =IF(AND(Planungsübersicht!$E47>1990,TYPE(Planungsübersicht!$E47)=1),Planungsübersicht!F47," ") | F25: =IF(AND(Planungsübersicht!$E47>1990,TYPE(Planungsübersicht!$E47)=1),Planungsübersicht!G47," ") | G25: =IF(AND(Planungsübersicht!$E47>1990,TYPE(Planungsübersicht!$E47)=1),Planungsübersicht!H47," ") | H25: =IF(AND(Planungsübersicht!$E47>1990,TYPE(Planungsübersicht!$E47)=1),MAX(Planungsübersicht!I47:Z47)," ")
B26: =IF(AND(Planungsübersicht!$E66>1990,TYPE(Planungsübersicht!$E66)=1),Planungsübersicht!C66," ") -> W1 | C26: =IF(AND(Planungsübersicht!$E66>1990,TYPE(Planungsübersicht!$E66)=1),Planungsübersicht!D66," ") -> Stoßlüften: Fenster freigeben für vollständiges Öffnen (zwei Fenster pro Raum) | D26: =IF(AND(Planungsübersicht!$E66>1990,TYPE(Planungsübersicht!$E66)=1),Planungsübersicht!E66," ") -> 2020 | E26: =IF(AND(Planungsübersicht!$E66>1990,TYPE(Planungsübersicht!$E66)=1),Planungsübersicht!F66," ") -> umgesetzt | F26: =IF(AND(Planungsübersicht!$E66>1990,TYPE(Planungsübersicht!$E66)=1),Planungsübersicht!G66," ") -> Hausmeister | G26: KlassenlehrerInnen, SuS | H26: =IF(AND(Planungsübersicht!$E66>1990,TYPE(Planungsübersicht!$E66)=1),MAX(Planungsübersicht!I66:Z66)," ") -> 0
B27: =IF(AND(Planungsübersicht!$E49>1990,TYPE(Planungsübersicht!$E49)=1),Planungsübersicht!C49," ") | C27: =IF(AND(Planungsübersicht!$E49>1990,TYPE(Planungsübersicht!$E49)=1),Planungsübersicht!D49," ") | D27: =IF(AND(Planungsübersicht!$E49>1990,TYPE(Planungsübersicht!$E49)=1),Planungsübersicht!E49," ") | E27: =IF(AND(Planungsübersicht!$E49>1990,TYPE(Planungsübersicht!$E49)=1),Planungsübersicht!F49," ") | F27: =IF(AND(Planungsübersicht!$E49>1990,TYPE(Planungsübersicht!$E49)=1),Planungsübersicht!G49," ") | G27: =IF(AND(Planungsübersicht!$E49>1990,TYPE(Planungsübersicht!$E49)=1),Planungsübersicht!H49," ") | H27: =IF(AND(Planungsübersicht!$E49>1990,TYPE(Planungsübersicht!$E49)=1),MAX(Planungsübersicht!I49:Z49)," ")
B28: =IF(AND(Planungsübersicht!$E78>1990,TYPE(Planungsübersicht!$E78)=1),Planungsübersicht!C78," ") -> W7 | C28: =IF(AND(Planungsübersicht!$E78>1990,TYPE(Planungsübersicht!$E78)=1),Planungsübersicht!D78," ") -> Thermostate in den Fluren feststellen auf Stufe 1-2 (Fachbau) | D28: =IF(AND(Planungsübersicht!$E78>1990,TYPE(Planungsübersicht!$E78)=1),Planungsübersicht!E78," ") -> 2020 | E28: =IF(AND(Planungsübersicht!$E78>1990,TYPE(Planungsübersicht!$E78)=1),Planungsübersicht!F78," ") -> umgesetzt | F28: =IF(AND(Planungsübersicht!$E78>1990,TYPE(Planungsübersicht!$E78)=1),Planungsübersicht!G78," ") -> Hausmeister | G28: =IF(AND(Planungsübersicht!$E78>1990,TYPE(Planungsübersicht!$E78)=1),Planungsübersicht!H78," ") -> Schulbau Hamburg | H28: =IF(AND(Planungsübersicht!$E78>1990,TYPE(Planungsübersicht!$E78)=1),MAX(Planungsübersicht!I78:Z78)," ") -> 0
B29: =IF(AND(Planungsübersicht!$E55>1990,TYPE(Planungsübersicht!$E55)=1),Planungsübersicht!C55," ") | C29: =IF(AND(Planungsübersicht!$E55>1990,TYPE(Planungsübersicht!$E55)=1),Planungsübersicht!D55," ") | D29: =IF(AND(Planungsübersicht!$E55>1990,TYPE(Planungsübersicht!$E55)=1),Planungsübersicht!E55," ") | E29: =IF(AND(Planungsübersicht!$E55>1990,TYPE(Planungsübersicht!$E55)=1),Planungsübersicht!F55," ") | F29: =IF(AND(Planungsübersicht!$E55>1990,TYPE(Planungsübersicht!$E55)=1),Planungsübersicht!G55," ") | G29: =IF(AND(Planungsübersicht!$E55>1990,TYPE(Planungsübersicht!$E55)=1),Planungsübersicht!H55," ") | H29: =IF(AND(Planungsübersicht!$E55>1990,TYPE(Planungsübersicht!$E55)=1),MAX(Planungsübersicht!I55:Z55)," ")
B30: =IF(AND(Planungsübersicht!#REF!>1990,TYPE(Planungsübersicht!#REF!)=1),Planungsübersicht!#REF!," ") -> #REF! | C30: =IF(AND(Planungsübersicht!#REF!>1990,TYPE(Planungsübersicht!#REF!)=1),Planungsübersicht!#REF!," ") -> #REF! | D30: =IF(AND(Planungsübersicht!#REF!>1990,TYPE(Planungsübersicht!#REF!)=1),Planungsübersicht!#REF!," ") -> #REF! | E30: =IF(AND(Planungsübersicht!#REF!>1990,TYPE(Planungsübersicht!#REF!)=1),Planungsübersicht!#REF!," ") -> #REF! | F30: Lotzin | G30: =IF(AND(Planungsübersicht!#REF!>1990,TYPE(Planungsübersicht!#REF!)=1),Planungsübersicht!#REF!," ") -> #REF! | H30: =IF(AND(Planungsübersicht!#REF!>1990,TYPE(Planungsübersicht!#REF!)=1),MAX(Planungsübersicht!#REF!)," ") -> #REF!
B31: =IF(AND(Planungsübersicht!$E56>1990,TYPE(Planungsübersicht!$E56)=1),Planungsübersicht!C56," ") | C31: =IF(AND(Planungsübersicht!$E56>1990,TYPE(Planungsübersicht!$E56)=1),Planungsübersicht!D56," ") | D31: =IF(AND(Planungsübersicht!$E56>1990,TYPE(Planungsübersicht!$E56)=1),Planungsübersicht!E56," ") | E31: =IF(AND(Planungsübersicht!$E56>1990,TYPE(Planungsübersicht!$E56)=1),Planungsübersicht!F56," ") | F31: =IF(AND(Planungsübersicht!$E56>1990,TYPE(Planungsübersicht!$E56)=1),Planungsübersicht!G56," ") | G31: =IF(AND(Planungsübersicht!$E56>1990,TYPE(Planungsübersicht!$E56)=1),Planungsübersicht!H56," ") | H31: =IF(AND(Planungsübersicht!$E56>1990,TYPE(Planungsübersicht!$E56)=1),MAX(Planungsübersicht!I56:Z56)," ")
B32: =IF(AND(Planungsübersicht!$E57>1990,TYPE(Planungsübersicht!$E57)=1),Planungsübersicht!C57," ") | C32: =IF(AND(Planungsübersicht!$E57>1990,TYPE(Planungsübersicht!$E57)=1),Planungsübersicht!D57," ") | D32: =IF(AND(Planungsübersicht!$E57>1990,TYPE(Planungsübersicht!$E57)=1),Planungsübersicht!E57," ") | E32: =IF(AND(Planungsübersicht!$E57>1990,TYPE(Planungsübersicht!$E57)=1),Planungsübersicht!F57," ") | F32: =IF(AND(Planungsübersicht!$E57>1990,TYPE(Planungsübersicht!$E57)=1),Planungsübersicht!G57," ") | G32: =IF(AND(Planungsübersicht!$E57>1990,TYPE(Planungsübersicht!$E57)=1),Planungsübersicht!H57," ") | H32: =IF(AND(Planungsübersicht!$E57>1990,TYPE(Planungsübersicht!$E57)=1),MAX(Planungsübersicht!I57:Z57)," ")
B33: =IF(AND(Planungsübersicht!$E58>1990,TYPE(Planungsübersicht!$E58)=1),Planungsübersicht!C58," ") | C33: =IF(AND(Planungsübersicht!$E58>1990,TYPE(Planungsübersicht!$E58)=1),Planungsübersicht!D58," ") | D33: =IF(AND(Planungsübersicht!$E58>1990,TYPE(Planungsübersicht!$E58)=1),Planungsübersicht!E58," ") | E33: =IF(AND(Planungsübersicht!$E58>1990,TYPE(Planungsübersicht!$E58)=1),Planungsübersicht!F58," ") | F33: =IF(AND(Planungsübersicht!$E58>1990,TYPE(Planungsübersicht!$E58)=1),Planungsübersicht!G58," ") | G33: =IF(AND(Planungsübersicht!$E58>1990,TYPE(Planungsübersicht!$E58)=1),Planungsübersicht!H58," ") | H33: =IF(AND(Planungsübersicht!$E58>1990,TYPE(Planungsübersicht!$E58)=1),MAX(Planungsübersicht!I58:Z58)," ")
B34: =IF(AND(Planungsübersicht!$E59>1990,TYPE(Planungsübersicht!$E59)=1),Planungsübersicht!C59," ") | C34: =IF(AND(Planungsübersicht!$E59>1990,TYPE(Planungsübersicht!$E59)=1),Planungsübersicht!D59," ") | D34: =IF(AND(Planungsübersicht!$E59>1990,TYPE(Planungsübersicht!$E59)=1),Planungsübersicht!E59," ") | E34: =IF(AND(Planungsübersicht!$E59>1990,TYPE(Planungsübersicht!$E59)=1),Planungsübersicht!F59," ") | F34: =IF(AND(Planungsübersicht!$E59>1990,TYPE(Planungsübersicht!$E59)=1),Planungsübersicht!G59," ") | G34: =IF(AND(Planungsübersicht!$E59>1990,TYPE(Planungsübersicht!$E59)=1),Planungsübersicht!H59," ") | H34: =IF(AND(Planungsübersicht!$E59>1990,TYPE(Planungsübersicht!$E59)=1),MAX(Planungsübersicht!I59:Z59)," ")
B35: =IF(AND(Planungsübersicht!#REF!>1990,TYPE(Planungsübersicht!#REF!)=1),Planungsübersicht!#REF!," ") -> #REF! | C35: =IF(AND(Planungsübersicht!#REF!>1990,TYPE(Planungsübersicht!#REF!)=1),Planungsübersicht!#REF!," ") -> #REF! | D35: =IF(AND(Planungsübersicht!#REF!>1990,TYPE(Planungsübersicht!#REF!)=1),Planungsübersicht!#REF!," ") -> #REF! | E35: =IF(AND(Planungsübersicht!#REF!>1990,TYPE(Planungsübersicht!#REF!)=1),Planungsübersicht!#REF!," ") -> #REF! | F35: =IF(AND(Planungsübersicht!#REF!>1990,TYPE(Planungsübersicht!#REF!)=1),Planungsübersicht!#REF!," ") -> #REF! | G35: =IF(AND(Planungsübersicht!#REF!>1990,TYPE(Planungsübersicht!#REF!)=1),Planungsübersicht!#REF!," ") -> #REF! | H35: =IF(AND(Planungsübersicht!#REF!>1990,TYPE(Planungsübersicht!#REF!)=1),MAX(Planungsübersicht!#REF!)," ") -> #REF!
B36: =IF(AND(Planungsübersicht!$E60>1990,TYPE(Planungsübersicht!$E60)=1),Planungsübersicht!C60," ") | C36: =IF(AND(Planungsübersicht!$E60>1990,TYPE(Planungsübersicht!$E60)=1),Planungsübersicht!D60," ") | D36: =IF(AND(Planungsübersicht!$E60>1990,TYPE(Planungsübersicht!$E60)=1),Planungsübersicht!E60," ") | E36: =IF(AND(Planungsübersicht!$E60>1990,TYPE(Planungsübersicht!$E60)=1),Planungsübersicht!F60," ") | F36: =IF(AND(Planungsübersicht!$E60>1990,TYPE(Planungsübersicht!$E60)=1),Planungsübersicht!G60," ") | G36: =IF(AND(Planungsübersicht!$E60>1990,TYPE(Planungsübersicht!$E60)=1),Planungsübersicht!H60," ") | H36: =IF(AND(Planungsübersicht!$E60>1990,TYPE(Planungsübersicht!$E60)=1),MAX(Planungsübersicht!I60:Z60)," ")
B37: =IF(AND(Planungsübersicht!$E61>1990,TYPE(Planungsübersicht!$E61)=1),Planungsübersicht!C61," ") | C37: =IF(AND(Planungsübersicht!$E61>1990,TYPE(Planungsübersicht!$E61)=1),Planungsübersicht!D61," ") | D37: =IF(AND(Planungsübersicht!$E61>1990,TYPE(Planungsübersicht!$E61)=1),Planungsübersicht!E61," ") | E37: =IF(AND(Planungsübersicht!$E61>1990,TYPE(Planungsübersicht!$E61)=1),Planungsübersicht!F61," ") | F37: =IF(AND(Planungsübersicht!$E61>1990,TYPE(Planungsübersicht!$E61)=1),Planungsübersicht!G61," ") | G37: =IF(AND(Planungsübersicht!$E61>1990,TYPE(Planungsübersicht!$E61)=1),Planungsübersicht!H61," ") | H37: =IF(AND(Planungsübersicht!$E61>1990,TYPE(Planungsübersicht!$E61)=1),MAX(Planungsübersicht!I61:Z61)," ")
B38: =IF(AND(Planungsübersicht!$E62>1990,TYPE(Planungsübersicht!$E62)=1),Planungsübersicht!C62," ") | C38: =IF(AND(Planungsübersicht!$E62>1990,TYPE(Planungsübersicht!$E62)=1),Planungsübersicht!D62," ") | D38: =IF(AND(Planungsübersicht!$E62>1990,TYPE(Planungsübersicht!$E62)=1),Planungsübersicht!E62," ") | E38: =IF(AND(Planungsübersicht!$E62>1990,TYPE(Planungsübersicht!$E62)=1),Planungsübersicht!F62," ") | F38: =IF(AND(Planungsübersicht!$E62>1990,TYPE(Planungsübersicht!$E62)=1),Planungsübersicht!G62," ") | G38: =IF(AND(Planungsübersicht!$E62>1990,TYPE(Planungsübersicht!$E62)=1),Planungsübersicht!H62," ") | H38: =IF(AND(Planungsübersicht!$E62>1990,TYPE(Planungsübersicht!$E62)=1),MAX(Planungsübersicht!I62:Z62)," ")
B39: =IF(AND(Planungsübersicht!$E63>1990,TYPE(Planungsübersicht!$E63)=1),Planungsübersicht!C63," ") | C39: =IF(AND(Planungsübersicht!$E63>1990,TYPE(Planungsübersicht!$E63)=1),Planungsübersicht!D63," ") | D39: =IF(AND(Planungsübersicht!$E63>1990,TYPE(Planungsübersicht!$E63)=1),Planungsübersicht!E63," ") | E39: =IF(AND(Planungsübersicht!$E63>1990,TYPE(Planungsübersicht!$E63)=1),Planungsübersicht!F63," ") | F39: =IF(AND(Planungsübersicht!$E63>1990,TYPE(Planungsübersicht!$E63)=1),Planungsübersicht!G63," ") | G39: =IF(AND(Planungsübersicht!$E63>1990,TYPE(Planungsübersicht!$E63)=1),Planungsübersicht!H63," ") | H39: =IF(AND(Planungsübersicht!$E63>1990,TYPE(Planungsübersicht!$E63)=1),MAX(Planungsübersicht!I63:Z63)," ")
B40: =IF(AND(Planungsübersicht!$E64>1990,TYPE(Planungsübersicht!$E64)=1),Planungsübersicht!C64," ") | C40: =IF(AND(Planungsübersicht!$E64>1990,TYPE(Planungsübersicht!$E64)=1),Planungsübersicht!D64," ") | D40: =IF(AND(Planungsübersicht!$E64>1990,TYPE(Planungsübersicht!$E64)=1),Planungsübersicht!E64," ") | E40: =IF(AND(Planungsübersicht!$E64>1990,TYPE(Planungsübersicht!$E64)=1),Planungsübersicht!F64," ") | F40: =IF(AND(Planungsübersicht!$E64>1990,TYPE(Planungsübersicht!$E64)=1),Planungsübersicht!G64," ") | G40: =IF(AND(Planungsübersicht!$E64>1990,TYPE(Planungsübersicht!$E64)=1),Planungsübersicht!H64," ") | H40: =IF(AND(Planungsübersicht!$E64>1990,TYPE(Planungsübersicht!$E64)=1),MAX(Planungsübersicht!I64:Z64)," ")
B41: =IF(AND(Planungsübersicht!$E65>1990,TYPE(Planungsübersicht!$E65)=1),Planungsübersicht!C65," ") | C41: =IF(AND(Planungsübersicht!$E65>1990,TYPE(Planungsübersicht!$E65)=1),Planungsübersicht!D65," ") | D41: =IF(AND(Planungsübersicht!$E65>1990,TYPE(Planungsübersicht!$E65)=1),Planungsübersicht!E65," ") | E41: =IF(AND(Planungsübersicht!$E65>1990,TYPE(Planungsübersicht!$E65)=1),Planungsübersicht!F65," ") | F41: =IF(AND(Planungsübersicht!$E65>1990,TYPE(Planungsübersicht!$E65)=1),Planungsübersicht!G65," ") | G41: =IF(AND(Planungsübersicht!$E65>1990,TYPE(Planungsübersicht!$E65)=1),Planungsübersicht!H65," ") | H41: =IF(AND(Planungsübersicht!$E65>1990,TYPE(Planungsübersicht!$E65)=1),MAX(Planungsübersicht!I65:Z65)," ")
...

Sheet Energieverbräuche
B2: Energieverbräuche
C3: Gebäudeteil | D3: =Planungsübersicht!G13 -> 2017 | E3: =D3+1 -> 2018 | F3: =E3+1 -> 2019 | G3: =F3+1 -> 2020 | H3: 2021 | I3: =H3+1 -> 2022 | J3: =I3+1 -> 2023 | K3: =J3+1 -> 2024 | L3: =K3+1 -> 2025 | M3: =L3+1 -> 2026 | N3: =M3+1 -> 2027 | O3: =N3+1 -> 2028 | P3: =O3+1 -> 2029 | ... AU3: =AT3+1 -> 2060
B5: Strom 1 | C5: Schule | D5: 45677 | E5: 57480 | F5: 85034 | G5: 79519.29 | H5: 82708 | I5: 99391.76 | J5: 94877.74 | K5: 99309 | L5: 100547
B6: Strom 2 | C6: Sporthalle
B7: Strom 3 | C7: Pavillon
C8: Summe Strom: | D8: =SUM(D5:D7) -> 45677 | E8: =SUM(E5:E7) -> 57480 | F8: =SUM(F5:F7) -> 85034 | G8: =SUM(G5:G7) -> 79519.29 | H8: =SUM(H5:H7) -> 82708 | I8: =SUM(I5:I7) -> 99391.76 | J8: =SUM(J5:J7) -> 94877.74 | K8: =SUM(K5:K7) -> 99309 | ... AU8: =SUM(AU5:AU7) -> 0
B10: Gasheizung 1 | C10: Schule | D10: 75460 | E10: 66838 | F10: =879910/11 -> 79991.818 | G10: 1013021
B11: Gasheizung 2 | C11: Sporthalle
B12: Gasheizung 3 | C12: Küche, Verwaltung | D12: 11357 | E12: 8491
B14: Fernwärmeheizung 1 | C14: Schule
B15: Fernwärmeheizung 2 | C15: Sporthalle
B16: Fernwärmeheizung 3 | C16: Pavillon
C17: Summe Heizenergie: | D17: =(D10+D11+D12)*11+(D14+D15+D16)*1000 -> 954987 | E17: =(E10+E11+E12)*11+(E14+E15+E16)*1000 -> 828619 | F17: =(F10+F11+F12)*11+(F14+F15+F16)*1000 -> 879910 | G17: 1013021 | H17: 1034086 | I17: 857382 | J17: 813156 | K17: 792732 | L17: 781443 | M17: =(M10+M11+M12)*11+(M14+M15+M16)*1000 -> 0 | N17: =(N10+N11+N12)*11+(N14+N15+N16)*1000 -> 0 | O17: =(O10+O11+O12)*11+(O14+O15+O16)*1000 -> 0 | P17: =(P10+P11+P12)*11+(P14+P15+P16)*1000 -> 0 | Q17: =(Q10+Q11+Q12)*11+(Q14+Q15+Q16)*1000 -> 0 | R17: =(R10+R11+R12)*11+(R14+R15+R16)*1000 -> 0 | S17: =(S10+S11+S12)*11+(S14+S15+S16)*1000 -> 0 | T17: =(T10+T11+T12)*11+(T14+T15+T16)*1000 -> 0 | ... AU17: =(AU10+AU11+AU12)*11+(AU14+AU15+AU16)*1000 -> 0
B19: PV-Anlage 1 | C19: auf H-Gebäude
B20: PV-Anlage 2 | C20: auf Sporthalle
B21: PV-Anlage 3
C22: Summe PV-Anlagen: | D22: =SUM(D19:D21) -> 0 | E22: =SUM(E19:E21) -> 0 | F22: =SUM(F19:F21) -> 0 | G22: =SUM(G19:G21) -> 0 | H22: =SUM(H19:H21) -> 0 | I22: =SUM(I19:I21) -> 0 | J22: =SUM(J19:J21) -> 0 | K22: =SUM(K19:K21) -> 0 | ... AU22: =SUM(AU19:AU21) -> 0
B24: Restmüll Standort 1 | C24: Schule | D24: 103 | E24: 98 | F24: 98 | G24: 105.6 | H24: 158 | I24: 158.4 | J24: 158.4 | K24: 158 | L24: 158
B25: Restmüll Standort 2
B26: Restmüll Standort 3
C27: Summe Restmüll: | D27: =SUM(D24:D26) -> 103 | E27: =SUM(E24:E26) -> 98 | F27: =SUM(F24:F26) -> 98 | G27: =SUM(G24:G26) -> 105.6 | H27: =SUM(H24:H26) -> 158 | I27: 158,40 m³ | J27: 158,40 m³ | K27: =SUM(K24:K26) -> 158 | L27: =SUM(L24:L26) -> 158 | M27: =SUM(M24:M26) -> 0 | N27: =SUM(N24:N26) -> 0 | O27: =SUM(O24:O26) -> 0 | P27: =SUM(P24:P26) -> 0 | Q27: =SUM(Q24:Q26) -> 0 | R27: =SUM(R24:R26) -> 0 | ... AU27: =SUM(AU24:AU26) -> 0

Sheet CO2-Schulbilanz
D2: CO2-Schulbilanz: | E2: =Planungsübersicht!D4 -> Schule Alsterredder | G2: bis 2030 | H2: 2031 bis 2050
F4: geplante jährliche Minderung: | G4: =1-(1-Planungsübersicht!G11)^(1/(2030-Planungsübersicht!G13)) -> 0.038532272 | H4: =1-((1-Planungsübersicht!G12)/(1-G4)^(2030-E6))^(1/20) -> 0.053449177
E6: =+Energieverbräuche!D3 -> 2017 | F6: =+Energieverbräuche!E3 -> 2018 | G6: =+Energieverbräuche!F3 -> 2019 | H6: =+Energieverbräuche!G3 -> 2020 | I6: =+Energieverbräuche!H3 -> 2021 | J6: =+Energieverbräuche!I3 -> 2022 | K6: =+Energieverbräuche!J3 -> 2023 | L6: =+Energieverbräuche!K3 -> 2024 | ... AV6: =+Energieverbräuche!AU3 -> 2060
D7: Emissions-Ziel | E7: =E8 -> 250423.47 | F7: =E7*(1-$G$4) -> 240774.09 | G7: =F7*(1-$G$4) -> 231496.52 | H7: =G7*(1-$G$4) -> 222576.43 | I7: =H7*(1-$G$4) -> 214000.05 | J7: =I7*(1-$G$4) -> 205754.15 | K7: =J7*(1-$G$4) -> 197825.97 | L7: =K7*(1-$G$4) -> 190203.29 | M7: =L7*(1-$G$4) -> 182874.32 | ... R7: =Q7*(1-$G$4) -> 150254.09 | S7: =R7*(1-$H$4) -> 142223.13 | T7: =S7*(1-$H$4) -> 134621.42 | U7: =T7*(1-$H$4) -> 127426.01 | V7: =U7*(1-$H$4) -> 120615.2 | W7: =V7*(1-$H$4) -> 114168.42 | X7: =W7*(1-$H$4) -> 108066.21 | Y7: =X7*(1-$H$4) -> 102290.16 | Z7: =Y7*(1-$H$4) -> 96822.833 | ... AV7: =AU7*(1-$H$4) -> 28916.412
D8: reale Emission | E8: =E15 -> 250423.47 | F8: =F15 -> 233265.5 | G8: =G15 -> 257286.74 | H8: =H15 -> 279257.6 | I8: =I15 -> 289507.02 | J8: =J15 -> 252019.33 | K8: =K15 -> 241564.23 | L8: =L15 -> 211428.92 | ... AV8: =AV15 -> 0
D10: geplante Reduktion gegenüber Vorjahr: | F10: =F7-E7 -> -9649.3855 | G10: =G7-F7 -> -9277.5727 | H10: =H7-G7 -> -8920.0868 | I10: =I7-H7 -> -8576.3755 | J10: =J7-I7 -> -8245.9083 | K10: =K7-J7 -> -7928.1747 | L10: =L7-K7 -> -7622.6841 | M10: =M7-L7 -> -7328.9648 | ... AV10: =AV7-AU7 -> -1632.832
D11: reale Reduktion gegenüber Vorjahr: | F11: =IF(F8=0,"",F8-E8) -> -17157.977 | G11: =IF(G8=0,"",G8-F8) -> 24021.244 | H11: =IF(H8=0,"",H8-G8) -> 21970.862 | I11: =IF(I8=0,"",I8-H8) -> 10249.412 | J11: =IF(J8=0,"",J8-I8) -> -37487.684 | K11: =IF(K8=0,"",K8-J8) -> -10455.105 | L11: =IF(L8=0,"",L8-K8) -> -30135.306 | M11: =IF(M8=0,"",M8-L8) -> -1394.744 | ... AV11: =IF(AV8=0,"",AV8-AU8)
D12: geplanten Reduktion gegenüber Anfangsjahr: | F12: =F7-$E7 -> -9649.3855 | G12: =G7-$E7 -> -18926.958 | H12: =H7-$E7 -> -27847.045 | I12: =I7-$E7 -> -36423.42 | J12: =J7-$E7 -> -44669.329 | K12: =K7-$E7 -> -52597.504 | L12: =L7-$E7 -> -60220.188 | M12: =M7-$E7 -> -67549.152 | ... AV12: =AV7-$E7 -> -221507.06
D13: reale Reduktion gegenüber Anfangsjahr: | F13: =IF(F8=0,"",F8-$E8) -> -17157.977 | G13: =IF(G8=0,"",G8-$E8) -> 6863.267 | H13: =IF(H8=0,"",H8-$E8) -> 28834.129 | I13: =IF(I8=0,"",I8-$E8) -> 39083.541 | J13: =IF(J8=0,"",J8-$E8) -> 1595.8571 | K13: =IF(K8=0,"",K8-$E8) -> -8859.2476 | L13: =IF(L8=0,"",L8-$E8) -> -38994.554 | M13: =IF(M8=0,"",M8-$E8) -> -40389.298 | ... AV13: =IF(AV8=0,"",AV8-$E8)
B15: Summe CO2-Emissionen: | E15: =IF(SUM(E17:E26)=0,"",SUM(E17:E26)) -> 250423.47 | F15: =SUM(F17:F26) -> 233265.5 | G15: =SUM(G17:G26) -> 257286.74 | H15: =SUM(H17:H26) -> 279257.6 | I15: =SUM(I17:I26) -> 289507.02 | J15: =SUM(J17:J26) -> 252019.33 | K15: =SUM(K17:K26) -> 241564.23 | L15: =SUM(L17:L26) -> 211428.92 | M15: =SUM(M17:M26) -> 210034.18 | ... AV15: =SUM(AV17:AV26) -> 0
D16: Umrechnungsfaktor
B17: 1 | C17: Strom | D17: 0.533 | E17: =+Energieverbräuche!D8*E27 -> 24345.841 | F17: =+Energieverbräuche!E8*F27 -> 30636.84 | G17: =+Energieverbräuche!F8*G27 -> 45323.122 | H17: =+Energieverbräuche!G8*H27 -> 42383.782 | I17: =+Energieverbräuche!H8*I27 -> 44083.364 | J17: =+Energieverbräuche!I8*J27 -> 52975.808 | K17: =+Energieverbräuche!J8*K27 -> 50569.835 | L17: =+Energieverbräuche!K8*L27 -> 52931.697 | ... AV17: =+Energieverbräuche!AU8*AV27 -> 0
B18: 2 | C18: Heizenergie | D18: 0.182 | E18: =+Energieverbräuche!D17*E$28 -> 173807.63 | F18: =+Energieverbräuche!E17*F$28 -> 150808.66 | G18: =+Energieverbräuche!F17*G$28 -> 160143.62 | H18: =+Energieverbräuche!G17*H$28 -> 184369.82 | I18: =+Energieverbräuche!H17*I$28 -> 188203.65 | J18: =+Energieverbräuche!I17*J$28 -> 156043.52 | K18: =+Energieverbräuche!J17*K$28 -> 147994.39 | L18: =+Energieverbräuche!K17*L$28 -> 144277.22 | ... AV18: =+Energieverbräuche!AU17*AV$28 -> 0
B19: 3 | C19: PV-Anlage | D19: =D17 -> 0.533 | E19: =(+Energieverbräuche!D22*$D$19)*(-1) -> 0 | F19: =(+Energieverbräuche!E22*$D$19)*(-1) -> 0 | G19: =(+Energieverbräuche!F22*$D$19)*(-1) -> 0 | H19: =(+Energieverbräuche!G22*$D$19)*(-1) -> 0 | I19: =(+Energieverbräuche!H22*$D$19)*(-1) -> 0 | J19: =(+Energieverbräuche!I22*$D$19)*(-1) -> 0 | K19: =(+Energieverbräuche!J22*$D$19)*(-1) -> 0 | L19: =(+Energieverbräuche!K22*$D$19)*(-1) -> 0 | ... AV19: =(+Energieverbräuche!AU22*$D$19)*(-1) -> 0
B20: 4 | C20: Solarthermie | D20: =D18 -> 0.182
B21: 5 | C21: Mobilität
B22: 6 | C22: Abfall | D22: 90 | E22: =$D$22*Energieverbräuche!D27 -> 9270 | F22: =$D$22*Energieverbräuche!E27 -> 8820 | G22: =$D$22*Energieverbräuche!F27 -> 8820 | H22: =$D$22*Energieverbräuche!G27 -> 9504 | I22: =$D$22*Energieverbräuche!H27 -> 14220 | J22: 158,40 m³ | K22: 158,40 m³ | L22: =$D$22*Energieverbräuche!K27 -> 14220 | M22: =$D$22*Energieverbräuche!L27 -> 14220 | N22: =$D$22*Energieverbräuche!M27 -> 0 | O22: =$D$22*Energieverbräuche!N27 -> 0 | P22: =$D$22*Energieverbräuche!O27 -> 0 | Q22: =$D$22*Energieverbräuche!P27 -> 0 | R22: =$D$22*Energieverbräuche!Q27 -> 0 | S22: =$D$22*Energieverbräuche!R27 -> 0 | ... AV22: =$D$22*Energieverbräuche!AU27 -> 0
B23: 7 | D23: 0,6-2,4 kg/Packung (500 Blatt)
B24: 8 | C24: Ernährung | D24: 0,25 (Veg.) - 0,5 kg/Mensaessen | E24: 43000 | F24: 43000 | G24: 43000 | H24: 43000 | I24: 43000 | J24: 43000 | K24: 43000
B25: 9
B26: 10
C27: Anpassung Emissionsfaktor Strom | E27: =D17 -> 0.533 | F27: =E27 -> 0.533 | G27: =F27 -> 0.533 | H27: =G27 -> 0.533 | I27: =H27 -> 0.533 | J27: =I27 -> 0.533 | K27: =J27 -> 0.533 | L27: =K27 -> 0.533 | M27: =L27 -> 0.533 | ... AV27: =AU27 -> 0.533
C28: Anpassung Emissionsfaktor Wärme | E28: =D18 -> 0.182 | F28: =E28 -> 0.182 | G28: =F28 -> 0.182 | H28: =G28 -> 0.182 | I28: =H28 -> 0.182 | J28: =I28 -> 0.182 | K28: =J28 -> 0.182 | L28: =K28 -> 0.182 | M28: =L28 -> 0.182 | ... AV28: =AU28 -> 0.182

Sheet Erfolge
C2: ab | D2: ab | E2: ab | F2: ab | G2: ab | H2: ab | I2: ab | J2: ab | K2: ab | L2: ab | M2: ab | N2: ab | O2: ab | P2: ab | Q2: ab | R2: ab | S2: ab | T2: ab
C3: =Planungsübersicht!I9 -> 2017 | D3: =Planungsübersicht!J9 -> 2020 | E3: =Planungsübersicht!K9 -> 2020 | F3: =Planungsübersicht!L9 -> 2022 | G3: =Planungsübersicht!M9 -> 2024 | H3: =Planungsübersicht!N9 -> 2026 | I3: =Planungsübersicht!O9 -> 2028 | J3: =Planungsübersicht!P9 -> 2030 | ... T3: =Planungsübersicht!Z9 -> 2050
B4: CO2-Einsparungen durch Maßnahmen: | C4: =-Planungsübersicht!I17 -> 150 | D4: =-Planungsübersicht!J17 -> 150 | E4: =-Planungsübersicht!K17 -> 12900 | F4: =-Planungsübersicht!L17 -> 58600 | G4: =-Planungsübersicht!M17 -> 68300 | H4: =-Planungsübersicht!N17 -> 80000 | I4: =-Planungsübersicht!O17 -> 80000 | J4: =-Planungsübersicht!P17 -> 80000 | ... T4: =-Planungsübersicht!Z17 -> 80000
B6: Jahr: | C6: ='CO2-Schulbilanz'!E6 -> 2017 | D6: ='CO2-Schulbilanz'!F6 -> 2018 | E6: ='CO2-Schulbilanz'!G6 -> 2019 | F6: ='CO2-Schulbilanz'!H6 -> 2020 | G6: ='CO2-Schulbilanz'!I6 -> 2021 | H6: ='CO2-Schulbilanz'!J6 -> 2022 | I6: ='CO2-Schulbilanz'!K6 -> 2023 | J6: ='CO2-Schulbilanz'!L6 -> 2024 | ... AT6: ='CO2-Schulbilanz'!AV6 -> 2060
B7: echte Emissionen (aus CO2-Schulbilanz): | C7: =IF('CO2-Schulbilanz'!E8>0, 'CO2-Schulbilanz'!E8,#N/A) -> 250423.47 | D7: =IF('CO2-Schulbilanz'!F8>0, 'CO2-Schulbilanz'!F8,#N/A) -> 233265.5 | E7: =IF('CO2-Schulbilanz'!G8>0, 'CO2-Schulbilanz'!G8,#N/A) -> 257286.74 | F7: =IF('CO2-Schulbilanz'!H8>0, 'CO2-Schulbilanz'!H8,#N/A) -> 279257.6 | G7: =IF('CO2-Schulbilanz'!I8>0, 'CO2-Schulbilanz'!I8,#N/A) -> 289507.02 | H7: =IF('CO2-Schulbilanz'!J8>0, 'CO2-Schulbilanz'!J8,#N/A) -> 252019.33 | I7: =IF('CO2-Schulbilanz'!K8>0, 'CO2-Schulbilanz'!K8,#N/A) -> 241564.23 | J7: =IF('CO2-Schulbilanz'!L8>0, 'CO2-Schulbilanz'!L8,#N/A) -> 211428.92 | ... AT7: =IF('CO2-Schulbilanz'!AV8>0, 'CO2-Schulbilanz'!AV8,#N/A) -> #N/A
B8: Maßnahmen (aus Planungsübersicht): | C8: =IF(C6>=$E3, $E4,IF(C6>=$D3,$D4,IF(C6>=$C3,$C4,0))) -> 150 | D8: =IF(D6>=$E3, $E4,IF(D6>=$D3,$D4,IF(D6>=$C3,$C4,0))) -> 150 | E8: =IF(E6>=$E3, $E4,IF(E6>=$D3,$D4,IF(E6>=$C3,$C4,0))) -> 150 | F8: =IF(F6>=$E3, $E4,IF(F6>=$D3,$D4,IF(F6>=$C3,$C4,0))) -> 12900 | G8: =IF(G6>=$E3, $E4,IF(G6>=$D3,$D4,IF(G6>=$C3,$C4,0))) -> 12900 | H8: =IF(H6>=$E3, $E4,IF(H6>=$D3,$D4,IF(H6>=$C3,$C4,0))) -> 12900 | I8: =IF(I6>=$E3, $E4,IF(I6>=$D3,$D4,IF(I6>=$C3,$C4,0))) -> 12900 | J8: =IF(J6>=$E3, $E4,IF(J6>=$D3,$D4,IF(J6>=$C3,$C4,0))) -> 12900 | ... O8: =IF(O6>=$E3, $E4,IF(O6>=$D3,$D4,IF(O6>=$C3,$C4,0))) -> 12900 | P8: =IF(Q6>=E3, E4,IF(Q6>=D3,D4,IF(Q6>=C3,C4,0))) -> 12900 | Q8: =HLOOKUP(ODD(Q6)-1,$E$3:$T$4,2) -> 80000 | R8: =HLOOKUP(ODD(R6)-1,$E$3:$T$4,2) -> 80000 | S8: =HLOOKUP(ODD(S6)-1,$E$3:$T$4,2) -> 80000 | T8: =HLOOKUP(ODD(T6)-1,$E$3:$T$4,2) -> 80000 | U8: =HLOOKUP(ODD(U6)-1,$E$3:$T$4,2) -> 80000 | V8: =HLOOKUP(ODD(V6)-1,$E$3:$T$4,2) -> 80000 | W8: =HLOOKUP(ODD(W6)-1,$E$3:$T$4,2) -> 80000 | X8: =HLOOKUP(ODD(X6)-1,$E$3:$T$4,2) -> 80000 | ... AT8: =HLOOKUP(ODD(AT6)-1,$E$3:$T$4,2) -> 80000
B9: geschätzte Emissionen ohne Maßnahmen: | C9: =IF(C7,C7+C8,0) -> 250573.47 | D9: =IF(D7,D7+D8,0) -> 233415.5 | E9: =IF(E7,E7+E8,0) -> 257436.74 | F9: =IF(F7,F7+F8,0) -> 292157.6 | G9: =IF(G7,G7+G8,0) -> 302407.02 | H9: =IF(H7,H7+H8,0) -> 264919.33 | I9: =IF(I7,I7+I8,0) -> 254464.23 | J9: =IF(J7,J7+J8,0) -> 224328.92 | ... AT9: =IF(AT7,AT7+AT8,0) -> #N/A

Sheet Bilanz_pro_h_pro_m²
B29: Faktor | C29: Datenermittlung aus | D29: =Energieverbräuche!D3 -> 2017 | E29: =Energieverbräuche!E3 -> 2018 | F29: =Energieverbräuche!F3 -> 2019 | G29: =Energieverbräuche!G3 -> 2020 | H29: =Energieverbräuche!H3 -> 2021 | I29: =Energieverbräuche!I3 -> 2022 | J29: =Energieverbräuche!J3 -> 2023 | K29: =Energieverbräuche!K3 -> 2024 | ... AU29: =Energieverbräuche!AU3 -> 2060
B30: Heizenergie
B31: CO2 [kg] Heizenergie real | D31: ='CO2-Schulbilanz'!E18 -> 173807.63 | E31: ='CO2-Schulbilanz'!F18 -> 150808.66 | F31: ='CO2-Schulbilanz'!G18 -> 160143.62 | G31: ='CO2-Schulbilanz'!H18 -> 184369.82 | H31: ='CO2-Schulbilanz'!I18 -> 188203.65 | I31: ='CO2-Schulbilanz'!J18 -> 156043.52 | J31: ='CO2-Schulbilanz'!K18 -> 147994.39 | K31: ='CO2-Schulbilanz'!L18 -> 144277.22 | ... AU31: ='CO2-Schulbilanz'!AV18 -> 0
A32: s | B32: Witterungsfaktor in % | C32: fifty/fifty-Prämienabrechnung | D32: =HLOOKUP(D29,$D$53:$AU$54,2,0) -> 100 | E32: =HLOOKUP(E29,$D$53:$AU$54,2,0) -> 100 | F32: =HLOOKUP(F29,$D$53:$AU$54,2,0) -> 100 | G32: =HLOOKUP(G29,$D$53:$AU$54,2,0) -> 100 | H32: =HLOOKUP(H29,$D$53:$AU$54,2,0) -> 100 | I32: =HLOOKUP(I29,$D$53:$AU$54,2,0) -> 100 | J32: =HLOOKUP(J29,$D$53:$AU$54,2,0) -> 100 | K32: =HLOOKUP(K29,$D$53:$AU$54,2,0) -> 100 | L32: =HLOOKUP(L29,$D$53:$AU$54,2,0) -> 100 | M32: 90.7 | N32: =HLOOKUP(N29,$D$53:$AU$54,2,0) -> 100 | O32: =HLOOKUP(O29,$D$53:$AU$54,2,0) -> 100 | P32: =HLOOKUP(P29,$D$53:$AU$54,2,0) -> 100 | Q32: =HLOOKUP(Q29,$D$53:$AU$54,2,0) -> 100 | R32: =HLOOKUP(R29,$D$53:$AU$54,2,0) -> 100 | S32: =HLOOKUP(S29,$D$53:$AU$54,2,0) -> 100 | T32: =HLOOKUP(T29,$D$53:$AU$54,2,0) -> 100 | U32: =HLOOKUP(U29,$D$53:$AU$54,2,0) -> 100 | ... AU32: =HLOOKUP(AU29,$D$53:$AU$54,2,0) -> #N/A
B33: CO2 [kg] Heizenergie witterungsb. | D33: =D31/D32*100 -> 173807.63 | E33: =E31/E32*100 -> 150808.66 | F33: =F31/F32*100 -> 160143.62 | G33: =G31/G32*100 -> 184369.82 | H33: =H31/H32*100 -> 188203.65 | I33: =I31/I32*100 -> 156043.52 | J33: =J31/J32*100 -> 147994.39 | K33: =K31/K32*100 -> 144277.22 | ... AU33: =AU31/AU32*100 -> #N/A
B35: Heizstunden pro Jahr (20 Wochen) | D35: =D43*20 -> 800 | E35: =E43*20 -> 800 | F35: =F43*20 -> 800 | G35: =G43*20 -> 800 | H35: =H43*20 -> 800 | I35: =I43*20 -> 800 | J35: =J43*20 -> 800 | K35: =K43*20 -> 800 | ... AU35: =AU43*20 -> 800
B37: CO2 [kg pro Stunde] | D37: =D33/D35 -> 217.25954 | E37: =E33/E35 -> 188.51082 | F37: =F33/F35 -> 200.17952 | G37: =G33/G35 -> 230.46228 | H37: =H33/H35 -> 235.25457 | I37: =I33/I35 -> 195.05441 | J37: =J33/J35 -> 184.99299 | K37: =K33/K35 -> 180.34653 | ... AU37: =AU33/AU35 -> #N/A
B39: Wärme: CO2 [g pro m² und Std.] | D39: =D37/D48*1000 -> 43.451908 | E39: =E37/E48*1000 -> 37.702164 | F39: =F37/F48*1000 -> 40.035905 | G39: =G37/G48*1000 -> 46.092455 | H39: =H37/H48*1000 -> 47.050913 | I39: =I37/I48*1000 -> 39.010881 | J39: =J37/J48*1000 -> 36.998598 | K39: =K37/K48*1000 -> 36.069306 | ... AU39: =AU37/AU48*1000 -> #N/A
B41: Strom
B42: CO2 [kg] durch Strom | D42: ='CO2-Schulbilanz'!E17 -> 24345.841 | E42: ='CO2-Schulbilanz'!F17 -> 30636.84 | F42: ='CO2-Schulbilanz'!G17 -> 45323.122 | G42: ='CO2-Schulbilanz'!H17 -> 42383.782 | H42: ='CO2-Schulbilanz'!I17 -> 44083.364 | I42: ='CO2-Schulbilanz'!J17 -> 52975.808 | J42: ='CO2-Schulbilanz'!K17 -> 50569.835 | K42: ='CO2-Schulbilanz'!L17 -> 52931.697 | ... AU42: ='CO2-Schulbilanz'!AV17 -> 0
